BEGIN:VCALENDAR
VERSION:2.0
PRODID:-//ADETCA - ECPv6.15.20//NONSGML v1.0//EN
CALSCALE:GREGORIAN
METHOD:PUBLISH
X-WR-CALNAME:ADETCA
X-ORIGINAL-URL:https://www.adetca.cat
X-WR-CALDESC:Esdeveniments per ADETCA
REFRESH-INTERVAL;VALUE=DURATION:PT1H
X-Robots-Tag:noindex
X-PUBLISHED-TTL:PT1H
BEGIN:VTIMEZONE
TZID:UTC
BEGIN:STANDARD
TZOFFSETFROM:+0000
TZOFFSETTO:+0000
TZNAME:UTC
DTSTART:20250101T000000
END:STANDARD
END:VTIMEZONE
BEGIN:VEVENT
DTSTART;TZID=UTC:20260422T190000
DTEND;TZID=UTC:20260422T190000
DTSTAMP:20260422T015708
CREATED:20250623T080026Z
LAST-MODIFIED:20250623T080026Z
UID:20736-1776884400-1776884400@www.adetca.cat
SUMMARY:Èdip & Antígona
DESCRIPTION:Bernat Fornells – Bfornells@tnc.cat
URL:https://www.adetca.cat/agenda-event/edip-antigona/
CATEGORIES:EST
END:VEVENT
BEGIN:VEVENT
DTSTART;TZID=UTC:20260422T193000
DTEND;TZID=UTC:20260422T193000
DTSTAMP:20260422T015708
CREATED:20260114T102743Z
LAST-MODIFIED:20260114T102743Z
UID:23157-1776886200-1776886200@www.adetca.cat
SUMMARY:NOU
DESCRIPTION:Marta Cros comunicacio@daualsecartsesceniques.cat
URL:https://www.adetca.cat/agenda-event/nou/
CATEGORIES:EST
END:VEVENT
BEGIN:VEVENT
DTSTART;TZID=UTC:20260422T200000
DTEND;TZID=UTC:20260422T200000
DTSTAMP:20260422T015708
CREATED:20260323T160735Z
LAST-MODIFIED:20260323T160735Z
UID:23814-1776888000-1776888000@www.adetca.cat
SUMMARY:Un paradís a la frontera
DESCRIPTION:Ana Candela premsa@tantarantana.com
URL:https://www.adetca.cat/agenda-event/un-paradis-a-la-frontera/
CATEGORIES:EST
END:VEVENT
END:VCALENDAR