BEGIN:VCALENDAR
VERSION:2.0
PRODID:-//ADETCA - ECPv6.15.20//NONSGML v1.0//EN
CALSCALE:GREGORIAN
METHOD:PUBLISH
X-WR-CALNAME:ADETCA
X-ORIGINAL-URL:https://www.adetca.cat
X-WR-CALDESC:Esdeveniments per ADETCA
REFRESH-INTERVAL;VALUE=DURATION:PT1H
X-Robots-Tag:noindex
X-PUBLISHED-TTL:PT1H
BEGIN:VTIMEZONE
TZID:UTC
BEGIN:STANDARD
TZOFFSETFROM:+0000
TZOFFSETTO:+0000
TZNAME:UTC
DTSTART:20190101T000000
END:STANDARD
END:VTIMEZONE
BEGIN:VEVENT
DTSTART;TZID=UTC:20200221T123000
DTEND;TZID=UTC:20200221T133000
DTSTAMP:20260424T072042
CREATED:20200824T144946Z
LAST-MODIFIED:20200824T144946Z
UID:3268-1582288200-1582291800@www.adetca.cat
SUMMARY:A Chorus Line
DESCRIPTION:TEATRE TIVOLI\nPDG A Chorus Line
URL:https://www.adetca.cat/agenda-event/a-chorus-line-2/
CATEGORIES:PDG
END:VEVENT
BEGIN:VEVENT
DTSTART;TZID=UTC:20200225T113000
DTEND;TZID=UTC:20200225T123000
DTSTAMP:20260424T072042
CREATED:20200824T145024Z
LAST-MODIFIED:20200824T145024Z
UID:3271-1582630200-1582633800@www.adetca.cat
SUMMARY:Alícia al país de les meravelles
DESCRIPTION:TEATRE ROMEA\nPdG. Alícia al país de les meravelles
URL:https://www.adetca.cat/agenda-event/alicia-al-pais-de-les-meravelles/
CATEGORIES:PDG
END:VEVENT
BEGIN:VEVENT
DTSTART;TZID=UTC:20200226T123000
DTEND;TZID=UTC:20200226T133000
DTSTAMP:20260424T072042
CREATED:20200824T145024Z
LAST-MODIFIED:20200824T145024Z
UID:3273-1582720200-1582723800@www.adetca.cat
SUMMARY:Kórps
DESCRIPTION:SALA HIROSHIMA\nPdg. Kórps \n*haizeagestiocultural@gmail.com Haizea Arrizabalaga
URL:https://www.adetca.cat/agenda-event/korps/
CATEGORIES:PDG
END:VEVENT
END:VCALENDAR