BEGIN:VCALENDAR
VERSION:2.0
PRODID:-//ADETCA - ECPv6.15.20//NONSGML v1.0//EN
CALSCALE:GREGORIAN
METHOD:PUBLISH
X-WR-CALNAME:ADETCA
X-ORIGINAL-URL:https://www.adetca.cat
X-WR-CALDESC:Esdeveniments per ADETCA
REFRESH-INTERVAL;VALUE=DURATION:PT1H
X-Robots-Tag:noindex
X-PUBLISHED-TTL:PT1H
BEGIN:VTIMEZONE
TZID:UTC
BEGIN:STANDARD
TZOFFSETFROM:+0000
TZOFFSETTO:+0000
TZNAME:UTC
DTSTART:20190101T000000
END:STANDARD
END:VTIMEZONE
BEGIN:VEVENT
DTSTART;TZID=UTC:20200917T160000
DTEND;TZID=UTC:20200917T180000
DTSTAMP:20260424T020204
CREATED:20200902T084239Z
LAST-MODIFIED:20200907T144833Z
UID:3758-1600358400-1600365600@www.adetca.cat
SUMMARY:Pegados El Musical
DESCRIPTION:TEATRE GOYA \nPDG + ENTREVISTES \nmgall@comedianet.com
URL:https://www.adetca.cat/agenda-event/pegados-el-musical/
CATEGORIES:PDG
END:VEVENT
END:VCALENDAR