BEGIN:VCALENDAR
VERSION:2.0
PRODID:-//ADETCA - ECPv6.15.20//NONSGML v1.0//EN
CALSCALE:GREGORIAN
METHOD:PUBLISH
X-WR-CALNAME:ADETCA
X-ORIGINAL-URL:https://www.adetca.cat
X-WR-CALDESC:Esdeveniments per ADETCA
REFRESH-INTERVAL;VALUE=DURATION:PT1H
X-Robots-Tag:noindex
X-PUBLISHED-TTL:PT1H
BEGIN:VTIMEZONE
TZID:UTC
BEGIN:STANDARD
TZOFFSETFROM:+0000
TZOFFSETTO:+0000
TZNAME:UTC
DTSTART:20200101T000000
END:STANDARD
END:VTIMEZONE
BEGIN:VEVENT
DTSTART;TZID=UTC:20210108T110000
DTEND;TZID=UTC:20210108T110000
DTSTAMP:20260423T195050
CREATED:20201201T163311Z
LAST-MODIFIED:20201211T162002Z
UID:5408-1610103600-1610103600@www.adetca.cat
SUMMARY:L'èxit de la temporada
DESCRIPTION:mpermanyer@comedianet.net
URL:https://www.adetca.cat/agenda-event/lexit-de-la-temporada/
CATEGORIES:PDG,RDP
END:VEVENT
BEGIN:VEVENT
DTSTART;TZID=UTC:20210117T110000
DTEND;TZID=UTC:20210117T120000
DTSTAMP:20260423T195050
CREATED:20200826T150715Z
LAST-MODIFIED:20201228T091537Z
UID:3572-1610881200-1610884800@www.adetca.cat
SUMMARY:Centre d'Art
DESCRIPTION:GRAN TEATRE DEL LICEU\nPdg.CENTRE D’ART
URL:https://www.adetca.cat/agenda-event/centre-dart/
CATEGORIES:PDG
END:VEVENT
BEGIN:VEVENT
DTSTART;TZID=UTC:20210118T123000
DTEND;TZID=UTC:20210118T123000
DTSTAMP:20260423T195050
CREATED:20210111T085044Z
LAST-MODIFIED:20210111T095929Z
UID:5549-1610973000-1610973000@www.adetca.cat
SUMMARY:Angle mort
DESCRIPTION:Jofre Blesa \n\n\n<jofreblesa@salaversusglories.cat>
URL:https://www.adetca.cat/agenda-event/angle-mort/
CATEGORIES:PDG,RDP
END:VEVENT
END:VCALENDAR