BEGIN:VCALENDAR
VERSION:2.0
PRODID:-//ADETCA - ECPv6.15.20//NONSGML v1.0//EN
CALSCALE:GREGORIAN
METHOD:PUBLISH
X-WR-CALNAME:ADETCA
X-ORIGINAL-URL:https://www.adetca.cat
X-WR-CALDESC:Esdeveniments per ADETCA
REFRESH-INTERVAL;VALUE=DURATION:PT1H
X-Robots-Tag:noindex
X-PUBLISHED-TTL:PT1H
BEGIN:VTIMEZONE
TZID:UTC
BEGIN:STANDARD
TZOFFSETFROM:+0000
TZOFFSETTO:+0000
TZNAME:UTC
DTSTART:20200101T000000
END:STANDARD
END:VTIMEZONE
BEGIN:VEVENT
DTSTART;TZID=UTC:20210317T113000
DTEND;TZID=UTC:20210317T113000
DTSTAMP:20260423T105346
CREATED:20210302T112016Z
LAST-MODIFIED:20210304T093726Z
UID:6034-1615980600-1615980600@www.adetca.cat
SUMMARY:Teatre Apolo: Presentació temporada - Quién mató a Sherlock Holmes? El musical
DESCRIPTION:Manel Portomeñe \n \nwww.mpcmanagement.es \n\n\n\n\n\n\n\n\n\n\n\n\n93 274 47 98 | 605 85 16 21\n\n\n\n\n\n\n\n\n\n\n\nmanel@mpcmanagement.es 
URL:https://www.adetca.cat/agenda-event/quien-mato-a-sherlock-holmes-el-musical/
CATEGORIES:PDG,RDP
END:VEVENT
BEGIN:VEVENT
DTSTART;TZID=UTC:20210331T180000
DTEND;TZID=UTC:20210331T180000
DTSTAMP:20260423T105346
CREATED:20210319T151639Z
LAST-MODIFIED:20210319T151639Z
UID:6182-1617213600-1617213600@www.adetca.cat
SUMMARY:Pinocho el musical
DESCRIPTION:Sandra Araquistain saraquis@gmail.com \n607 22 15 30
URL:https://www.adetca.cat/agenda-event/pinocho-el-musical/
CATEGORIES:PDG
END:VEVENT
END:VCALENDAR