BEGIN:VCALENDAR
VERSION:2.0
PRODID:-//ADETCA - ECPv6.15.20//NONSGML v1.0//EN
CALSCALE:GREGORIAN
METHOD:PUBLISH
X-ORIGINAL-URL:https://www.adetca.cat
X-WR-CALDESC:Esdeveniments per ADETCA
REFRESH-INTERVAL;VALUE=DURATION:PT1H
X-Robots-Tag:noindex
X-PUBLISHED-TTL:PT1H
BEGIN:VTIMEZONE
TZID:UTC
BEGIN:STANDARD
TZOFFSETFROM:+0000
TZOFFSETTO:+0000
TZNAME:UTC
DTSTART:20200101T000000
END:STANDARD
END:VTIMEZONE
BEGIN:VEVENT
DTSTART;TZID=UTC:20210705T210000
DTEND;TZID=UTC:20210705T210000
DTSTAMP:20260423T054834
CREATED:20210618T145417Z
LAST-MODIFIED:20210618T145417Z
UID:7040-1625518800-1625518800@www.adetca.cat
SUMMARY:Sabor a Rumba
DESCRIPTION:Ignacio Fandiño nacho@gruposmedia.com
URL:https://www.adetca.cat/agenda-event/sabor-a-rumba/
CATEGORIES:PDG
END:VEVENT
BEGIN:VEVENT
DTSTART;TZID=UTC:20210706T173000
DTEND;TZID=UTC:20210706T173000
DTSTAMP:20260423T054834
CREATED:20210621T094053Z
LAST-MODIFIED:20210625T115514Z
UID:7051-1625592600-1625592600@www.adetca.cat
SUMMARY:Gran Reserva - Cia Rhum
DESCRIPTION:mpermanyer@comedianet.com \n650 19 09 59
URL:https://www.adetca.cat/agenda-event/gran-reserva-cia-rhum/
CATEGORIES:PDG
END:VEVENT
BEGIN:VEVENT
DTSTART;TZID=UTC:20210707T123000
DTEND;TZID=UTC:20210707T123000
DTSTAMP:20260423T054834
CREATED:20210701T091908Z
LAST-MODIFIED:20210701T091908Z
UID:7132-1625661000-1625661000@www.adetca.cat
SUMMARY:La Gavina
DESCRIPTION:alopez@publispec.com
URL:https://www.adetca.cat/agenda-event/la-gavina-3/
CATEGORIES:PDG
END:VEVENT
BEGIN:VEVENT
DTSTART;TZID=UTC:20210707T190000
DTEND;TZID=UTC:20210707T190000
DTSTAMP:20260423T054834
CREATED:20210704T182217Z
LAST-MODIFIED:20210704T182217Z
UID:7143-1625684400-1625684400@www.adetca.cat
SUMMARY:Festival Grec - Música: Sílvia Pérez Cruz
DESCRIPTION:Neus Masferrer dispers@hotmail.com
URL:https://www.adetca.cat/agenda-event/festival-grec-musica-silvia-perez-cruz/
CATEGORIES:PDG
END:VEVENT
BEGIN:VEVENT
DTSTART;TZID=UTC:20210709T113000
DTEND;TZID=UTC:20210709T113000
DTSTAMP:20260423T054834
CREATED:20210610T152201Z
LAST-MODIFIED:20210610T152201Z
UID:6924-1625830200-1625830200@www.adetca.cat
SUMMARY:Presentació produccions d'estiu Parking Shakespeare
DESCRIPTION:Pau Domingo:  parkingshakespeare@gmail.com \n645102713
URL:https://www.adetca.cat/agenda-event/presentacio-produccions-destiu-parking-shakespeare/
CATEGORIES:PDG,RDP
END:VEVENT
BEGIN:VEVENT
DTSTART;TZID=UTC:20210713T173000
DTEND;TZID=UTC:20210713T173000
DTSTAMP:20260423T054834
CREATED:20210629T141834Z
LAST-MODIFIED:20210629T150845Z
UID:7121-1626197400-1626197400@www.adetca.cat
SUMMARY:Nuye - Circ eia
DESCRIPTION:Maria permanyer  mpermanyer@comediante.com
URL:https://www.adetca.cat/agenda-event/nuye-circ-eia/
CATEGORIES:PDG
END:VEVENT
BEGIN:VEVENT
DTSTART;TZID=UTC:20210714T121500
DTEND;TZID=UTC:20210714T121500
DTSTAMP:20260423T054834
CREATED:20210219T115433Z
LAST-MODIFIED:20210706T104314Z
UID:5914-1626264900-1626264900@www.adetca.cat
SUMMARY:Delicades
DESCRIPTION:Judit Hernández  jhernandez@publispec.com
URL:https://www.adetca.cat/agenda-event/teatre-goya-12/
CATEGORIES:PDG,RDP
END:VEVENT
END:VCALENDAR