BEGIN:VCALENDAR
VERSION:2.0
PRODID:-//ADETCA - ECPv6.15.20//NONSGML v1.0//EN
CALSCALE:GREGORIAN
METHOD:PUBLISH
X-WR-CALNAME:ADETCA
X-ORIGINAL-URL:https://www.adetca.cat
X-WR-CALDESC:Esdeveniments per ADETCA
REFRESH-INTERVAL;VALUE=DURATION:PT1H
X-Robots-Tag:noindex
X-PUBLISHED-TTL:PT1H
BEGIN:VTIMEZONE
TZID:UTC
BEGIN:STANDARD
TZOFFSETFROM:+0000
TZOFFSETTO:+0000
TZNAME:UTC
DTSTART:20200101T000000
END:STANDARD
END:VTIMEZONE
BEGIN:VEVENT
DTSTART;TZID=UTC:20210907T103000
DTEND;TZID=UTC:20210907T103000
DTSTAMP:20260423T031850
CREATED:20210823T091221Z
LAST-MODIFIED:20210823T091221Z
UID:7803-1631010600-1631010600@www.adetca.cat
SUMMARY:Començar
DESCRIPTION:Judit Hernández jhernandez@publispec.com \nAlbert Lopez alopez@publispec.com
URL:https://www.adetca.cat/agenda-event/comencar/
CATEGORIES:PDG,RDP
END:VEVENT
BEGIN:VEVENT
DTSTART;TZID=UTC:20210914T170000
DTEND;TZID=UTC:20210914T170000
DTSTAMP:20260423T031850
CREATED:20210823T091547Z
LAST-MODIFIED:20210823T134512Z
UID:7807-1631638800-1631638800@www.adetca.cat
SUMMARY:Assassinat a l'Orient Express
DESCRIPTION:Judit Hernandez jhernandez@publispec.com \nAlbert Lopez   alopez@publispec.com
URL:https://www.adetca.cat/agenda-event/assassinat-a-lorient-express-2/
CATEGORIES:PDG,RDP
END:VEVENT
BEGIN:VEVENT
DTSTART;TZID=UTC:20210915T160000
DTEND;TZID=UTC:20210915T160000
DTSTAMP:20260423T031850
CREATED:20210709T115022Z
LAST-MODIFIED:20210727T075710Z
UID:7311-1631721600-1631721600@www.adetca.cat
SUMMARY:Cantando bajo la lluvia
DESCRIPTION:Maria Permanyer mpermanyer@comedianet.com
URL:https://www.adetca.cat/agenda-event/cantando-bajo-la-lluvia/
CATEGORIES:PDG,RDP
END:VEVENT
BEGIN:VEVENT
DTSTART;TZID=UTC:20210929T170000
DTEND;TZID=UTC:20210929T170000
DTSTAMP:20260423T031850
CREATED:20210827T100208Z
LAST-MODIFIED:20210907T142007Z
UID:7975-1632934800-1632934800@www.adetca.cat
SUMMARY:La función que sale mal
DESCRIPTION:Judit Cabana \n\n\njudit.cabana@weareboth.com>
URL:https://www.adetca.cat/agenda-event/la-funcion-que-sale-mal/
CATEGORIES:PDG,RDP
END:VEVENT
BEGIN:VEVENT
DTSTART;TZID=UTC:20210930T113000
DTEND;TZID=UTC:20210930T113000
DTSTAMP:20260423T031850
CREATED:20210821T081901Z
LAST-MODIFIED:20210827T095849Z
UID:7798-1633001400-1633001400@www.adetca.cat
SUMMARY:Billy Elliot
DESCRIPTION:Judit Cabana \n\n\njudit.cabana@weareboth.com>
URL:https://www.adetca.cat/agenda-event/billy-elliot/
CATEGORIES:PDG,RDP
END:VEVENT
BEGIN:VEVENT
DTSTART;TZID=UTC:20210930T180000
DTEND;TZID=UTC:20210930T200000
DTSTAMP:20260423T031850
CREATED:20210901T093516Z
LAST-MODIFIED:20210901T094750Z
UID:8010-1633024800-1633032000@www.adetca.cat
SUMMARY:Cantando bajo la lluvia - accions i photocall
DESCRIPTION:Maria Permanyer mpermanyer@comedianet.com
URL:https://www.adetca.cat/agenda-event/cantando-bajo-la-lluvia-accions-i-photocall/
CATEGORIES:PDG
END:VEVENT
END:VCALENDAR