BEGIN:VCALENDAR
VERSION:2.0
PRODID:-//ADETCA - ECPv6.15.20//NONSGML v1.0//EN
CALSCALE:GREGORIAN
METHOD:PUBLISH
X-WR-CALNAME:ADETCA
X-ORIGINAL-URL:https://www.adetca.cat
X-WR-CALDESC:Esdeveniments per ADETCA
REFRESH-INTERVAL;VALUE=DURATION:PT1H
X-Robots-Tag:noindex
X-PUBLISHED-TTL:PT1H
BEGIN:VTIMEZONE
TZID:UTC
BEGIN:STANDARD
TZOFFSETFROM:+0000
TZOFFSETTO:+0000
TZNAME:UTC
DTSTART:20210101T000000
END:STANDARD
END:VTIMEZONE
BEGIN:VEVENT
DTSTART;TZID=UTC:20220113T120000
DTEND;TZID=UTC:20220113T120000
DTSTAMP:20260422T190717
CREATED:20211210T142159Z
LAST-MODIFIED:20220113T154913Z
UID:9101-1642075200-1642075200@www.adetca.cat
SUMMARY:Si tu te'n vas
DESCRIPTION:Sandra Costa sandra@lacosta.cat
URL:https://www.adetca.cat/agenda-event/si-tu-ten-vas-2/
CATEGORIES:PDG,RDP
END:VEVENT
BEGIN:VEVENT
DTSTART;TZID=UTC:20220120T111500
DTEND;TZID=UTC:20220120T111500
DTSTAMP:20260422T190717
CREATED:20211221T142241Z
LAST-MODIFIED:20220118T101900Z
UID:9123-1642677300-1642677300@www.adetca.cat
SUMMARY:El sopar dels idiotes
DESCRIPTION:Marc Gall mgall@comedianet.net
URL:https://www.adetca.cat/agenda-event/el-sopar-dels-idiotes-2/
CATEGORIES:PDG
END:VEVENT
BEGIN:VEVENT
DTSTART;TZID=UTC:20220125T113000
DTEND;TZID=UTC:20220125T133000
DTSTAMP:20260422T190717
CREATED:20211222T091420Z
LAST-MODIFIED:20211222T091634Z
UID:9132-1643110200-1643117400@www.adetca.cat
SUMMARY:The Opera locos
DESCRIPTION:Maria Permanyer mpermanyer@comedianet.com
URL:https://www.adetca.cat/agenda-event/the-opera-locos/
CATEGORIES:PDG,RDP
END:VEVENT
END:VCALENDAR