BEGIN:VCALENDAR
VERSION:2.0
PRODID:-//ADETCA - ECPv6.15.20//NONSGML v1.0//EN
CALSCALE:GREGORIAN
METHOD:PUBLISH
X-WR-CALNAME:ADETCA
X-ORIGINAL-URL:https://www.adetca.cat
X-WR-CALDESC:Esdeveniments per ADETCA
REFRESH-INTERVAL;VALUE=DURATION:PT1H
X-Robots-Tag:noindex
X-PUBLISHED-TTL:PT1H
BEGIN:VTIMEZONE
TZID:UTC
BEGIN:STANDARD
TZOFFSETFROM:+0000
TZOFFSETTO:+0000
TZNAME:UTC
DTSTART:20210101T000000
END:STANDARD
END:VTIMEZONE
BEGIN:VEVENT
DTSTART;TZID=UTC:20220316T113000
DTEND;TZID=UTC:20220316T113000
DTSTAMP:20260422T163058
CREATED:20220217T125243Z
LAST-MODIFIED:20220308T160441Z
UID:9441-1647430200-1647430200@www.adetca.cat
SUMMARY:Forever young
DESCRIPTION:Cristina Belmonte 93 667 26 36 \nxtna@kdecomunicacion.com \n 
URL:https://www.adetca.cat/agenda-event/forever-young-3/
CATEGORIES:PDG
END:VEVENT
END:VCALENDAR