BEGIN:VCALENDAR
VERSION:2.0
PRODID:-//ADETCA - ECPv6.15.20//NONSGML v1.0//EN
CALSCALE:GREGORIAN
METHOD:PUBLISH
X-WR-CALNAME:ADETCA
X-ORIGINAL-URL:https://www.adetca.cat
X-WR-CALDESC:Esdeveniments per ADETCA
REFRESH-INTERVAL;VALUE=DURATION:PT1H
X-Robots-Tag:noindex
X-PUBLISHED-TTL:PT1H
BEGIN:VTIMEZONE
TZID:UTC
BEGIN:STANDARD
TZOFFSETFROM:+0000
TZOFFSETTO:+0000
TZNAME:UTC
DTSTART:20210101T000000
END:STANDARD
END:VTIMEZONE
BEGIN:VEVENT
DTSTART;TZID=UTC:20220428T110000
DTEND;TZID=UTC:20220428T110000
DTSTAMP:20260422T151349
CREATED:20220405T115551Z
LAST-MODIFIED:20220405T115813Z
UID:9802-1651143600-1651143600@www.adetca.cat
SUMMARY:Company\, el musical
DESCRIPTION:Mariola Montoya comunicacion@gruposmedia.com
URL:https://www.adetca.cat/agenda-event/company/
CATEGORIES:PDG
END:VEVENT
END:VCALENDAR