BEGIN:VCALENDAR
VERSION:2.0
PRODID:-//ADETCA - ECPv6.15.20//NONSGML v1.0//EN
CALSCALE:GREGORIAN
METHOD:PUBLISH
X-WR-CALNAME:ADETCA
X-ORIGINAL-URL:https://www.adetca.cat
X-WR-CALDESC:Esdeveniments per ADETCA
REFRESH-INTERVAL;VALUE=DURATION:PT1H
X-Robots-Tag:noindex
X-PUBLISHED-TTL:PT1H
BEGIN:VTIMEZONE
TZID:UTC
BEGIN:STANDARD
TZOFFSETFROM:+0000
TZOFFSETTO:+0000
TZNAME:UTC
DTSTART:20210101T000000
END:STANDARD
END:VTIMEZONE
BEGIN:VEVENT
DTSTART;TZID=UTC:20220504T120000
DTEND;TZID=UTC:20220504T120000
DTSTAMP:20260422T134327
CREATED:20211123T085447Z
LAST-MODIFIED:20220228T155213Z
UID:8927-1651665600-1651665600@www.adetca.cat
SUMMARY:Rita
DESCRIPTION:Judit Hernández jhernandez@publispec.com
URL:https://www.adetca.cat/agenda-event/la-villarroel-7/
CATEGORIES:PDG,RDP
END:VEVENT
BEGIN:VEVENT
DTSTART;TZID=UTC:20220510T130000
DTEND;TZID=UTC:20220510T130000
DTSTAMP:20260422T134327
CREATED:20220412T133652Z
LAST-MODIFIED:20220412T133652Z
UID:9856-1652187600-1652187600@www.adetca.cat
SUMMARY:No entenc els homes
DESCRIPTION:Elena comunicacio@lautenticateatro.com
URL:https://www.adetca.cat/agenda-event/no-entenc-els-homes/
CATEGORIES:PDG,RDP
END:VEVENT
BEGIN:VEVENT
DTSTART;TZID=UTC:20220520T120000
DTEND;TZID=UTC:20220520T120000
DTSTAMP:20260422T134327
CREATED:20220411T124931Z
LAST-MODIFIED:20220411T124931Z
UID:9838-1653048000-1653048000@www.adetca.cat
SUMMARY:Flamenco voyage
DESCRIPTION:Sandra Araquistain: 697 22 15 30 \nsaraquis@gmailcom
URL:https://www.adetca.cat/agenda-event/flamenco-voyage-3/
CATEGORIES:PDG
END:VEVENT
BEGIN:VEVENT
DTSTART;TZID=UTC:20220521T163000
DTEND;TZID=UTC:20220521T163000
DTSTAMP:20260422T134327
CREATED:20220407T132750Z
LAST-MODIFIED:20220504T143905Z
UID:9815-1653150600-1653150600@www.adetca.cat
SUMMARY:Perspectives
DESCRIPTION:Albert López alopez@publispec.com
URL:https://www.adetca.cat/agenda-event/perspectives-2/
CATEGORIES:PDG
END:VEVENT
END:VCALENDAR