BEGIN:VCALENDAR
VERSION:2.0
PRODID:-//ADETCA - ECPv6.15.20//NONSGML v1.0//EN
CALSCALE:GREGORIAN
METHOD:PUBLISH
X-ORIGINAL-URL:https://www.adetca.cat
X-WR-CALDESC:Esdeveniments per ADETCA
REFRESH-INTERVAL;VALUE=DURATION:PT1H
X-Robots-Tag:noindex
X-PUBLISHED-TTL:PT1H
BEGIN:VTIMEZONE
TZID:UTC
BEGIN:STANDARD
TZOFFSETFROM:+0000
TZOFFSETTO:+0000
TZNAME:UTC
DTSTART:20210101T000000
END:STANDARD
END:VTIMEZONE
BEGIN:VEVENT
DTSTART;TZID=UTC:20220907T120000
DTEND;TZID=UTC:20220907T123000
DTSTAMP:20260422T081009
CREATED:20220713T145255Z
LAST-MODIFIED:20220801T121237Z
UID:10563-1662552000-1662553800@www.adetca.cat
SUMMARY:La Trena
DESCRIPTION:Helena Gràcia hgracia@focus.cat
URL:https://www.adetca.cat/agenda-event/teatre-goya-10/
CATEGORIES:PDG,RDP
END:VEVENT
BEGIN:VEVENT
DTSTART;TZID=UTC:20220908T120000
DTEND;TZID=UTC:20220908T120000
DTSTAMP:20260422T081009
CREATED:20220428T102547Z
LAST-MODIFIED:20220629T070217Z
UID:9936-1662638400-1662638400@www.adetca.cat
SUMMARY:La meravellosa família Hardwicke
DESCRIPTION:Anna Perez aperez@focus.cat
URL:https://www.adetca.cat/agenda-event/la-villarroel-15/
CATEGORIES:PDG,RDP
END:VEVENT
BEGIN:VEVENT
DTSTART;TZID=UTC:20220920T103000
DTEND;TZID=UTC:20220920T103000
DTSTAMP:20260422T081009
CREATED:20220729T130309Z
LAST-MODIFIED:20220729T130353Z
UID:10789-1663669800-1663669800@www.adetca.cat
SUMMARY:Pretty Woman
DESCRIPTION:comunicacion@gruposmedia.com
URL:https://www.adetca.cat/agenda-event/pretty-woman-2/
CATEGORIES:PDG
END:VEVENT
BEGIN:VEVENT
DTSTART;TZID=UTC:20220921T120000
DTEND;TZID=UTC:20220921T120000
DTSTAMP:20260422T081009
CREATED:20220316T120154Z
LAST-MODIFIED:20220316T120154Z
UID:9630-1663761600-1663761600@www.adetca.cat
SUMMARY:Golfus de Roma
DESCRIPTION:Judit Hwernández jhernandez@publispec.com
URL:https://www.adetca.cat/agenda-event/golfus-de-roma/
CATEGORIES:PDG,RDP
END:VEVENT
BEGIN:VEVENT
DTSTART;TZID=UTC:20220923T110000
DTEND;TZID=UTC:20220923T110000
DTSTAMP:20260422T081009
CREATED:20220915T114038Z
LAST-MODIFIED:20220915T114640Z
UID:11281-1663930800-1663930800@www.adetca.cat
SUMMARY:Cómo bailan los caballos andaluces
DESCRIPTION:SAndra Araquistain saraquis@gmail.com
URL:https://www.adetca.cat/agenda-event/como-bailan-los-caballos-andaluces/
CATEGORIES:PDG
END:VEVENT
BEGIN:VEVENT
DTSTART;TZID=UTC:20220926T110000
DTEND;TZID=UTC:20220926T110000
DTSTAMP:20260422T081009
CREATED:20220913T075722Z
LAST-MODIFIED:20220913T075722Z
UID:11258-1664190000-1664190000@www.adetca.cat
SUMMARY:Soc natura
DESCRIPTION:CArmen Holguera info@lautenticateatro.com
URL:https://www.adetca.cat/agenda-event/soc-natura/
CATEGORIES:PDG,RDP
END:VEVENT
BEGIN:VEVENT
DTSTART;TZID=UTC:20220928T110000
DTEND;TZID=UTC:20220928T110000
DTSTAMP:20260422T081009
CREATED:20220906T084436Z
LAST-MODIFIED:20220906T091544Z
UID:10989-1664362800-1664362800@www.adetca.cat
SUMMARY:Presentacio fons Hermann Bonnín al MAE
DESCRIPTION:Ruth Tormo tormobr@institutdelteatre.cat
URL:https://www.adetca.cat/agenda-event/presentacio-fons-hermann-bonnin/
CATEGORIES:PDG
END:VEVENT
BEGIN:VEVENT
DTSTART;TZID=UTC:20220930T110000
DTEND;TZID=UTC:20220930T110000
DTSTAMP:20260422T081009
CREATED:20220713T115618Z
LAST-MODIFIED:20220713T115618Z
UID:10555-1664535600-1664535600@www.adetca.cat
SUMMARY:Ghost
DESCRIPTION:Sandra Araquistain saraquis@gmail.com
URL:https://www.adetca.cat/agenda-event/ghost/
CATEGORIES:PDG
END:VEVENT
END:VCALENDAR