BEGIN:VCALENDAR
VERSION:2.0
PRODID:-//ADETCA - ECPv6.15.20//NONSGML v1.0//EN
CALSCALE:GREGORIAN
METHOD:PUBLISH
X-ORIGINAL-URL:https://www.adetca.cat
X-WR-CALDESC:Esdeveniments per ADETCA
REFRESH-INTERVAL;VALUE=DURATION:PT1H
X-Robots-Tag:noindex
X-PUBLISHED-TTL:PT1H
BEGIN:VTIMEZONE
TZID:UTC
BEGIN:STANDARD
TZOFFSETFROM:+0000
TZOFFSETTO:+0000
TZNAME:UTC
DTSTART:20210101T000000
END:STANDARD
END:VTIMEZONE
BEGIN:VEVENT
DTSTART;TZID=UTC:20221202T170000
DTEND;TZID=UTC:20221202T170000
DTSTAMP:20260422T043213
CREATED:20221024T090138Z
LAST-MODIFIED:20221130T072522Z
UID:11781-1670000400-1670000400@www.adetca.cat
SUMMARY:The Hole
DESCRIPTION:Sandra Araquistain saraquis@gmail.com \n607 22 15 30
URL:https://www.adetca.cat/agenda-event/the-hole-2/
CATEGORIES:PDG
END:VEVENT
BEGIN:VEVENT
DTSTART;TZID=UTC:20221207T173000
DTEND;TZID=UTC:20221207T173000
DTSTAMP:20260422T043213
CREATED:20221124T162344Z
LAST-MODIFIED:20221124T162603Z
UID:11977-1670434200-1670434200@www.adetca.cat
SUMMARY:Fest. Temporada alta - La Dévorée
DESCRIPTION:Paula Pairó: ppairocortada@gmail.com
URL:https://www.adetca.cat/agenda-event/marina-otero-la-devoree/
CATEGORIES:PDG
END:VEVENT
END:VCALENDAR