BEGIN:VCALENDAR
VERSION:2.0
PRODID:-//ADETCA - ECPv6.15.20//NONSGML v1.0//EN
CALSCALE:GREGORIAN
METHOD:PUBLISH
X-ORIGINAL-URL:https://www.adetca.cat
X-WR-CALDESC:Esdeveniments per ADETCA
REFRESH-INTERVAL;VALUE=DURATION:PT1H
X-Robots-Tag:noindex
X-PUBLISHED-TTL:PT1H
BEGIN:VTIMEZONE
TZID:UTC
BEGIN:STANDARD
TZOFFSETFROM:+0000
TZOFFSETTO:+0000
TZNAME:UTC
DTSTART:20220101T000000
END:STANDARD
END:VTIMEZONE
BEGIN:VEVENT
DTSTART;TZID=UTC:20230303T120000
DTEND;TZID=UTC:20230303T120000
DTSTAMP:20260422T005357
CREATED:20230202T115326Z
LAST-MODIFIED:20230222T133858Z
UID:12473-1677844800-1677844800@www.adetca.cat
SUMMARY:L'alegria que passa
DESCRIPTION:Aloma Vilamala aloma@latremenda.coop
URL:https://www.adetca.cat/agenda-event/lalegria-que-passa-3/
CATEGORIES:PDG,RDP
END:VEVENT
BEGIN:VEVENT
DTSTART;TZID=UTC:20230314T120000
DTEND;TZID=UTC:20230314T120000
DTSTAMP:20260422T005357
CREATED:20230224T085717Z
LAST-MODIFIED:20230224T100338Z
UID:12618-1678795200-1678795200@www.adetca.cat
SUMMARY:Un concert a la Casa Blanca
DESCRIPTION:Cristina Belmonte xtna@kdecomunicacion.com
URL:https://www.adetca.cat/agenda-event/un-concert-a-la-casa-blanca/
CATEGORIES:PDG,RDP
END:VEVENT
END:VCALENDAR