BEGIN:VCALENDAR
VERSION:2.0
PRODID:-//ADETCA - ECPv6.15.20//NONSGML v1.0//EN
CALSCALE:GREGORIAN
METHOD:PUBLISH
X-WR-CALNAME:ADETCA
X-ORIGINAL-URL:https://www.adetca.cat
X-WR-CALDESC:Esdeveniments per ADETCA
REFRESH-INTERVAL;VALUE=DURATION:PT1H
X-Robots-Tag:noindex
X-PUBLISHED-TTL:PT1H
BEGIN:VTIMEZONE
TZID:UTC
BEGIN:STANDARD
TZOFFSETFROM:+0000
TZOFFSETTO:+0000
TZNAME:UTC
DTSTART:20220101T000000
END:STANDARD
END:VTIMEZONE
BEGIN:VEVENT
DTSTART;TZID=UTC:20230913T113000
DTEND;TZID=UTC:20230913T113000
DTSTAMP:20260421T172042
CREATED:20230727T090846Z
LAST-MODIFIED:20230728T153724Z
UID:14109-1694604600-1694604600@www.adetca.cat
SUMMARY:The producers
DESCRIPTION:Marc Gall mgall@comedianet.com
URL:https://www.adetca.cat/agenda-event/the-producers-2/
CATEGORIES:PDG,RDP
END:VEVENT
BEGIN:VEVENT
DTSTART;TZID=UTC:20230913T163000
DTEND;TZID=UTC:20230913T163000
DTSTAMP:20260421T172042
CREATED:20230727T090953Z
LAST-MODIFIED:20230728T153534Z
UID:14111-1694622600-1694622600@www.adetca.cat
SUMMARY:The producers
DESCRIPTION:Marc Gall mgall@comedianet.com
URL:https://www.adetca.cat/agenda-event/the-producers-3/
CATEGORIES:PDG,RDP
END:VEVENT
BEGIN:VEVENT
DTSTART;TZID=UTC:20230914T170000
DTEND;TZID=UTC:20230914T170000
DTSTAMP:20260421T172042
CREATED:20230830T063745Z
LAST-MODIFIED:20230830T063745Z
UID:14330-1694710800-1694710800@www.adetca.cat
SUMMARY:The party
DESCRIPTION:Sandra Araquistain saraquis@gmail.com
URL:https://www.adetca.cat/agenda-event/the-party/
CATEGORIES:PDG
END:VEVENT
BEGIN:VEVENT
DTSTART;TZID=UTC:20230921T160000
DTEND;TZID=UTC:20230921T160000
DTSTAMP:20260421T172042
CREATED:20230811T072235Z
LAST-MODIFIED:20230912T133232Z
UID:14215-1695312000-1695312000@www.adetca.cat
SUMMARY:La noche de los muertos vivientes
DESCRIPTION:Xavi Lleyda xlleyda@focus.cat
URL:https://www.adetca.cat/agenda-event/la-noche-de-los-muertos-vivientes/
CATEGORIES:PDG,RDP
END:VEVENT
BEGIN:VEVENT
DTSTART;TZID=UTC:20230929T113000
DTEND;TZID=UTC:20230929T113000
DTSTAMP:20260421T172042
CREATED:20230608T102355Z
LAST-MODIFIED:20230608T102355Z
UID:13414-1695987000-1695987000@www.adetca.cat
SUMMARY:El tiempo entre costuras\, el musical
DESCRIPTION:Berta Regot berta@templetonagencia.com
URL:https://www.adetca.cat/agenda-event/el-tiempo-entre-costuras-el-musical-3/
CATEGORIES:PDG
END:VEVENT
END:VCALENDAR