BEGIN:VCALENDAR
VERSION:2.0
PRODID:-//ADETCA - ECPv6.15.20//NONSGML v1.0//EN
CALSCALE:GREGORIAN
METHOD:PUBLISH
X-ORIGINAL-URL:https://www.adetca.cat
X-WR-CALDESC:Esdeveniments per ADETCA
REFRESH-INTERVAL;VALUE=DURATION:PT1H
X-Robots-Tag:noindex
X-PUBLISHED-TTL:PT1H
BEGIN:VTIMEZONE
TZID:UTC
BEGIN:STANDARD
TZOFFSETFROM:+0000
TZOFFSETTO:+0000
TZNAME:UTC
DTSTART:20220101T000000
END:STANDARD
END:VTIMEZONE
BEGIN:VEVENT
DTSTART;TZID=UTC:20231004T100000
DTEND;TZID=UTC:20231004T100000
DTSTAMP:20260421T160818
CREATED:20230828T112250Z
LAST-MODIFIED:20230926T072642Z
UID:14268-1696413600-1696413600@www.adetca.cat
SUMMARY:Temporada Alta - Com qui sent ploure + PPP
DESCRIPTION:Paula Pairó ppairocortada@gmail.com
URL:https://www.adetca.cat/agenda-event/temporada-alta-15/
CATEGORIES:PDG
END:VEVENT
BEGIN:VEVENT
DTSTART;TZID=UTC:20231011T110000
DTEND;TZID=UTC:20231011T110000
DTSTAMP:20260421T160818
CREATED:20230828T112903Z
LAST-MODIFIED:20230828T112903Z
UID:14276-1697022000-1697022000@www.adetca.cat
SUMMARY:Temporada Alta
DESCRIPTION:Paula Pairó ppairocortada@gmail.com
URL:https://www.adetca.cat/agenda-event/temporada-alta-19/
CATEGORIES:PDG
END:VEVENT
BEGIN:VEVENT
DTSTART;TZID=UTC:20231025T110000
DTEND;TZID=UTC:20231025T110000
DTSTAMP:20260421T160818
CREATED:20230828T114554Z
LAST-MODIFIED:20231009T102655Z
UID:14296-1698231600-1698231600@www.adetca.cat
SUMMARY:Albert Pla
DESCRIPTION:Paula Pairó ppairocortada@gmail.com
URL:https://www.adetca.cat/agenda-event/temporada-alta-29/
CATEGORIES:PDG,RDP
END:VEVENT
BEGIN:VEVENT
DTSTART;TZID=UTC:20231027T120000
DTEND;TZID=UTC:20231027T120000
DTSTAMP:20260421T160818
CREATED:20231006T102900Z
LAST-MODIFIED:20231006T103135Z
UID:14744-1698408000-1698408000@www.adetca.cat
SUMMARY:John & Jen
DESCRIPTION:Àlex Sánchez premsa@teatregaudibarcelona.com
URL:https://www.adetca.cat/agenda-event/john-jen/
CATEGORIES:PDG,RDP
END:VEVENT
BEGIN:VEVENT
DTSTART;TZID=UTC:20231031T110000
DTEND;TZID=UTC:20231031T110000
DTSTAMP:20260421T160818
CREATED:20231010T090802Z
LAST-MODIFIED:20231010T102043Z
UID:14773-1698750000-1698750000@www.adetca.cat
SUMMARY:Miracle
DESCRIPTION:Laura Farrés  laurafarres@salabeckett.cat
URL:https://www.adetca.cat/agenda-event/miracle/
CATEGORIES:PDG,RDP
END:VEVENT
END:VCALENDAR