BEGIN:VCALENDAR
VERSION:2.0
PRODID:-//ADETCA - ECPv6.15.20//NONSGML v1.0//EN
CALSCALE:GREGORIAN
METHOD:PUBLISH
X-ORIGINAL-URL:https://www.adetca.cat
X-WR-CALDESC:Esdeveniments per ADETCA
REFRESH-INTERVAL;VALUE=DURATION:PT1H
X-Robots-Tag:noindex
X-PUBLISHED-TTL:PT1H
BEGIN:VTIMEZONE
TZID:UTC
BEGIN:STANDARD
TZOFFSETFROM:+0000
TZOFFSETTO:+0000
TZNAME:UTC
DTSTART:20230101T000000
END:STANDARD
END:VTIMEZONE
BEGIN:VEVENT
DTSTART;TZID=UTC:20240116T100000
DTEND;TZID=UTC:20240116T100000
DTSTAMP:20260421T121204
CREATED:20240104T122737Z
LAST-MODIFIED:20240104T122737Z
UID:15210-1705399200-1705399200@www.adetca.cat
SUMMARY:"Humans 2.0" de la companyia CIRCA
DESCRIPTION:Mima Garriga mimagarriga@coolmedialab.es
URL:https://www.adetca.cat/agenda-event/humans-2-0-de-la-companyia-circa/
CATEGORIES:PDG,RDP
END:VEVENT
BEGIN:VEVENT
DTSTART;TZID=UTC:20240125T153000
DTEND;TZID=UTC:20240125T153000
DTSTAMP:20260421T121204
CREATED:20231124T075946Z
LAST-MODIFIED:20240112T112721Z
UID:15067-1706196600-1706196600@www.adetca.cat
SUMMARY:Elling
DESCRIPTION:Xavi Lleyda xlleyda@focus.cat
URL:https://www.adetca.cat/agenda-event/elling-2/
CATEGORIES:PDG,RDP
END:VEVENT
END:VCALENDAR