BEGIN:VCALENDAR
VERSION:2.0
PRODID:-//ADETCA - ECPv6.15.20//NONSGML v1.0//EN
CALSCALE:GREGORIAN
METHOD:PUBLISH
X-ORIGINAL-URL:https://www.adetca.cat
X-WR-CALDESC:Esdeveniments per ADETCA
REFRESH-INTERVAL;VALUE=DURATION:PT1H
X-Robots-Tag:noindex
X-PUBLISHED-TTL:PT1H
BEGIN:VTIMEZONE
TZID:UTC
BEGIN:STANDARD
TZOFFSETFROM:+0000
TZOFFSETTO:+0000
TZNAME:UTC
DTSTART:20230101T000000
END:STANDARD
END:VTIMEZONE
BEGIN:VEVENT
DTSTART;TZID=UTC:20240201T170000
DTEND;TZID=UTC:20240201T170000
DTSTAMP:20260421T105502
CREATED:20231227T124303Z
LAST-MODIFIED:20240130T135301Z
UID:15182-1706806800-1706806800@www.adetca.cat
SUMMARY:Esperant Mr Bojangles
DESCRIPTION:Ivan Danot ivandanot@gmail.com \n  \nMima Garriga
URL:https://www.adetca.cat/agenda-event/esperant-mr-bojangles-3/
CATEGORIES:PDG
END:VEVENT
BEGIN:VEVENT
DTSTART;TZID=UTC:20240208T170000
DTEND;TZID=UTC:20240208T170000
DTSTAMP:20260421T105502
CREATED:20240123T082219Z
LAST-MODIFIED:20240123T082700Z
UID:15323-1707411600-1707411600@www.adetca.cat
SUMMARY:FAIRFLY
DESCRIPTION:Ruben Garcia ruben@barc.coop
URL:https://www.adetca.cat/agenda-event/fairfly/
CATEGORIES:PDG
END:VEVENT
BEGIN:VEVENT
DTSTART;TZID=UTC:20240215T163000
DTEND;TZID=UTC:20240215T163000
DTSTAMP:20260421T105502
CREATED:20240130T134007Z
LAST-MODIFIED:20240207T073301Z
UID:15415-1708014600-1708014600@www.adetca.cat
SUMMARY:Los chicos del coro
DESCRIPTION:Mima Garriga mimagarriga@coolmedialab.es \n\n\n\n\n\n\n\n\n\n\n\n\n\n\n\n\n\n\n\n\n\n\n\n\n\n\n\n\n 
URL:https://www.adetca.cat/agenda-event/los-chicos-del-coro/
CATEGORIES:PDG
END:VEVENT
BEGIN:VEVENT
DTSTART;TZID=UTC:20240215T170000
DTEND;TZID=UTC:20240215T170000
DTSTAMP:20260421T105502
CREATED:20240206T115201Z
LAST-MODIFIED:20240207T170435Z
UID:15462-1708016400-1708016400@www.adetca.cat
SUMMARY:Festival Salmon
DESCRIPTION:Sesi Bergeret premsa@festivalsalmon.com \nMercè Ros mros@mercatflors.cat
URL:https://www.adetca.cat/agenda-event/festival-salmon-3/
CATEGORIES:PDG
END:VEVENT
BEGIN:VEVENT
DTSTART;TZID=UTC:20240228T123000
DTEND;TZID=UTC:20240228T123000
DTSTAMP:20260421T105502
CREATED:20240220T115113Z
LAST-MODIFIED:20240220T121410Z
UID:15593-1709123400-1709123400@www.adetca.cat
SUMMARY:Fuerza bruta Wayra
DESCRIPTION:Cristina Belmonte  xtna@kdecomunicacion.com
URL:https://www.adetca.cat/agenda-event/fuerza-bruta-wayra/
CATEGORIES:PDG,RDP
END:VEVENT
END:VCALENDAR