BEGIN:VCALENDAR
VERSION:2.0
PRODID:-//ADETCA - ECPv6.15.20//NONSGML v1.0//EN
CALSCALE:GREGORIAN
METHOD:PUBLISH
X-WR-CALNAME:ADETCA
X-ORIGINAL-URL:https://www.adetca.cat
X-WR-CALDESC:Esdeveniments per ADETCA
REFRESH-INTERVAL;VALUE=DURATION:PT1H
X-Robots-Tag:noindex
X-PUBLISHED-TTL:PT1H
BEGIN:VTIMEZONE
TZID:UTC
BEGIN:STANDARD
TZOFFSETFROM:+0000
TZOFFSETTO:+0000
TZNAME:UTC
DTSTART:20250101T000000
END:STANDARD
END:VTIMEZONE
BEGIN:VEVENT
DTSTART;TZID=UTC:20260420T200000
DTEND;TZID=UTC:20260420T200000
DTSTAMP:20260419T123142
CREATED:20250918T085409Z
LAST-MODIFIED:20260402T082234Z
UID:22090-1776715200-1776715200@www.adetca.cat
SUMMARY:Les dones sàvies
DESCRIPTION:Anna Perez aperez@focus.cat
URL:https://www.adetca.cat/agenda-event/les-dones-savies-2/
CATEGORIES:EST
END:VEVENT
BEGIN:VEVENT
DTSTART;TZID=UTC:20260421T113000
DTEND;TZID=UTC:20260421T113000
DTSTAMP:20260419T123142
CREATED:20260226T065951Z
LAST-MODIFIED:20260226T074913Z
UID:23524-1776771000-1776771000@www.adetca.cat
SUMMARY:Presentació de la programació Festival Grec'26
DESCRIPTION:Guillem Talens gtalensm@bcn.cat
URL:https://www.adetca.cat/agenda-event/presentacio-de-la-programacio-festival-grec26/
CATEGORIES:RDP
END:VEVENT
BEGIN:VEVENT
DTSTART;TZID=UTC:20260421T200000
DTEND;TZID=UTC:20260421T200000
DTSTAMP:20260419T123142
CREATED:20260331T100225Z
LAST-MODIFIED:20260331T100225Z
UID:23875-1776801600-1776801600@www.adetca.cat
SUMMARY:Chou chou ténèbres
DESCRIPTION:Arianna Tanghetti comunicacio@anticteatre.com
URL:https://www.adetca.cat/agenda-event/chou-chou-tenebres/
CATEGORIES:EST
END:VEVENT
BEGIN:VEVENT
DTSTART;TZID=UTC:20260422T190000
DTEND;TZID=UTC:20260422T190000
DTSTAMP:20260419T123142
CREATED:20250623T080026Z
LAST-MODIFIED:20250623T080026Z
UID:20736-1776884400-1776884400@www.adetca.cat
SUMMARY:Èdip & Antígona
DESCRIPTION:Bernat Fornells – Bfornells@tnc.cat
URL:https://www.adetca.cat/agenda-event/edip-antigona/
CATEGORIES:EST
END:VEVENT
BEGIN:VEVENT
DTSTART;TZID=UTC:20260422T193000
DTEND;TZID=UTC:20260422T193000
DTSTAMP:20260419T123142
CREATED:20260114T102743Z
LAST-MODIFIED:20260114T102743Z
UID:23157-1776886200-1776886200@www.adetca.cat
SUMMARY:NOU
DESCRIPTION:Marta Cros comunicacio@daualsecartsesceniques.cat
URL:https://www.adetca.cat/agenda-event/nou/
CATEGORIES:EST
END:VEVENT
BEGIN:VEVENT
DTSTART;TZID=UTC:20260422T200000
DTEND;TZID=UTC:20260422T200000
DTSTAMP:20260419T123142
CREATED:20260323T160735Z
LAST-MODIFIED:20260323T160735Z
UID:23814-1776888000-1776888000@www.adetca.cat
SUMMARY:Un paradís a la frontera
DESCRIPTION:Ana Candela premsa@tantarantana.com
URL:https://www.adetca.cat/agenda-event/un-paradis-a-la-frontera/
CATEGORIES:EST
END:VEVENT
BEGIN:VEVENT
DTSTART;TZID=UTC:20260423T200000
DTEND;TZID=UTC:20260423T200000
DTSTAMP:20260419T123142
CREATED:20260331T100653Z
LAST-MODIFIED:20260331T100801Z
UID:23877-1776974400-1776974400@www.adetca.cat
SUMMARY:23è Aniversari de l'Antic Teatre + OFF Sant Jordi
DESCRIPTION:Arianna Tanghetti comunicacio@anticteatre.com
URL:https://www.adetca.cat/agenda-event/23e-aniversari-de-lantic-teatre-off-sant-jordi/
CATEGORIES:EST
END:VEVENT
BEGIN:VEVENT
DTSTART;TZID=UTC:20260424T110000
DTEND;TZID=UTC:20260424T120000
DTSTAMP:20260419T123142
CREATED:20250703T133407Z
LAST-MODIFIED:20250703T133407Z
UID:21119-1777028400-1777032000@www.adetca.cat
SUMMARY:Werther
DESCRIPTION:Helena Grau García – helena.grau@liceubarcelona.cat
URL:https://www.adetca.cat/agenda-event/werther/
CATEGORIES:RDP
END:VEVENT
BEGIN:VEVENT
DTSTART;TZID=UTC:20260427T110000
DTEND;TZID=UTC:20260427T110000
DTSTAMP:20260419T123142
CREATED:20250703T134407Z
LAST-MODIFIED:20260415T140213Z
UID:21125-1777287600-1777287600@www.adetca.cat
SUMMARY:Presentació Temporada 2026/27
DESCRIPTION:Helena Grau García – helena.grau@liceubarcelona.cat
URL:https://www.adetca.cat/agenda-event/presentacio-temporada-2026-2027/
CATEGORIES:RDP
END:VEVENT
BEGIN:VEVENT
DTSTART;TZID=UTC:20260427T110000
DTEND;TZID=UTC:20260427T110000
DTSTAMP:20260419T123142
CREATED:20260302T084350Z
LAST-MODIFIED:20260302T084806Z
UID:23545-1777287600-1777287600@www.adetca.cat
SUMMARY:Estrena't al Territori
DESCRIPTION:Joan Micó comunicacio@estrenatalterritori.cat
URL:https://www.adetca.cat/agenda-event/estrenat-al-territori/
CATEGORIES:RDP
END:VEVENT
BEGIN:VEVENT
DTSTART;TZID=UTC:20260427T123000
DTEND;TZID=UTC:20260427T123000
DTSTAMP:20260419T123142
CREATED:20260311T122901Z
LAST-MODIFIED:20260311T153639Z
UID:23667-1777293000-1777293000@www.adetca.cat
SUMMARY:Nou projecte Teatre Raval
DESCRIPTION:Sandra Costa sandracostatur@icloud.com
URL:https://www.adetca.cat/agenda-event/nou-projecte-teatre-del-raval/
CATEGORIES:RDP
END:VEVENT
BEGIN:VEVENT
DTSTART;TZID=UTC:20260427T190000
DTEND;TZID=UTC:20260427T190000
DTSTAMP:20260419T123142
CREATED:20260311T153826Z
LAST-MODIFIED:20260311T155209Z
UID:23675-1777316400-1777316400@www.adetca.cat
SUMMARY:Inauguració nou Teatre Raval
DESCRIPTION:Sandra Costa sandracostatur@icloud.com
URL:https://www.adetca.cat/agenda-event/inauguracio-nou-teatre-raval/
CATEGORIES:EST
END:VEVENT
BEGIN:VEVENT
DTSTART;TZID=UTC:20260428T110000
DTEND;TZID=UTC:20260428T110000
DTSTAMP:20260419T123142
CREATED:20260323T160038Z
LAST-MODIFIED:20260330T151637Z
UID:23806-1777374000-1777374000@www.adetca.cat
SUMMARY:Abraça'm fins que m'adormi
DESCRIPTION:Núria Amat premsa@salabeckett.cat
URL:https://www.adetca.cat/agenda-event/abracam-fins-que-madormi-2/
CATEGORIES:RDP
END:VEVENT
BEGIN:VEVENT
DTSTART;TZID=UTC:20260428T120000
DTEND;TZID=UTC:20260428T120000
DTSTAMP:20260419T123142
CREATED:20260304T145242Z
LAST-MODIFIED:20260304T145242Z
UID:23607-1777377600-1777377600@www.adetca.cat
SUMMARY:Presentació Cirque du Soleil
DESCRIPTION:XAvi Lleyda xlleyda@focus.cat
URL:https://www.adetca.cat/agenda-event/presentacio-cirque-du-soleil/
CATEGORIES:RDP
END:VEVENT
BEGIN:VEVENT
DTSTART;TZID=UTC:20260428T123000
DTEND;TZID=UTC:20260428T123000
DTSTAMP:20260419T123142
CREATED:20260323T100217Z
LAST-MODIFIED:20260323T100217Z
UID:23787-1777379400-1777379400@www.adetca.cat
SUMMARY:Qui
DESCRIPTION:Bàrbara Branco barbara@tremenda.cat
URL:https://www.adetca.cat/agenda-event/qui/
CATEGORIES:RDP
END:VEVENT
BEGIN:VEVENT
DTSTART;TZID=UTC:20260428T130000
DTEND;TZID=UTC:20260428T130000
DTSTAMP:20260419T123142
CREATED:20260304T121734Z
LAST-MODIFIED:20260304T121734Z
UID:23595-1777381200-1777381200@www.adetca.cat
SUMMARY:Nou programa de residències Nau Ivanow
DESCRIPTION:Laia ruíz laia@nauivanow.com
URL:https://www.adetca.cat/agenda-event/nou-programa-de-residencies-nau-ivanow/
CATEGORIES:RDP
END:VEVENT
BEGIN:VEVENT
DTSTART;TZID=UTC:20260429T103000
DTEND;TZID=UTC:20260429T103000
DTSTAMP:20260419T123142
CREATED:20260320T135415Z
LAST-MODIFIED:20260326T104051Z
UID:23775-1777458600-1777458600@www.adetca.cat
SUMMARY:El Fill
DESCRIPTION:Clàudia Blasquiz – cblasquiz@teatrelliure.com
URL:https://www.adetca.cat/agenda-event/el-fill-4/
CATEGORIES:RDP
END:VEVENT
BEGIN:VEVENT
DTSTART;TZID=UTC:20260429T120000
DTEND;TZID=UTC:20260429T120000
DTSTAMP:20260419T123142
CREATED:20250724T154121Z
LAST-MODIFIED:20260317T134704Z
UID:21460-1777464000-1777464000@www.adetca.cat
SUMMARY:El Firmament
DESCRIPTION:Esther Vendrell – Evendrell@tnc.cat
URL:https://www.adetca.cat/agenda-event/el-firmament-2/
CATEGORIES:RDP
END:VEVENT
BEGIN:VEVENT
DTSTART;TZID=UTC:20260429T123000
DTEND;TZID=UTC:20260429T123000
DTSTAMP:20260419T123142
CREATED:20260323T100409Z
LAST-MODIFIED:20260323T100409Z
UID:23789-1777465800-1777465800@www.adetca.cat
SUMMARY:Qui
DESCRIPTION:Bàrbara Branco barbara@tremenda.cat
URL:https://www.adetca.cat/agenda-event/qui-2/
CATEGORIES:RDP
END:VEVENT
BEGIN:VEVENT
DTSTART;TZID=UTC:20260429T193000
DTEND;TZID=UTC:20260429T193000
DTSTAMP:20260419T123142
CREATED:20260323T155035Z
LAST-MODIFIED:20260323T155035Z
UID:23794-1777491000-1777491000@www.adetca.cat
SUMMARY:Abraça'm fins que m'adormi
DESCRIPTION:Núria Amat premsa@salabeckett.cat
URL:https://www.adetca.cat/agenda-event/abracam-fins-que-madormi/
CATEGORIES:EST
END:VEVENT
BEGIN:VEVENT
DTSTART;TZID=UTC:20260429T203000
DTEND;TZID=UTC:20260429T203000
DTSTAMP:20260419T123142
CREATED:20260323T160949Z
LAST-MODIFIED:20260323T160949Z
UID:23816-1777494600-1777494600@www.adetca.cat
SUMMARY:Hora bruixa
DESCRIPTION:Ana Candela premsa@tantarantana.com
URL:https://www.adetca.cat/agenda-event/hora-bruixa/
CATEGORIES:EST
END:VEVENT
BEGIN:VEVENT
DTSTART;TZID=UTC:20260430T103000
DTEND;TZID=UTC:20260430T103000
DTSTAMP:20260419T123142
CREATED:20250625T125158Z
LAST-MODIFIED:20260305T150015Z
UID:20918-1777545000-1777545000@www.adetca.cat
SUMMARY:L'Autora
DESCRIPTION:Clàudia Blasquiz – cblasquiz@teatrelliure.com
URL:https://www.adetca.cat/agenda-event/lautora-3/
CATEGORIES:RDP
END:VEVENT
BEGIN:VEVENT
DTSTART;TZID=UTC:20260430T193000
DTEND;TZID=UTC:20260430T193000
DTSTAMP:20260419T123142
CREATED:20260122T120307Z
LAST-MODIFIED:20260129T125827Z
UID:23303-1777577400-1777577400@www.adetca.cat
SUMMARY:Saeta
DESCRIPTION:Diana Juanpere djuanpere@fundaciojoanbrossa.cat
URL:https://www.adetca.cat/agenda-event/saeta/
CATEGORIES:EST
END:VEVENT
BEGIN:VEVENT
DTSTART;TZID=UTC:20260502T190000
DTEND;TZID=UTC:20260502T190000
DTSTAMP:20260419T123142
CREATED:20251204T150223Z
LAST-MODIFIED:20251204T150223Z
UID:22945-1777748400-1777748400@www.adetca.cat
SUMMARY:Llums i ombres
DESCRIPTION:Anna Espunya teatre@eolia.cat
URL:https://www.adetca.cat/agenda-event/llums-i-ombres/
CATEGORIES:EST
END:VEVENT
BEGIN:VEVENT
DTSTART;TZID=UTC:20260504T110000
DTEND;TZID=UTC:20260504T110000
DTSTAMP:20260419T123142
CREATED:20251013T134740Z
LAST-MODIFIED:20260305T113516Z
UID:22474-1777892400-1777892400@www.adetca.cat
SUMMARY:Presentació Temporada 2026/27 - Palau de la Música
DESCRIPTION:Imma Anglès Sarrias iangles@palaumusica.cat
URL:https://www.adetca.cat/agenda-event/presentacio-temporada-26-27/
CATEGORIES:RDP
END:VEVENT
BEGIN:VEVENT
DTSTART;TZID=UTC:20260504T123000
DTEND;TZID=UTC:20260504T123000
DTSTAMP:20260419T123142
CREATED:20260320T132806Z
LAST-MODIFIED:20260320T134148Z
UID:23764-1777897800-1777897800@www.adetca.cat
SUMMARY:La truita
DESCRIPTION:Mima Garriga mimagarriga@gmail.com \nivandanot@gmail.com
URL:https://www.adetca.cat/agenda-event/la-truita/
CATEGORIES:RDP
END:VEVENT
BEGIN:VEVENT
DTSTART;TZID=UTC:20260505T123000
DTEND;TZID=UTC:20260505T123000
DTSTAMP:20260419T123142
CREATED:20260407T111229Z
LAST-MODIFIED:20260407T114703Z
UID:23913-1777984200-1777984200@www.adetca.cat
SUMMARY:Presentació projecte La Calòrica
DESCRIPTION:Carlos Zaragoza carloszaragoza@teatrepoliorama.com
URL:https://www.adetca.cat/agenda-event/presentacio-projecte-la-calorica/
CATEGORIES:RDP
END:VEVENT
BEGIN:VEVENT
DTSTART;TZID=UTC:20260505T200000
DTEND;TZID=UTC:20260505T200000
DTSTAMP:20260419T123142
CREATED:20260409T150241Z
LAST-MODIFIED:20260409T150241Z
UID:23968-1778011200-1778011200@www.adetca.cat
SUMMARY:Seis personajes en busca de autor
DESCRIPTION:Cristina Alda comunicacion@gruposmedia.com
URL:https://www.adetca.cat/agenda-event/seis-personajes-en-busca-de-autor-2/
CATEGORIES:EST
END:VEVENT
BEGIN:VEVENT
DTSTART;TZID=UTC:20260506T110000
DTEND;TZID=UTC:20260506T110000
DTSTAMP:20260419T123142
CREATED:20260409T092345Z
LAST-MODIFIED:20260409T092345Z
UID:23929-1778065200-1778065200@www.adetca.cat
SUMMARY:Seis personajes en busca de autor
DESCRIPTION:Cristina Alda comunicacion@gruposmedia.com
URL:https://www.adetca.cat/agenda-event/seis-personajes-en-busca-de-autor/
CATEGORIES:PDG
END:VEVENT
BEGIN:VEVENT
DTSTART;TZID=UTC:20260506T120000
DTEND;TZID=UTC:20260506T120000
DTSTAMP:20260419T123142
CREATED:20250917T131218Z
LAST-MODIFIED:20260323T154629Z
UID:22025-1778068800-1778068800@www.adetca.cat
SUMMARY:Inútil (Un cactus i altres desastres)
DESCRIPTION:Ester Cànovas ester@elmalda.cat
URL:https://www.adetca.cat/agenda-event/inutil-un-cactus-i-altres-desastres-3/
CATEGORIES:RDP
END:VEVENT
END:VCALENDAR