BEGIN:VCALENDAR
VERSION:2.0
PRODID:-//ADETCA - ECPv6.15.20//NONSGML v1.0//EN
CALSCALE:GREGORIAN
METHOD:PUBLISH
X-ORIGINAL-URL:https://www.adetca.cat
X-WR-CALDESC:Esdeveniments per ADETCA
REFRESH-INTERVAL;VALUE=DURATION:PT1H
X-Robots-Tag:noindex
X-PUBLISHED-TTL:PT1H
BEGIN:VTIMEZONE
TZID:UTC
BEGIN:STANDARD
TZOFFSETFROM:+0000
TZOFFSETTO:+0000
TZNAME:UTC
DTSTART:20210101T000000
END:STANDARD
END:VTIMEZONE
BEGIN:VEVENT
DTSTART;TZID=UTC:20220628T120000
DTEND;TZID=UTC:20220628T120000
DTSTAMP:20260424T161001
CREATED:20220511T151447Z
LAST-MODIFIED:20220511T154000Z
UID:10011-1656417600-1656417600@www.adetca.cat
SUMMARY:Tartufo
DESCRIPTION:Albert López alopez@publispec.com
URL:https://www.adetca.cat/agenda-event/tartufo/
CATEGORIES:RDP
END:VEVENT
BEGIN:VEVENT
DTSTART;TZID=UTC:20220628T133000
DTEND;TZID=UTC:20220628T133000
DTSTAMP:20260424T161001
CREATED:20220615T111826Z
LAST-MODIFIED:20220615T111928Z
UID:10196-1656423000-1656423000@www.adetca.cat
SUMMARY:Presentació Festival Mozart Nits d'Estiu
DESCRIPTION:Aleix Palau premsa@auditori.cat
URL:https://www.adetca.cat/agenda-event/presentacio-festival-mozart-nits-destiu/
CATEGORIES:RDP
END:VEVENT
BEGIN:VEVENT
DTSTART;TZID=UTC:20220629T110000
DTEND;TZID=UTC:20220629T110000
DTSTAMP:20260424T161001
CREATED:20220531T114233Z
LAST-MODIFIED:20220531T114330Z
UID:10093-1656500400-1656500400@www.adetca.cat
SUMMARY:GREC - Dansa
DESCRIPTION:Neus Masferrer dispers@hotmail.com
URL:https://www.adetca.cat/agenda-event/grec-dansa-2/
CATEGORIES:RDP
END:VEVENT
BEGIN:VEVENT
DTSTART;TZID=UTC:20220629T120000
DTEND;TZID=UTC:20220629T120000
DTSTAMP:20260424T161001
CREATED:20220531T114407Z
LAST-MODIFIED:20220531T114407Z
UID:10096-1656504000-1656504000@www.adetca.cat
SUMMARY:GREC - Internacional
DESCRIPTION:Neus Masferrer dispers@hotmail.com
URL:https://www.adetca.cat/agenda-event/grec-internacional/
CATEGORIES:RDP
END:VEVENT
BEGIN:VEVENT
DTSTART;TZID=UTC:20220629T190000
DTEND;TZID=UTC:20220629T190000
DTSTAMP:20260424T161001
CREATED:20210607T103716Z
LAST-MODIFIED:20220513T091554Z
UID:6885-1656529200-1656529200@www.adetca.cat
SUMMARY:Magdalena Kozena Sir Simon Rattle & Friends
DESCRIPTION:Joana Lladó joana.llado@liceubarcelona.cat
URL:https://www.adetca.cat/agenda-event/magdalena-kozena-sir-simon-friends/
CATEGORIES:EST
END:VEVENT
BEGIN:VEVENT
DTSTART;TZID=UTC:20220629T200000
DTEND;TZID=UTC:20220629T200000
DTSTAMP:20260424T161001
CREATED:20220607T153200Z
LAST-MODIFIED:20220607T153200Z
UID:10152-1656532800-1656532800@www.adetca.cat
SUMMARY:Isadora a l’armari
DESCRIPTION:Fernando Solla premsa@teatreakademia.cat
URL:https://www.adetca.cat/agenda-event/isadora-a-larmari/
CATEGORIES:EST
END:VEVENT
BEGIN:VEVENT
DTSTART;TZID=UTC:20220630T100000
DTEND;TZID=UTC:20220630T100000
DTSTAMP:20260424T161001
CREATED:20220622T113540Z
LAST-MODIFIED:20220622T121328Z
UID:10255-1656583200-1656583200@www.adetca.cat
SUMMARY:Paso a paso
DESCRIPTION:Mariola Montoya comunicacion@grupsmedia.com
URL:https://www.adetca.cat/agenda-event/paso-a-paso/
CATEGORIES:PDG
END:VEVENT
BEGIN:VEVENT
DTSTART;TZID=UTC:20220630T190000
DTEND;TZID=UTC:20220630T190000
DTSTAMP:20260424T161001
CREATED:20210908T094800Z
LAST-MODIFIED:20210908T094800Z
UID:8199-1656615600-1656615600@www.adetca.cat
SUMMARY:Europa Bull
DESCRIPTION:bfornells@tnc.cat
URL:https://www.adetca.cat/agenda-event/europa-bull/
CATEGORIES:EST
END:VEVENT
BEGIN:VEVENT
DTSTART;TZID=UTC:20220630T200000
DTEND;TZID=UTC:20220630T200000
DTSTAMP:20260424T161001
CREATED:20220405T072951Z
LAST-MODIFIED:20220513T092155Z
UID:9779-1656619200-1656619200@www.adetca.cat
SUMMARY:Tartufo
DESCRIPTION:Albert López alopez@publispec.com
URL:https://www.adetca.cat/agenda-event/teatre-goya-2/
CATEGORIES:EST
END:VEVENT
BEGIN:VEVENT
DTSTART;TZID=UTC:20220630T200000
DTEND;TZID=UTC:20220630T200000
DTSTAMP:20260424T161001
CREATED:20220525T160418Z
LAST-MODIFIED:20220526T155326Z
UID:10045-1656619200-1656619200@www.adetca.cat
SUMMARY:L'experiment
DESCRIPTION:Anna Espunya teatre@eolia.cat
URL:https://www.adetca.cat/agenda-event/el-experimento/
CATEGORIES:EST
END:VEVENT
BEGIN:VEVENT
DTSTART;TZID=UTC:20220630T203000
DTEND;TZID=UTC:20220630T203000
DTSTAMP:20260424T161001
CREATED:20220523T145042Z
LAST-MODIFIED:20220523T145446Z
UID:10030-1656621000-1656621000@www.adetca.cat
SUMMARY:Al final les visions
DESCRIPTION:Anna Narbona premsa@salabeckett.cat
URL:https://www.adetca.cat/agenda-event/al-final-les-visisons/
CATEGORIES:EST
END:VEVENT
BEGIN:VEVENT
DTSTART;TZID=UTC:20220701T120000
DTEND;TZID=UTC:20220701T120000
DTSTAMP:20260424T161001
CREATED:20220407T132616Z
LAST-MODIFIED:20220629T064857Z
UID:9813-1656676800-1656676800@www.adetca.cat
SUMMARY:Immunitat
DESCRIPTION:Judit Hernández jhernandez@publispec.com
URL:https://www.adetca.cat/agenda-event/la-villarroel-14/
CATEGORIES:PDG,RDP
END:VEVENT
BEGIN:VEVENT
DTSTART;TZID=UTC:20220701T200000
DTEND;TZID=UTC:20220701T200000
DTSTAMP:20260424T161001
CREATED:20220627T102943Z
LAST-MODIFIED:20220627T102943Z
UID:10277-1656705600-1656705600@www.adetca.cat
SUMMARY:En Bangkok también hay ratas
DESCRIPTION:Muntsa Tur promocio@teatredelraval.com
URL:https://www.adetca.cat/agenda-event/en-bangkok-tambien-hay-ratas/
CATEGORIES:EST
END:VEVENT
BEGIN:VEVENT
DTSTART;TZID=UTC:20220701T210000
DTEND;TZID=UTC:20220701T210000
DTSTAMP:20260424T161001
CREATED:20220617T081819Z
LAST-MODIFIED:20220617T082050Z
UID:10207-1656709200-1656709200@www.adetca.cat
SUMMARY:La invasión de los bárbaros
DESCRIPTION:Joan Galí premsa@teatregaudibarcelona.com
URL:https://www.adetca.cat/agenda-event/la-invasion-de-los-barbaros/
CATEGORIES:EST
END:VEVENT
BEGIN:VEVENT
DTSTART;TZID=UTC:20220704T110000
DTEND;TZID=UTC:20220704T110000
DTSTAMP:20260424T161001
CREATED:20220531T114453Z
LAST-MODIFIED:20220531T114453Z
UID:10098-1656932400-1656932400@www.adetca.cat
SUMMARY:GREC - Internacional II
DESCRIPTION:Neus Masferrer dispers@hotmail.com
URL:https://www.adetca.cat/agenda-event/grec-internacional-ii/
CATEGORIES:RDP
END:VEVENT
BEGIN:VEVENT
DTSTART;TZID=UTC:20220704T120000
DTEND;TZID=UTC:20220704T120000
DTSTAMP:20260424T161001
CREATED:20220531T114530Z
LAST-MODIFIED:20220531T114530Z
UID:10100-1656936000-1656936000@www.adetca.cat
SUMMARY:GREC - Internacional III
DESCRIPTION:Neus Masferrer dispers@hotmail.com
URL:https://www.adetca.cat/agenda-event/grec-internacional-iii/
CATEGORIES:RDP
END:VEVENT
BEGIN:VEVENT
DTSTART;TZID=UTC:20220705T080000
DTEND;TZID=UTC:20220705T170000
DTSTAMP:20260424T161001
CREATED:20220620T130911Z
LAST-MODIFIED:20220620T130911Z
UID:10246-1657008000-1657040400@www.adetca.cat
SUMMARY:Presentació Ballet de Kiev - El llac dels cignes
DESCRIPTION:Sandra Araquistain  sarquis@gmail.com \n\n\n607 22 15 30
URL:https://www.adetca.cat/agenda-event/presentacio-ballet-de-kiev-el-llac-dels-cignes/
CATEGORIES:RDP
END:VEVENT
BEGIN:VEVENT
DTSTART;TZID=UTC:20220705T110000
DTEND;TZID=UTC:20220705T110000
DTSTAMP:20260424T161001
CREATED:20220531T114610Z
LAST-MODIFIED:20220531T114610Z
UID:10102-1657018800-1657018800@www.adetca.cat
SUMMARY:GREC - Internacional IV
DESCRIPTION:Neus Masferrer dispers@hotmail.com
URL:https://www.adetca.cat/agenda-event/grec-internacional-iv/
CATEGORIES:RDP
END:VEVENT
BEGIN:VEVENT
DTSTART;TZID=UTC:20220705T120000
DTEND;TZID=UTC:20220705T120000
DTSTAMP:20260424T161001
CREATED:20220531T114646Z
LAST-MODIFIED:20220531T114646Z
UID:10104-1657022400-1657022400@www.adetca.cat
SUMMARY:GREC - Internacional V
DESCRIPTION:Neus Masferrer dispers@hotmail.com
URL:https://www.adetca.cat/agenda-event/grec-internacional-v/
CATEGORIES:RDP
END:VEVENT
BEGIN:VEVENT
DTSTART;TZID=UTC:20220705T193000
DTEND;TZID=UTC:20220705T193000
DTSTAMP:20260424T161001
CREATED:20220523T145220Z
LAST-MODIFIED:20220523T145555Z
UID:10032-1657049400-1657049400@www.adetca.cat
SUMMARY:Paradís
DESCRIPTION:Anna Narbona premsa@salabeckett.cat
URL:https://www.adetca.cat/agenda-event/paradis/
CATEGORIES:EST
END:VEVENT
BEGIN:VEVENT
DTSTART;TZID=UTC:20220705T200000
DTEND;TZID=UTC:20220705T200000
DTSTAMP:20260424T161001
CREATED:20220609T143802Z
LAST-MODIFIED:20220629T100423Z
UID:10167-1657051200-1657051200@www.adetca.cat
SUMMARY:Esto no es un Banksy (lectura dramatitzada)
DESCRIPTION:Fernando Solla premsa@teatreakademia.cat \n 
URL:https://www.adetca.cat/agenda-event/esto-no-es-un-banksy-lectura-dramatitzada/
CATEGORIES:EST
END:VEVENT
BEGIN:VEVENT
DTSTART;TZID=UTC:20220706T120000
DTEND;TZID=UTC:20220706T120000
DTSTAMP:20260424T161001
CREATED:20210607T104055Z
LAST-MODIFIED:20220629T092524Z
UID:6891-1657108800-1657108800@www.adetca.cat
SUMMARY:Presentació DVD Benet Casablancas
DESCRIPTION:Joana Lladó joana.llado@liceubarcelona.cat
URL:https://www.adetca.cat/agenda-event/norma/
CATEGORIES:RDP
END:VEVENT
BEGIN:VEVENT
DTSTART;TZID=UTC:20220706T180000
DTEND;TZID=UTC:20220706T200000
DTSTAMP:20260424T161001
CREATED:20220628T083728Z
LAST-MODIFIED:20220628T083728Z
UID:10287-1657130400-1657137600@www.adetca.cat
SUMMARY:Presentació Ballet de Kiev - El llac dels cignes
DESCRIPTION:Sandra Araquistain  saraquis@gmail.com \n\n\n607 22 15 30
URL:https://www.adetca.cat/agenda-event/presentacio-ballet-de-kiev-el-llac-dels-cignes-3/
CATEGORIES:PDG
END:VEVENT
BEGIN:VEVENT
DTSTART;TZID=UTC:20220706T200000
DTEND;TZID=UTC:20220706T200000
DTSTAMP:20260424T161001
CREATED:20220405T074706Z
LAST-MODIFIED:20220629T102113Z
UID:9788-1657137600-1657137600@www.adetca.cat
SUMMARY:Immunitat
DESCRIPTION:Judit Hernández jhernandez@publispec.com
URL:https://www.adetca.cat/agenda-event/la-villarroel-11/
CATEGORIES:EST
END:VEVENT
BEGIN:VEVENT
DTSTART;TZID=UTC:20220706T200000
DTEND;TZID=UTC:20220706T200000
DTSTAMP:20260424T161001
CREATED:20220509T150440Z
LAST-MODIFIED:20220509T151449Z
UID:9995-1657137600-1657137600@www.adetca.cat
SUMMARY:Hermafrodites a cavall o la rebel.lió del desig
DESCRIPTION:Anna Candela premsa@tantarantana.com
URL:https://www.adetca.cat/agenda-event/hermafrodites-a-cavall-o-la-rebel-lio-del-desig/
CATEGORIES:EST
END:VEVENT
BEGIN:VEVENT
DTSTART;TZID=UTC:20220706T200000
DTEND;TZID=UTC:20220706T200000
DTSTAMP:20260424T161001
CREATED:20220525T160515Z
LAST-MODIFIED:20220629T102722Z
UID:10047-1657137600-1657137600@www.adetca.cat
SUMMARY:Boja
DESCRIPTION:Anna Espunya teatre@eolia.cat
URL:https://www.adetca.cat/agenda-event/boja/
CATEGORIES:EST
END:VEVENT
BEGIN:VEVENT
DTSTART;TZID=UTC:20220706T200000
DTEND;TZID=UTC:20220706T200000
DTSTAMP:20260424T161001
CREATED:20220609T143848Z
LAST-MODIFIED:20220629T100937Z
UID:10169-1657137600-1657137600@www.adetca.cat
SUMMARY:Axaxaxas Mlö (lectura dramatitzada)
DESCRIPTION:Fernando Solla premsa@teatreakademia.cat \n 
URL:https://www.adetca.cat/agenda-event/axaxaxas-mlo-lectura-dramatitzada/
CATEGORIES:EST
END:VEVENT
BEGIN:VEVENT
DTSTART;TZID=UTC:20220706T200000
DTEND;TZID=UTC:20220706T200000
DTSTAMP:20260424T161001
CREATED:20220620T131014Z
LAST-MODIFIED:20220628T083910Z
UID:10248-1657137600-1657137600@www.adetca.cat
SUMMARY:Ballet de Kiev - El llac dels cignes
DESCRIPTION:Sandra Araquistain  saraquis@gmail.com \n\n\n607 22 15 30
URL:https://www.adetca.cat/agenda-event/presentacio-ballet-de-kiev-el-llac-dels-cignes-2/
CATEGORIES:EST
END:VEVENT
BEGIN:VEVENT
DTSTART;TZID=UTC:20220706T200000
DTEND;TZID=UTC:20220706T200000
DTSTAMP:20260424T161001
CREATED:20220627T103106Z
LAST-MODIFIED:20220627T103235Z
UID:10279-1657137600-1657137600@www.adetca.cat
SUMMARY:Orígens
DESCRIPTION:Muntsa Tur promocio@teatredelraval.com
URL:https://www.adetca.cat/agenda-event/origens/
CATEGORIES:EST
END:VEVENT
BEGIN:VEVENT
DTSTART;TZID=UTC:20220707T113000
DTEND;TZID=UTC:20220707T113000
DTSTAMP:20260424T161001
CREATED:20220504T154849Z
LAST-MODIFIED:20220531T113158Z
UID:9977-1657193400-1657193400@www.adetca.cat
SUMMARY:¡Chakapum!
DESCRIPTION:Andrea Calbet andrea.calbet@elterrat.com \nMaria Permanyer mpermanyer@comedianet.com
URL:https://www.adetca.cat/agenda-event/chakapum/
CATEGORIES:RDP
END:VEVENT
END:VCALENDAR