BEGIN:VCALENDAR
VERSION:2.0
PRODID:-//ADETCA - ECPv6.15.20//NONSGML v1.0//EN
CALSCALE:GREGORIAN
METHOD:PUBLISH
X-WR-CALNAME:ADETCA
X-ORIGINAL-URL:https://www.adetca.cat
X-WR-CALDESC:Esdeveniments per ADETCA
REFRESH-INTERVAL;VALUE=DURATION:PT1H
X-Robots-Tag:noindex
X-PUBLISHED-TTL:PT1H
BEGIN:VTIMEZONE
TZID:UTC
BEGIN:STANDARD
TZOFFSETFROM:+0000
TZOFFSETTO:+0000
TZNAME:UTC
DTSTART:20250101T000000
END:STANDARD
END:VTIMEZONE
BEGIN:VEVENT
DTSTART;TZID=UTC:20260304T120000
DTEND;TZID=UTC:20260304T120000
DTSTAMP:20260421T213511
CREATED:20250724T153214Z
LAST-MODIFIED:20250724T153214Z
UID:21448-1772625600-1772625600@www.adetca.cat
SUMMARY:ZIP
DESCRIPTION:Esther Vendrell – Evendrell@tnc.cat
URL:https://www.adetca.cat/agenda-event/zip/
CATEGORIES:RDP
END:VEVENT
BEGIN:VEVENT
DTSTART;TZID=UTC:20260304T100000
DTEND;TZID=UTC:20260304T100000
DTSTAMP:20260421T213511
CREATED:20260121T093419Z
LAST-MODIFIED:20260121T094726Z
UID:23248-1772618400-1772618400@www.adetca.cat
SUMMARY:Presentació del 71è. Concurs Maria Canals
DESCRIPTION:Anna M. Dávila annamdavila2@gmail.com
URL:https://www.adetca.cat/agenda-event/presentacio-del-71e-concurs-maria-canals/
CATEGORIES:RDP
END:VEVENT
BEGIN:VEVENT
DTSTART;TZID=UTC:20260303T200000
DTEND;TZID=UTC:20260303T203000
DTSTAMP:20260421T213511
CREATED:20250912T091131Z
LAST-MODIFIED:20250912T091131Z
UID:21958-1772568000-1772569800@www.adetca.cat
SUMMARY:Lulú\, primera nit
DESCRIPTION:Rafaela Rivas – premsa@salaversusglories.cat
URL:https://www.adetca.cat/agenda-event/lulu-primera-nit/
CATEGORIES:EST
END:VEVENT
BEGIN:VEVENT
DTSTART;TZID=UTC:20260303T200000
DTEND;TZID=UTC:20260303T200000
DTSTAMP:20260421T213511
CREATED:20250918T082301Z
LAST-MODIFIED:20250918T082301Z
UID:22062-1772568000-1772568000@www.adetca.cat
SUMMARY:Nua
DESCRIPTION:Anna perez aperez@focus.cat
URL:https://www.adetca.cat/agenda-event/nua/
CATEGORIES:EST
END:VEVENT
BEGIN:VEVENT
DTSTART;TZID=UTC:20260303T120000
DTEND;TZID=UTC:20260303T120000
DTSTAMP:20260421T213511
CREATED:20260217T160434Z
LAST-MODIFIED:20260217T160434Z
UID:23486-1772539200-1772539200@www.adetca.cat
SUMMARY:Pinocchio\, o el espectáculo de la paternidad
DESCRIPTION:Fernando Solla premsa@teatreakademia.cat
URL:https://www.adetca.cat/agenda-event/pinocchio-o-el-espectaculo-de-la-paternidad-2/
CATEGORIES:RDP
END:VEVENT
BEGIN:VEVENT
DTSTART;TZID=UTC:20260302T120000
DTEND;TZID=UTC:20260302T120000
DTSTAMP:20260421T213511
CREATED:20250918T114702Z
LAST-MODIFIED:20260220T085402Z
UID:22156-1772452800-1772452800@www.adetca.cat
SUMMARY:La nit de les tríbades
DESCRIPTION:Ariadna Fernández ariadna@lperla29.cat
URL:https://www.adetca.cat/agenda-event/la-nit-de-les-tribades/
CATEGORIES:RDP
END:VEVENT
BEGIN:VEVENT
DTSTART;TZID=UTC:20260301T200000
DTEND;TZID=UTC:20260301T200000
DTSTAMP:20260421T213511
CREATED:20260306T115420Z
LAST-MODIFIED:20260306T115420Z
UID:23639-1772395200-1772395200@www.adetca.cat
SUMMARY:Si fuera una película
DESCRIPTION:Arianna Tanghetti comunicacio@anticteatre.com
URL:https://www.adetca.cat/agenda-event/si-fuera-una-pelicula-2/
CATEGORIES:EST
END:VEVENT
BEGIN:VEVENT
DTSTART;TZID=UTC:20260227T200000
DTEND;TZID=UTC:20260227T200000
DTSTAMP:20260421T213511
CREATED:20251105T094006Z
LAST-MODIFIED:20260217T161021Z
UID:22686-1772222400-1772222400@www.adetca.cat
SUMMARY:Stand up for Giuda
DESCRIPTION:Fernando Solla premsa@teatreakademia.cat
URL:https://www.adetca.cat/agenda-event/stand-up-for-giuda/
CATEGORIES:EST
END:VEVENT
BEGIN:VEVENT
DTSTART;TZID=UTC:20260227T193000
DTEND;TZID=UTC:20260227T193000
DTSTAMP:20260421T213511
CREATED:20250918T113449Z
LAST-MODIFIED:20260129T123003Z
UID:22147-1772220600-1772220600@www.adetca.cat
SUMMARY:En la mesura de l'impossible
DESCRIPTION:Ariadna Fernández ariadna@laperla29.cat
URL:https://www.adetca.cat/agenda-event/en-la-mesura-de-limpossible-2/
CATEGORIES:EST
END:VEVENT
BEGIN:VEVENT
DTSTART;TZID=UTC:20260226T200000
DTEND;TZID=UTC:20260226T200000
DTSTAMP:20260421T213511
CREATED:20260128T132950Z
LAST-MODIFIED:20260128T132950Z
UID:23342-1772136000-1772136000@www.adetca.cat
SUMMARY:Si fuera una película
DESCRIPTION:Arianna Tanghetti comunicacio@anticteatre.com
URL:https://www.adetca.cat/agenda-event/si-fuera-una-pelicula/
CATEGORIES:EST
END:VEVENT
BEGIN:VEVENT
DTSTART;TZID=UTC:20260226T200000
DTEND;TZID=UTC:20260226T200000
DTSTAMP:20260421T213511
CREATED:20250918T092251Z
LAST-MODIFIED:20250918T092251Z
UID:22099-1772136000-1772136000@www.adetca.cat
SUMMARY:Vània
DESCRIPTION:Anna Pérez aperez@focus.cat
URL:https://www.adetca.cat/agenda-event/vania-2/
CATEGORIES:EST
END:VEVENT
BEGIN:VEVENT
DTSTART;TZID=UTC:20260226T193000
DTEND;TZID=UTC:20260226T193000
DTSTAMP:20260421T213511
CREATED:20260122T115151Z
LAST-MODIFIED:20260202T094917Z
UID:23291-1772134200-1772134200@www.adetca.cat
SUMMARY:Weltschmerz (Títol provisional)
DESCRIPTION:Diana Juanpere djuanpere@fundaciojoanbrossa.cat
URL:https://www.adetca.cat/agenda-event/weltschmerz-titol-provisional-2/
CATEGORIES:EST
END:VEVENT
BEGIN:VEVENT
DTSTART;TZID=UTC:20260226T160000
DTEND;TZID=UTC:20260226T160000
DTSTAMP:20260421T213511
CREATED:20260107T114056Z
LAST-MODIFIED:20260114T112233Z
UID:23084-1772121600-1772121600@www.adetca.cat
SUMMARY:Anima
DESCRIPTION:Mima Garriga-mimagarriga@gmail.com
URL:https://www.adetca.cat/agenda-event/anima-6/
CATEGORIES:PDG,RDP
END:VEVENT
BEGIN:VEVENT
DTSTART;TZID=UTC:20260226T110000
DTEND;TZID=UTC:20260226T120000
DTSTAMP:20260421T213511
CREATED:20251204T150854Z
LAST-MODIFIED:20251204T155005Z
UID:22949-1772103600-1772107200@www.adetca.cat
SUMMARY:Presentació de la Tetralogia
DESCRIPTION:Helena Grau helena.grau@liceubarcelona.cat
URL:https://www.adetca.cat/agenda-event/presentacio-de-la-tetralogia/
CATEGORIES:RDP
END:VEVENT
BEGIN:VEVENT
DTSTART;TZID=UTC:20260225T193000
DTEND;TZID=UTC:20260225T193000
DTSTAMP:20260421T213511
CREATED:20260114T110219Z
LAST-MODIFIED:20260114T110219Z
UID:23183-1772047800-1772047800@www.adetca.cat
SUMMARY:Un tall\, dos terços
DESCRIPTION:Núria Amat premsa@salabeckett.cat
URL:https://www.adetca.cat/agenda-event/un-tall-dos-tercos/
CATEGORIES:EST
END:VEVENT
BEGIN:VEVENT
DTSTART;TZID=UTC:20260225T190000
DTEND;TZID=UTC:20260225T190000
DTSTAMP:20260421T213511
CREATED:20250623T092136Z
LAST-MODIFIED:20250627T135421Z
UID:20802-1772046000-1772046000@www.adetca.cat
SUMMARY:Dones valentes
DESCRIPTION:Clàudia Blasquiz – cblasquiz@teatrelliure.com
URL:https://www.adetca.cat/agenda-event/dones-valentes/
CATEGORIES:EST
END:VEVENT
BEGIN:VEVENT
DTSTART;TZID=UTC:20260224T120000
DTEND;TZID=UTC:20260224T120000
DTSTAMP:20260421T213511
CREATED:20260202T142323Z
LAST-MODIFIED:20260205T085622Z
UID:23385-1771934400-1771934400@www.adetca.cat
SUMMARY:En la mesura de l'impossible
DESCRIPTION:Ariadna Fernández ariadna@laperla29.cat \nAnna Novell anovell@laperla29.cat
URL:https://www.adetca.cat/agenda-event/en-la-mesura-de-limpossible-3/
CATEGORIES:RDP
END:VEVENT
BEGIN:VEVENT
DTSTART;TZID=UTC:20260223T103000
DTEND;TZID=UTC:20260223T103000
DTSTAMP:20260421T213511
CREATED:20260126T095344Z
LAST-MODIFIED:20260126T095344Z
UID:23318-1771842600-1771842600@www.adetca.cat
SUMMARY:Sismògraf
DESCRIPTION:Anna Aurich aurich@wearecosmica.com
URL:https://www.adetca.cat/agenda-event/sismograf-3/
CATEGORIES:RDP
END:VEVENT
BEGIN:VEVENT
DTSTART;TZID=UTC:20260220T200000
DTEND;TZID=UTC:20260220T200000
DTSTAMP:20260421T213511
CREATED:20251105T093656Z
LAST-MODIFIED:20251105T093656Z
UID:22683-1771617600-1771617600@www.adetca.cat
SUMMARY:Argo
DESCRIPTION:Fernando Solla premsa@teatreakademia.cat
URL:https://www.adetca.cat/agenda-event/argo/
CATEGORIES:EST
END:VEVENT
BEGIN:VEVENT
DTSTART;TZID=UTC:20260220T180000
DTEND;TZID=UTC:20260220T180000
DTSTAMP:20260421T213511
CREATED:20260122T115028Z
LAST-MODIFIED:20260129T121015Z
UID:23289-1771610400-1771610400@www.adetca.cat
SUMMARY:La Petroquímica
DESCRIPTION:Diana Juanpere djuanpere@fundaciojoanbrossa.cat
URL:https://www.adetca.cat/agenda-event/la-petroquimica/
CATEGORIES:EST
END:VEVENT
BEGIN:VEVENT
DTSTART;TZID=UTC:20260220T103000
DTEND;TZID=UTC:20260220T103000
DTSTAMP:20260421T213511
CREATED:20260114T094357Z
LAST-MODIFIED:20260114T094502Z
UID:23139-1771583400-1771583400@www.adetca.cat
SUMMARY:Tancament UNLOCK THE CITY!
DESCRIPTION:Mar Solà msola@teatrelliure.com
URL:https://www.adetca.cat/agenda-event/tancament-unlock-the-city/
CATEGORIES:RDP
END:VEVENT
BEGIN:VEVENT
DTSTART;TZID=UTC:20260219T200000
DTEND;TZID=UTC:20260219T200000
DTSTAMP:20260421T213511
CREATED:20260128T132820Z
LAST-MODIFIED:20260128T132820Z
UID:23339-1771531200-1771531200@www.adetca.cat
SUMMARY:Hedonia
DESCRIPTION:Arianna Tanghetti comunicacio@anticteatre.com
URL:https://www.adetca.cat/agenda-event/hedonia/
CATEGORIES:EST
END:VEVENT
BEGIN:VEVENT
DTSTART;TZID=UTC:20260219T120000
DTEND;TZID=UTC:20260219T120000
DTSTAMP:20260421T213511
CREATED:20250623T110019Z
LAST-MODIFIED:20260115T105120Z
UID:20882-1771502400-1771502400@www.adetca.cat
SUMMARY:Dones valentes
DESCRIPTION:Clàudia Blasquiz – cblasquiz@teatrelliure.com
URL:https://www.adetca.cat/agenda-event/dones-valentes-2/
CATEGORIES:RDP
END:VEVENT
BEGIN:VEVENT
DTSTART;TZID=UTC:20260219T103000
DTEND;TZID=UTC:20260219T103000
DTSTAMP:20260421T213511
CREATED:20260202T080330Z
LAST-MODIFIED:20260202T080330Z
UID:23369-1771497000-1771497000@www.adetca.cat
SUMMARY:Festival Internacional del Circ de Girona
DESCRIPTION:Marc Gall mgall@comedianet.com
URL:https://www.adetca.cat/agenda-event/festival-internacional-del-circ-de-girona-3/
CATEGORIES:RDP
END:VEVENT
BEGIN:VEVENT
DTSTART;TZID=UTC:20260219T103000
DTEND;TZID=UTC:20260219T103000
DTSTAMP:20260421T213511
CREATED:20250918T092124Z
LAST-MODIFIED:20260203T152408Z
UID:22097-1771497000-1771497000@www.adetca.cat
SUMMARY:Vània
DESCRIPTION:Anna Pérez aperez@focus.cat
URL:https://www.adetca.cat/agenda-event/vania/
CATEGORIES:RDP
END:VEVENT
BEGIN:VEVENT
DTSTART;TZID=UTC:20260218T193000
DTEND;TZID=UTC:20260218T193000
DTSTAMP:20260421T213511
CREATED:20260114T101640Z
LAST-MODIFIED:20260129T120022Z
UID:23143-1771443000-1771443000@www.adetca.cat
SUMMARY:On s'acaba el nom
DESCRIPTION:Marta Cros comunicacio@daualsecartsesceniques.cat
URL:https://www.adetca.cat/agenda-event/on-sacaba-el-nom/
CATEGORIES:EST
END:VEVENT
BEGIN:VEVENT
DTSTART;TZID=UTC:20260218T103000
DTEND;TZID=UTC:20260218T103000
DTSTAMP:20260421T213511
CREATED:20260203T151735Z
LAST-MODIFIED:20260203T151735Z
UID:23388-1771410600-1771410600@www.adetca.cat
SUMMARY:Cicle 'El Mercat no m’ha coproduït encara'
DESCRIPTION:Mercè Ros mros@mercatflors.cat
URL:https://www.adetca.cat/agenda-event/cicle-el-mercat-no-mha-coproduit-encara/
CATEGORIES:RDP
END:VEVENT
BEGIN:VEVENT
DTSTART;TZID=UTC:20260217T120000
DTEND;TZID=UTC:20260217T120000
DTSTAMP:20260421T213511
CREATED:20260205T101423Z
LAST-MODIFIED:20260205T101423Z
UID:23400-1771329600-1771329600@www.adetca.cat
SUMMARY:Un tall\, dos terços i Tendrament
DESCRIPTION:Núria Amat premsa@salabeckett.cat
URL:https://www.adetca.cat/agenda-event/un-tall-dos-tercos-i-tendrament/
CATEGORIES:RDP
END:VEVENT
BEGIN:VEVENT
DTSTART;TZID=UTC:20260217T110000
DTEND;TZID=UTC:20260217T110000
DTSTAMP:20260421T213511
CREATED:20260202T075905Z
LAST-MODIFIED:20260202T075905Z
UID:23367-1771326000-1771326000@www.adetca.cat
SUMMARY:Festival Internacional del Circ de Girona
DESCRIPTION:Marc Gall mgall@comedianet.com
URL:https://www.adetca.cat/agenda-event/festival-internacional-del-circ-de-girona-2/
CATEGORIES:RDP
END:VEVENT
BEGIN:VEVENT
DTSTART;TZID=UTC:20260216T200000
DTEND;TZID=UTC:20260216T200000
DTSTAMP:20260421T213511
CREATED:20251205T125700Z
LAST-MODIFIED:20260209T143155Z
UID:22953-1771272000-1771272000@www.adetca.cat
SUMMARY:20 anys del Polònia
DESCRIPTION:Anna Pujol apujol@minoriaabsoluta.com
URL:https://www.adetca.cat/agenda-event/20-anys-del-polonia/
CATEGORIES:EST
END:VEVENT
END:VCALENDAR