BEGIN:VCALENDAR
VERSION:2.0
PRODID:-//ADETCA - ECPv6.15.20//NONSGML v1.0//EN
CALSCALE:GREGORIAN
METHOD:PUBLISH
X-ORIGINAL-URL:https://www.adetca.cat
X-WR-CALDESC:Esdeveniments per ADETCA
REFRESH-INTERVAL;VALUE=DURATION:PT1H
X-Robots-Tag:noindex
X-PUBLISHED-TTL:PT1H
BEGIN:VTIMEZONE
TZID:UTC
BEGIN:STANDARD
TZOFFSETFROM:+0000
TZOFFSETTO:+0000
TZNAME:UTC
DTSTART:20250101T000000
END:STANDARD
END:VTIMEZONE
BEGIN:VEVENT
DTSTART;TZID=UTC:20260205T110000
DTEND;TZID=UTC:20260205T110000
DTSTAMP:20260422T023816
CREATED:20260120T130640Z
LAST-MODIFIED:20260120T130640Z
UID:23226-1770289200-1770289200@www.adetca.cat
SUMMARY:Jungle de Korea Dance Company
DESCRIPTION:Mercè Ros mros@mercatflors.cat
URL:https://www.adetca.cat/agenda-event/jungle-de-korea-dance-company/
CATEGORIES:RDP
END:VEVENT
BEGIN:VEVENT
DTSTART;TZID=UTC:20260205T100000
DTEND;TZID=UTC:20260205T100000
DTSTAMP:20260422T023816
CREATED:20260122T105240Z
LAST-MODIFIED:20260122T105240Z
UID:23277-1770285600-1770285600@www.adetca.cat
SUMMARY:Esmorzar tancament UNLOCK THE CITY!
DESCRIPTION:Mar sola msola@teatrelliure.com
URL:https://www.adetca.cat/agenda-event/esmorzar-tancament-unlock-the-city/
CATEGORIES:RDP
END:VEVENT
BEGIN:VEVENT
DTSTART;TZID=UTC:20260204T190000
DTEND;TZID=UTC:20260204T190000
DTSTAMP:20260422T023816
CREATED:20250623T075301Z
LAST-MODIFIED:20250623T075301Z
UID:20722-1770231600-1770231600@www.adetca.cat
SUMMARY:La reina lloba
DESCRIPTION:Bernat Fornells – Bfornells@tnc.cat
URL:https://www.adetca.cat/agenda-event/la-reina-lloba/
CATEGORIES:EST
END:VEVENT
BEGIN:VEVENT
DTSTART;TZID=UTC:20260204T120000
DTEND;TZID=UTC:20260204T120000
DTSTAMP:20260422T023816
CREATED:20250918T082005Z
LAST-MODIFIED:20250918T082005Z
UID:22058-1770206400-1770206400@www.adetca.cat
SUMMARY:Els fills
DESCRIPTION:Anna perez aperez@focus.cat
URL:https://www.adetca.cat/agenda-event/els-fills-2/
CATEGORIES:RDP
END:VEVENT
BEGIN:VEVENT
DTSTART;TZID=UTC:20260204T103000
DTEND;TZID=UTC:20260204T103000
DTSTAMP:20260422T023816
CREATED:20250917T125603Z
LAST-MODIFIED:20251113T120152Z
UID:22011-1770201000-1770201000@www.adetca.cat
SUMMARY:L'estiueig
DESCRIPTION:Ester Cànovas ester@elmalda.cat
URL:https://www.adetca.cat/agenda-event/lestiueig-3/
CATEGORIES:RDP
END:VEVENT
BEGIN:VEVENT
DTSTART;TZID=UTC:20260203T193000
DTEND;TZID=UTC:20260203T193000
DTSTAMP:20260422T023816
CREATED:20260107T135447Z
LAST-MODIFIED:20260129T113150Z
UID:23090-1770147000-1770147000@www.adetca.cat
SUMMARY:Una cançó llunyana
DESCRIPTION:Marta Cros comunicacio@daualsecartsesceniques.cat
URL:https://www.adetca.cat/agenda-event/una-canco-llunyana/
CATEGORIES:EST
END:VEVENT
BEGIN:VEVENT
DTSTART;TZID=UTC:20260202T120000
DTEND;TZID=UTC:20260202T120000
DTSTAMP:20260422T023816
CREATED:20250724T152945Z
LAST-MODIFIED:20251216T150401Z
UID:21444-1770033600-1770033600@www.adetca.cat
SUMMARY:La reina lloba
DESCRIPTION:Esther Vendrell – Evendrell@tnc.cat
URL:https://www.adetca.cat/agenda-event/la-reina-lloba-2/
CATEGORIES:RDP
END:VEVENT
BEGIN:VEVENT
DTSTART;TZID=UTC:20260131T193000
DTEND;TZID=UTC:20260131T193000
DTSTAMP:20260422T023816
CREATED:20260122T113136Z
LAST-MODIFIED:20260129T114045Z
UID:23281-1769887800-1769887800@www.adetca.cat
SUMMARY:Altera Pluvvia
DESCRIPTION:Diana Juanpere djuanpere@fundaciojoanbrossa.cat
URL:https://www.adetca.cat/agenda-event/altera-pluvvia/
CATEGORIES:EST
END:VEVENT
BEGIN:VEVENT
DTSTART;TZID=UTC:20260131T170000
DTEND;TZID=UTC:20260131T190000
DTSTAMP:20260422T023816
CREATED:20260122T113911Z
LAST-MODIFIED:20260129T114000Z
UID:23285-1769878800-1769886000@www.adetca.cat
SUMMARY:Exorcismes\, Patrimoni i Performativitat (Accions) - II
DESCRIPTION:Diana Juanpere djuanpere@fundaciojoanbrossa.cat
URL:https://www.adetca.cat/agenda-event/exorcismes-patrimoni-i-performativitat-accions-ii/
CATEGORIES:EST
END:VEVENT
BEGIN:VEVENT
DTSTART;TZID=UTC:20260130T180000
DTEND;TZID=UTC:20260130T180000
DTSTAMP:20260422T023816
CREATED:20251217T150558Z
LAST-MODIFIED:20251217T153505Z
UID:23039-1769796000-1769796000@www.adetca.cat
SUMMARY:L'ombra de Pinotxo
DESCRIPTION:David Muntané coordinacio.lapuntal@gmail.com
URL:https://www.adetca.cat/agenda-event/lombra-de-pinotxo-2/
CATEGORIES:EST
END:VEVENT
BEGIN:VEVENT
DTSTART;TZID=UTC:20260130T130000
DTEND;TZID=UTC:20260130T130000
DTSTAMP:20260422T023816
CREATED:20251204T150655Z
LAST-MODIFIED:20251216T100018Z
UID:22947-1769778000-1769778000@www.adetca.cat
SUMMARY:Presentació Jonathan Nott
DESCRIPTION:Helena Grau helena.grau@liceubarcelona.cat
URL:https://www.adetca.cat/agenda-event/presentacio-jonathan-nott/
CATEGORIES:RDP
END:VEVENT
BEGIN:VEVENT
DTSTART;TZID=UTC:20260129T200000
DTEND;TZID=UTC:20260129T200000
DTSTAMP:20260422T023816
CREATED:20251230T122802Z
LAST-MODIFIED:20251230T122802Z
UID:23065-1769716800-1769716800@www.adetca.cat
SUMMARY:Gossis
DESCRIPTION:Arianna Tanghetti comunicacio@anticteatre.com
URL:https://www.adetca.cat/agenda-event/gossis/
CATEGORIES:EST
END:VEVENT
BEGIN:VEVENT
DTSTART;TZID=UTC:20260129T190000
DTEND;TZID=UTC:20260129T190000
DTSTAMP:20260422T023816
CREATED:20251230T082603Z
LAST-MODIFIED:20260105T125950Z
UID:23058-1769713200-1769713200@www.adetca.cat
SUMMARY:Dipòsit ple
DESCRIPTION:Anna Carreño anna.grascarreno@gmail.com
URL:https://www.adetca.cat/agenda-event/diposit-ple/
CATEGORIES:EST
END:VEVENT
BEGIN:VEVENT
DTSTART;TZID=UTC:20260129T120000
DTEND;TZID=UTC:20260129T120000
DTSTAMP:20260422T023816
CREATED:20250623T105544Z
LAST-MODIFIED:20251128T121720Z
UID:20874-1769688000-1769688000@www.adetca.cat
SUMMARY:El barquer
DESCRIPTION:Clàudia Blasquiz – cblasquiz@teatrelliure.com
URL:https://www.adetca.cat/agenda-event/el-barquer-2/
CATEGORIES:RDP
END:VEVENT
BEGIN:VEVENT
DTSTART;TZID=UTC:20260128T200000
DTEND;TZID=UTC:20260128T203000
DTSTAMP:20260422T023816
CREATED:20250912T090741Z
LAST-MODIFIED:20250912T090741Z
UID:21954-1769630400-1769632200@www.adetca.cat
SUMMARY:La mare\, el dimoni i jo
DESCRIPTION:Rafaela Rivas – premsa@salaversusglories.cat
URL:https://www.adetca.cat/agenda-event/la-mare-el-dimoni-i-jo/
CATEGORIES:EST
END:VEVENT
BEGIN:VEVENT
DTSTART;TZID=UTC:20260128T200000
DTEND;TZID=UTC:20260128T200000
DTSTAMP:20260422T023816
CREATED:20260111T213728Z
LAST-MODIFIED:20260111T213728Z
UID:23099-1769630400-1769630400@www.adetca.cat
SUMMARY:Com vaig aprendre a conduir
DESCRIPTION:Núria Amat prema@salabeckett.cat
URL:https://www.adetca.cat/agenda-event/com-vaig-aprendre-a-conduir/
CATEGORIES:EST
END:VEVENT
BEGIN:VEVENT
DTSTART;TZID=UTC:20260126T200000
DTEND;TZID=UTC:20260126T200000
DTSTAMP:20260422T023816
CREATED:20250918T081403Z
LAST-MODIFIED:20250918T081403Z
UID:22054-1769457600-1769457600@www.adetca.cat
SUMMARY:Seré
DESCRIPTION:Anna perez aperez@focus.cat
URL:https://www.adetca.cat/agenda-event/sere/
CATEGORIES:EST
END:VEVENT
BEGIN:VEVENT
DTSTART;TZID=UTC:20260124T193000
DTEND;TZID=UTC:20260124T193000
DTSTAMP:20260422T023816
CREATED:20260122T112554Z
LAST-MODIFIED:20260122T112554Z
UID:23279-1769283000-1769283000@www.adetca.cat
SUMMARY:Reflectir a Brossa
DESCRIPTION:Diana Juanpere djuanpere@fundaciojoanbrossa.cat
URL:https://www.adetca.cat/agenda-event/reflectir-a-brossa/
CATEGORIES:EST
END:VEVENT
BEGIN:VEVENT
DTSTART;TZID=UTC:20260124T170000
DTEND;TZID=UTC:20260124T190000
DTSTAMP:20260422T023816
CREATED:20260122T113646Z
LAST-MODIFIED:20260122T113646Z
UID:23283-1769274000-1769281200@www.adetca.cat
SUMMARY:Exorcismes\, Patrimoni i Performativitat (Accions) -1
DESCRIPTION:Diana Juanpere djuanpere@fundaciojoanbrossa.cat
URL:https://www.adetca.cat/agenda-event/exorcismes-patrimoni-i-performativitat-accions-1/
CATEGORIES:EST
END:VEVENT
BEGIN:VEVENT
DTSTART;TZID=UTC:20260123T190000
DTEND;TZID=UTC:20260123T190000
DTSTAMP:20260422T023816
CREATED:20250623T091724Z
LAST-MODIFIED:20250627T135756Z
UID:20795-1769194800-1769194800@www.adetca.cat
SUMMARY:Riure caníbal
DESCRIPTION:Clàudia Blasquiz – cblasquiz@teatrelliure.com
URL:https://www.adetca.cat/agenda-event/riure-canibal/
CATEGORIES:EST
END:VEVENT
BEGIN:VEVENT
DTSTART;TZID=UTC:20260123T180000
DTEND;TZID=UTC:20260123T180000
DTSTAMP:20260422T023816
CREATED:20251217T150429Z
LAST-MODIFIED:20251217T150429Z
UID:23036-1769191200-1769191200@www.adetca.cat
SUMMARY:Los tres cerditos
DESCRIPTION:David Muntané coordinacio.lapuntal@gmail.com
URL:https://www.adetca.cat/agenda-event/los-tres-cerditos/
CATEGORIES:EST
END:VEVENT
BEGIN:VEVENT
DTSTART;TZID=UTC:20260123T113000
DTEND;TZID=UTC:20260123T113000
DTSTAMP:20260422T023816
CREATED:20260106T161950Z
LAST-MODIFIED:20260106T161950Z
UID:23078-1769167800-1769167800@www.adetca.cat
SUMMARY:Concert inaugural Barnasants
DESCRIPTION:Marc Gall mgall@comedianet.com
URL:https://www.adetca.cat/agenda-event/concert-inaugural-barnasants/
CATEGORIES:EST
END:VEVENT
BEGIN:VEVENT
DTSTART;TZID=UTC:20260122T200000
DTEND;TZID=UTC:20260122T200000
DTSTAMP:20260422T023816
CREATED:20251230T122701Z
LAST-MODIFIED:20251230T122701Z
UID:23063-1769112000-1769112000@www.adetca.cat
SUMMARY:F.U.M.
DESCRIPTION:Arianna Tanghetti comunicacio@anticteatre.com
URL:https://www.adetca.cat/agenda-event/f-u-m/
CATEGORIES:EST
END:VEVENT
BEGIN:VEVENT
DTSTART;TZID=UTC:20260122T193000
DTEND;TZID=UTC:20260122T193000
DTSTAMP:20260422T023816
CREATED:20260119T081025Z
LAST-MODIFIED:20260119T081025Z
UID:23215-1769110200-1769110200@www.adetca.cat
SUMMARY:Lluites i metamorfosis d'una dona
DESCRIPTION:Marc Gall mgall@comedianet.com
URL:https://www.adetca.cat/agenda-event/lluites-i-metamorfosis-duna-dona-3/
CATEGORIES:EST
END:VEVENT
BEGIN:VEVENT
DTSTART;TZID=UTC:20260122T190000
DTEND;TZID=UTC:20260122T190000
DTSTAMP:20260422T023816
CREATED:20250623T075150Z
LAST-MODIFIED:20250623T075150Z
UID:20720-1769108400-1769108400@www.adetca.cat
SUMMARY:Maria Magdalena
DESCRIPTION:Bernat Fornells – Bfornells@tnc.cat
URL:https://www.adetca.cat/agenda-event/maria-magdalena/
CATEGORIES:EST
END:VEVENT
BEGIN:VEVENT
DTSTART;TZID=UTC:20260121T200000
DTEND;TZID=UTC:20260121T200000
DTSTAMP:20260422T023816
CREATED:20251105T092927Z
LAST-MODIFIED:20251105T093539Z
UID:22681-1769025600-1769025600@www.adetca.cat
SUMMARY:Els objectes flotants (Després de la tempesta)
DESCRIPTION:Fernando Solla premsa@teatreakademia.cat
URL:https://www.adetca.cat/agenda-event/els-objectes-flotants-despres-de-la-tempesta/
CATEGORIES:EST
END:VEVENT
BEGIN:VEVENT
DTSTART;TZID=UTC:20260121T193000
DTEND;TZID=UTC:20260121T193000
DTSTAMP:20260422T023816
CREATED:20260119T080942Z
LAST-MODIFIED:20260119T080942Z
UID:23213-1769023800-1769023800@www.adetca.cat
SUMMARY:Lluites i metamorfosis d'una dona
DESCRIPTION:Marc Gall mgall@comedianet.com
URL:https://www.adetca.cat/agenda-event/lluites-i-metamorfosis-duna-dona-2/
CATEGORIES:EST
END:VEVENT
BEGIN:VEVENT
DTSTART;TZID=UTC:20260121T190000
DTEND;TZID=UTC:20260121T190000
DTSTAMP:20260422T023816
CREATED:20250623T091558Z
LAST-MODIFIED:20250627T135918Z
UID:20793-1769022000-1769022000@www.adetca.cat
SUMMARY:La distance
DESCRIPTION:Clàudia Blasquiz – cblasquiz@teatrelliure.com
URL:https://www.adetca.cat/agenda-event/la-distance/
CATEGORIES:EST
END:VEVENT
BEGIN:VEVENT
DTSTART;TZID=UTC:20260121T110000
DTEND;TZID=UTC:20260121T110000
DTSTAMP:20260422T023816
CREATED:20260119T075538Z
LAST-MODIFIED:20260119T080804Z
UID:23207-1768993200-1768993200@www.adetca.cat
SUMMARY:Lluites i metamorfosis d'una dona
DESCRIPTION:Marc Gall mgall@comedianet.com
URL:https://www.adetca.cat/agenda-event/lluites-i-metamorfosis-duna-dona/
CATEGORIES:PDG,RDP
END:VEVENT
BEGIN:VEVENT
DTSTART;TZID=UTC:20260121T103000
DTEND;TZID=UTC:20260121T103000
DTSTAMP:20260422T023816
CREATED:20260113T143826Z
LAST-MODIFIED:20260113T145032Z
UID:23130-1768991400-1768991400@www.adetca.cat
SUMMARY:OUI! festival de teatre en francès de Barcelona
DESCRIPTION:Franços Vila francoisvila@gmail.com
URL:https://www.adetca.cat/agenda-event/oui-festival-de-teatre-en-frances-de-barcelona-2/
CATEGORIES:RDP
END:VEVENT
END:VCALENDAR