BEGIN:VCALENDAR
VERSION:2.0
PRODID:-//ADETCA - ECPv6.15.20//NONSGML v1.0//EN
CALSCALE:GREGORIAN
METHOD:PUBLISH
X-WR-CALNAME:ADETCA
X-ORIGINAL-URL:https://www.adetca.cat
X-WR-CALDESC:Esdeveniments per ADETCA
REFRESH-INTERVAL;VALUE=DURATION:PT1H
X-Robots-Tag:noindex
X-PUBLISHED-TTL:PT1H
BEGIN:VTIMEZONE
TZID:UTC
BEGIN:STANDARD
TZOFFSETFROM:+0000
TZOFFSETTO:+0000
TZNAME:UTC
DTSTART:20240101T000000
END:STANDARD
END:VTIMEZONE
BEGIN:VEVENT
DTSTART;TZID=UTC:20251216T200000
DTEND;TZID=UTC:20251216T200000
DTSTAMP:20260422T101929
CREATED:20251105T092719Z
LAST-MODIFIED:20251105T092719Z
UID:22679-1765915200-1765915200@www.adetca.cat
SUMMARY:Honestedat
DESCRIPTION:Fernando Solla premsa@teatreakademia.cat
URL:https://www.adetca.cat/agenda-event/honestedat/
CATEGORIES:EST
END:VEVENT
BEGIN:VEVENT
DTSTART;TZID=UTC:20251216T200000
DTEND;TZID=UTC:20251216T200000
DTSTAMP:20260422T101929
CREATED:20250917T124817Z
LAST-MODIFIED:20250917T124817Z
UID:22001-1765915200-1765915200@www.adetca.cat
SUMMARY:Nadales
DESCRIPTION:Ester Cànovas ester@elmalda.cat
URL:https://www.adetca.cat/agenda-event/nadales-3/
CATEGORIES:EST
END:VEVENT
BEGIN:VEVENT
DTSTART;TZID=UTC:20251216T193000
DTEND;TZID=UTC:20251216T193000
DTSTAMP:20260422T101929
CREATED:20251128T074710Z
LAST-MODIFIED:20251128T080528Z
UID:22909-1765913400-1765913400@www.adetca.cat
SUMMARY:Una casa en la montaña
DESCRIPTION:Jànaba Bah comunicacio@heartbreakhotel.cat
URL:https://www.adetca.cat/agenda-event/una-casa-en-la-montana/
CATEGORIES:EST
END:VEVENT
BEGIN:VEVENT
DTSTART;TZID=UTC:20251216T190000
DTEND;TZID=UTC:20251216T190000
DTSTAMP:20260422T101929
CREATED:20250731T085035Z
LAST-MODIFIED:20251106T143433Z
UID:21611-1765911600-1765911600@www.adetca.cat
SUMMARY:Casa calores
DESCRIPTION:Núria Amat premsa@salabeckett.cat
URL:https://www.adetca.cat/agenda-event/casa-calores/
CATEGORIES:EST
END:VEVENT
BEGIN:VEVENT
DTSTART;TZID=UTC:20251215T200000
DTEND;TZID=UTC:20251215T203000
DTSTAMP:20260422T101929
CREATED:20250912T090554Z
LAST-MODIFIED:20251118T093725Z
UID:21952-1765828800-1765830600@www.adetca.cat
SUMMARY:La torradora
DESCRIPTION:Rafaela Rivas – premsa@salaversusglories.cat
URL:https://www.adetca.cat/agenda-event/la-torradora/
CATEGORIES:EST
END:VEVENT
BEGIN:VEVENT
DTSTART;TZID=UTC:20251212T180000
DTEND;TZID=UTC:20251212T180000
DTSTAMP:20260422T101929
CREATED:20251105T100433Z
LAST-MODIFIED:20251105T100700Z
UID:22238-1765562400-1765562400@www.adetca.cat
SUMMARY:La cigala i la formiga
DESCRIPTION:David Muntané coordinacio.lapuntual@gmail.com
URL:https://www.adetca.cat/agenda-event/laneguet-lleig-3/
CATEGORIES:EST
END:VEVENT
BEGIN:VEVENT
DTSTART;TZID=UTC:20251212T180000
DTEND;TZID=UTC:20251212T180000
DTSTAMP:20260422T101929
CREATED:20251031T125725Z
LAST-MODIFIED:20251031T133304Z
UID:22643-1765562400-1765562400@www.adetca.cat
SUMMARY:Mapa caníbal
DESCRIPTION:Diana Juanpere: djuanpere@fundaciojoanbrossa.cat
URL:https://www.adetca.cat/agenda-event/mapa-canibal/
CATEGORIES:EST
END:VEVENT
BEGIN:VEVENT
DTSTART;TZID=UTC:20251212T123000
DTEND;TZID=UTC:20251212T123000
DTSTAMP:20260422T101929
CREATED:20250918T083323Z
LAST-MODIFIED:20251205T114301Z
UID:22076-1765542600-1765542600@www.adetca.cat
SUMMARY:Germans de sang
DESCRIPTION:Anna perez aperez@focus.cat
URL:https://www.adetca.cat/agenda-event/germans-de-sang-2/
CATEGORIES:PDG,RDP
END:VEVENT
BEGIN:VEVENT
DTSTART;TZID=UTC:20251211T200000
DTEND;TZID=UTC:20251211T200000
DTSTAMP:20260422T101929
CREATED:20251201T115012Z
LAST-MODIFIED:20251201T115012Z
UID:22922-1765483200-1765483200@www.adetca.cat
SUMMARY:Adeus
DESCRIPTION:Arianna Tanghetti comunicacio@anticteatre.com
URL:https://www.adetca.cat/agenda-event/adeus/
CATEGORIES:EST
END:VEVENT
BEGIN:VEVENT
DTSTART;TZID=UTC:20251211T200000
DTEND;TZID=UTC:20251211T200000
DTSTAMP:20260422T101929
CREATED:20251105T144850Z
LAST-MODIFIED:20251105T144850Z
UID:22719-1765483200-1765483200@www.adetca.cat
SUMMARY:El parc
DESCRIPTION:Jordi Araz contractacio@aquitaniateatre.es
URL:https://www.adetca.cat/agenda-event/el-parc/
CATEGORIES:EST
END:VEVENT
BEGIN:VEVENT
DTSTART;TZID=UTC:20251211T193000
DTEND;TZID=UTC:20251211T193000
DTSTAMP:20260422T101929
CREATED:20251031T125555Z
LAST-MODIFIED:20251031T125555Z
UID:22640-1765481400-1765481400@www.adetca.cat
SUMMARY:Manual per a éssers vius
DESCRIPTION:Diana Juanpere: djuanpere@fundaciojoanbrossa.cat
URL:https://www.adetca.cat/agenda-event/manual-per-a-essers-vius/
CATEGORIES:EST
END:VEVENT
BEGIN:VEVENT
DTSTART;TZID=UTC:20251211T120000
DTEND;TZID=UTC:20251211T120000
DTSTAMP:20260422T101929
CREATED:20250724T152134Z
LAST-MODIFIED:20251118T115531Z
UID:21434-1765454400-1765454400@www.adetca.cat
SUMMARY:Jambo Bwana (TA)
DESCRIPTION:Esther Vendrell – Evendrell@tnc.cat
URL:https://www.adetca.cat/agenda-event/jambo-bwana-ta-2/
CATEGORIES:RDP
END:VEVENT
BEGIN:VEVENT
DTSTART;TZID=UTC:20251210T200000
DTEND;TZID=UTC:20251210T200000
DTSTAMP:20260422T101929
CREATED:20251113T115518Z
LAST-MODIFIED:20251113T115518Z
UID:22756-1765396800-1765396800@www.adetca.cat
SUMMARY:El Cascanueces - Ballet de Kiev
DESCRIPTION:Sandra Araquistain saraquis@gmail.com
URL:https://www.adetca.cat/agenda-event/el-cascanueces-ballet-de-kiev-2/
CATEGORIES:EST
END:VEVENT
BEGIN:VEVENT
DTSTART;TZID=UTC:20251210T170000
DTEND;TZID=UTC:20251210T170000
DTSTAMP:20260422T101929
CREATED:20251113T115207Z
LAST-MODIFIED:20251203T123511Z
UID:22754-1765386000-1765386000@www.adetca.cat
SUMMARY:El Cascanueces - Ballet de Kiev
DESCRIPTION:Sandra Araquistain saraquis@gmail.com
URL:https://www.adetca.cat/agenda-event/el-cascanueces-ballet-de-kiev/
CATEGORIES:PDG
END:VEVENT
BEGIN:VEVENT
DTSTART;TZID=UTC:20251210T123000
DTEND;TZID=UTC:20251210T123000
DTSTAMP:20260422T101929
CREATED:20251113T121152Z
LAST-MODIFIED:20251113T121152Z
UID:22762-1765369800-1765369800@www.adetca.cat
SUMMARY:Presentació 3a edició CAP BUTACA BUIDA
DESCRIPTION:
URL:https://www.adetca.cat/agenda-event/presentacio-3a-edicio-cap-butaca-buida/
CATEGORIES:RDP
END:VEVENT
BEGIN:VEVENT
DTSTART;TZID=UTC:20251210T120000
DTEND;TZID=UTC:20251210T120000
DTSTAMP:20260422T101929
CREATED:20250930T080014Z
LAST-MODIFIED:20251001T074550Z
UID:22351-1765368000-1765368000@www.adetca.cat
SUMMARY:Circ d'Hivern
DESCRIPTION:Aloma Vilamala aloma@tremenda.cat
URL:https://www.adetca.cat/agenda-event/circ-dhivern/
CATEGORIES:RDP
END:VEVENT
BEGIN:VEVENT
DTSTART;TZID=UTC:20251210T103000
DTEND;TZID=UTC:20251210T113000
DTSTAMP:20260422T101929
CREATED:20251009T102900Z
LAST-MODIFIED:20251126T134814Z
UID:22455-1765362600-1765366200@www.adetca.cat
SUMMARY:Mago Pop
DESCRIPTION:El Mago Pop
URL:https://www.adetca.cat/agenda-event/mago-pop/
CATEGORIES:RDP
END:VEVENT
BEGIN:VEVENT
DTSTART;TZID=UTC:20251209T200000
DTEND;TZID=UTC:20251209T200000
DTSTAMP:20260422T101929
CREATED:20251124T101820Z
LAST-MODIFIED:20251124T101820Z
UID:22866-1765310400-1765310400@www.adetca.cat
SUMMARY:Dirty Crusty
DESCRIPTION:Àlex Bargalló comunicacio@atrium.cat
URL:https://www.adetca.cat/agenda-event/dirty-crusty/
CATEGORIES:EST
END:VEVENT
BEGIN:VEVENT
DTSTART;TZID=UTC:20251209T170000
DTEND;TZID=UTC:20251209T170000
DTSTAMP:20260422T101929
CREATED:20251105T090216Z
LAST-MODIFIED:20251105T090216Z
UID:22670-1765299600-1765299600@www.adetca.cat
SUMMARY:Presentació Geronimo Stilton Live
DESCRIPTION:Maria Permanyer mpermanyer@layersofrality.com
URL:https://www.adetca.cat/agenda-event/presentacio-geronimo-stilton-live/
CATEGORIES:RDP
END:VEVENT
BEGIN:VEVENT
DTSTART;TZID=UTC:20251209T130000
DTEND;TZID=UTC:20251209T130000
DTSTAMP:20260422T101929
CREATED:20251118T094134Z
LAST-MODIFIED:20251120T135649Z
UID:22779-1765285200-1765285200@www.adetca.cat
SUMMARY:La ratonera
DESCRIPTION:Cristina Alda comunicacion@gruposmedia.com
URL:https://www.adetca.cat/agenda-event/la-ratonera/
CATEGORIES:RDP
END:VEVENT
BEGIN:VEVENT
DTSTART;TZID=UTC:20251209T120000
DTEND;TZID=UTC:20251209T120000
DTSTAMP:20260422T101929
CREATED:20251105T090051Z
LAST-MODIFIED:20251105T090641Z
UID:22667-1765281600-1765281600@www.adetca.cat
SUMMARY:Geronimo Stilton Live
DESCRIPTION:Maria Permanyer mpermanyer@layersofrality.com
URL:https://www.adetca.cat/agenda-event/geronimo-stilton-live/
CATEGORIES:PDG
END:VEVENT
BEGIN:VEVENT
DTSTART;TZID=UTC:20251208T200000
DTEND;TZID=UTC:20251208T200000
DTSTAMP:20260422T101929
CREATED:20251006T132004Z
LAST-MODIFIED:20251231T100848Z
UID:22430-1765224000-1765224000@www.adetca.cat
SUMMARY:Avui no ploraré
DESCRIPTION:Anna Pérez aperez@focus.cat
URL:https://www.adetca.cat/agenda-event/avui-no-plorare/
CATEGORIES:EST
END:VEVENT
BEGIN:VEVENT
DTSTART;TZID=UTC:20251206T170000
DTEND;TZID=UTC:20251206T170000
DTSTAMP:20260422T101929
CREATED:20250623T074736Z
LAST-MODIFIED:20250623T083751Z
UID:20714-1765040400-1765040400@www.adetca.cat
SUMMARY:Sigues tortuga
DESCRIPTION:Bernat Fornells – Bfornells@tnc.cat
URL:https://www.adetca.cat/agenda-event/sigues-tortuga/
CATEGORIES:EST
END:VEVENT
BEGIN:VEVENT
DTSTART;TZID=UTC:20251205T200000
DTEND;TZID=UTC:20251205T200000
DTSTAMP:20260422T101929
CREATED:20251124T075153Z
LAST-MODIFIED:20251124T075153Z
UID:22859-1764964800-1764964800@www.adetca.cat
SUMMARY:Nou espectacle Circ Raluy
DESCRIPTION:Marc Gall mgall@comedianet.com
URL:https://www.adetca.cat/agenda-event/nou-espectacle-circ-raluy/
CATEGORIES:EST
END:VEVENT
BEGIN:VEVENT
DTSTART;TZID=UTC:20251205T120000
DTEND;TZID=UTC:20251205T120000
DTSTAMP:20260422T101929
CREATED:20251119T105031Z
LAST-MODIFIED:20251119T105131Z
UID:22796-1764936000-1764936000@www.adetca.cat
SUMMARY:Festival de cultura urbana HOP
DESCRIPTION:Mercè Ros mros@mercatflors.cat
URL:https://www.adetca.cat/agenda-event/festival-de-cultura-urbana-hop/
CATEGORIES:RDP
END:VEVENT
BEGIN:VEVENT
DTSTART;TZID=UTC:20251205T110000
DTEND;TZID=UTC:20251205T110000
DTSTAMP:20260422T101929
CREATED:20251118T101918Z
LAST-MODIFIED:20251118T110900Z
UID:22781-1764932400-1764932400@www.adetca.cat
SUMMARY:Bach – Dostoievski – Messiaen
DESCRIPTION:Paula pairó ppairocortada@gmail.com
URL:https://www.adetca.cat/agenda-event/bach-dostoievski-messiaen/
CATEGORIES:RDP
END:VEVENT
BEGIN:VEVENT
DTSTART;TZID=UTC:20251204T200000
DTEND;TZID=UTC:20251204T200000
DTSTAMP:20260422T101929
CREATED:20250718T095451Z
LAST-MODIFIED:20251111T140347Z
UID:21368-1764878400-1764878400@www.adetca.cat
SUMMARY:La maternitat d'Elna
DESCRIPTION:Anna Espunya teatre@eolia.cat
URL:https://www.adetca.cat/agenda-event/la-maternitat-delna-4/
CATEGORIES:EST
END:VEVENT
BEGIN:VEVENT
DTSTART;TZID=UTC:20251204T190000
DTEND;TZID=UTC:20251204T190000
DTSTAMP:20260422T101929
CREATED:20250623T091018Z
LAST-MODIFIED:20250627T140328Z
UID:20785-1764874800-1764874800@www.adetca.cat
SUMMARY:Ai! La Misèria ens farà feliços
DESCRIPTION:Clàudia Blasquiz – cblasquiz@teatrelliure.com
URL:https://www.adetca.cat/agenda-event/ai-la-miseria-ens-fara-felicos/
CATEGORIES:EST
END:VEVENT
BEGIN:VEVENT
DTSTART;TZID=UTC:20251204T120000
DTEND;TZID=UTC:20251204T120000
DTSTAMP:20260422T101929
CREATED:20250724T135512Z
LAST-MODIFIED:20251103T143800Z
UID:21410-1764849600-1764849600@www.adetca.cat
SUMMARY:Avui no ploraré
DESCRIPTION:Bàrbara Branco barbara@tremenda.cat \nEugènia Berga: eugenia@bito.pro
URL:https://www.adetca.cat/agenda-event/avui-no-plorare-2/
CATEGORIES:RDP
END:VEVENT
BEGIN:VEVENT
DTSTART;TZID=UTC:20251204T103000
DTEND;TZID=UTC:20251204T103000
DTSTAMP:20260422T101929
CREATED:20250728T085806Z
LAST-MODIFIED:20250728T085806Z
UID:21513-1764844200-1764844200@www.adetca.cat
SUMMARY:Nadal al Palau
DESCRIPTION:Imma Anglès iangles@palaumusica.cat
URL:https://www.adetca.cat/agenda-event/nadal-al-palau-3/
CATEGORIES:RDP
END:VEVENT
END:VCALENDAR