BEGIN:VCALENDAR
VERSION:2.0
PRODID:-//ADETCA - ECPv6.15.20//NONSGML v1.0//EN
CALSCALE:GREGORIAN
METHOD:PUBLISH
X-WR-CALNAME:ADETCA
X-ORIGINAL-URL:https://www.adetca.cat
X-WR-CALDESC:Esdeveniments per ADETCA
REFRESH-INTERVAL;VALUE=DURATION:PT1H
X-Robots-Tag:noindex
X-PUBLISHED-TTL:PT1H
BEGIN:VTIMEZONE
TZID:UTC
BEGIN:STANDARD
TZOFFSETFROM:+0000
TZOFFSETTO:+0000
TZNAME:UTC
DTSTART:20240101T000000
END:STANDARD
END:VTIMEZONE
BEGIN:VEVENT
DTSTART;TZID=UTC:20251119T193000
DTEND;TZID=UTC:20251119T193000
DTSTAMP:20260422T165627
CREATED:20250918T112821Z
LAST-MODIFIED:20250918T112821Z
UID:22134-1763580600-1763580600@www.adetca.cat
SUMMARY:Natale in Casa Cupiello
DESCRIPTION:Ariadna Fernández ariadna@laperla29.cat
URL:https://www.adetca.cat/agenda-event/natale-in-casa-cupiello-3/
CATEGORIES:EST
END:VEVENT
BEGIN:VEVENT
DTSTART;TZID=UTC:20251119T100000
DTEND;TZID=UTC:20251119T100000
DTSTAMP:20260422T165627
CREATED:20251114T170346Z
LAST-MODIFIED:20251114T170346Z
UID:22771-1763546400-1763546400@www.adetca.cat
SUMMARY:Big Bang i Ayoub de Marina Otero 
DESCRIPTION:Paula Pairó ppairocortada@gmail.com
URL:https://www.adetca.cat/agenda-event/big-bang-i-ayoub-de-marina-otero/
CATEGORIES:RDP
END:VEVENT
BEGIN:VEVENT
DTSTART;TZID=UTC:20251118T120000
DTEND;TZID=UTC:20251118T120000
DTSTAMP:20260422T165627
CREATED:20250623T103837Z
LAST-MODIFIED:20251001T112116Z
UID:20847-1763467200-1763467200@www.adetca.cat
SUMMARY:El día del Watusi
DESCRIPTION:Clàudia Blasquiz – cblasquiz@teatrelliure.com
URL:https://www.adetca.cat/agenda-event/el-dia-del-watusi-4/
CATEGORIES:RDP
END:VEVENT
BEGIN:VEVENT
DTSTART;TZID=UTC:20251117T200000
DTEND;TZID=UTC:20251117T200000
DTSTAMP:20260422T165627
CREATED:20250911T155420Z
LAST-MODIFIED:20250911T155420Z
UID:21912-1763409600-1763409600@www.adetca.cat
SUMMARY:Gala Premis Butaca
DESCRIPTION:Marc Gall mgall@comedianet.com
URL:https://www.adetca.cat/agenda-event/gala-premis-butaca-3/
CATEGORIES:EST
END:VEVENT
BEGIN:VEVENT
DTSTART;TZID=UTC:20251117T120000
DTEND;TZID=UTC:20251117T120000
DTSTAMP:20260422T165627
CREATED:20251105T091131Z
LAST-MODIFIED:20251105T091131Z
UID:22674-1763380800-1763380800@www.adetca.cat
SUMMARY:Documental 'Qui som? (Salvador Sunyer)'
DESCRIPTION:Bàrbara Branco brabara@tremenda.cat
URL:https://www.adetca.cat/agenda-event/documental-qui-som-salvador-sunyer/
CATEGORIES:RDP
END:VEVENT
BEGIN:VEVENT
DTSTART;TZID=UTC:20251117T100000
DTEND;TZID=UTC:20251117T100000
DTSTAMP:20260422T165627
CREATED:20251105T091002Z
LAST-MODIFIED:20251105T091517Z
UID:22672-1763373600-1763373600@www.adetca.cat
SUMMARY:Passi Documental 'Qui som? (Salvador Sunyer)'
DESCRIPTION:Bàrbara Branco brabara@tremenda.cat
URL:https://www.adetca.cat/agenda-event/passi-documental-qui-som-salvador-sunyer/
CATEGORIES:EST
END:VEVENT
BEGIN:VEVENT
DTSTART;TZID=UTC:20251116T120000
DTEND;TZID=UTC:20251116T193000
DTSTAMP:20260422T165627
CREATED:20251030T162542Z
LAST-MODIFIED:20251030T162542Z
UID:22627-1763294400-1763321400@www.adetca.cat
SUMMARY:C.U.L
DESCRIPTION:Diana Juanpere djuanpere@fundaciojoanbrossa.cat
URL:https://www.adetca.cat/agenda-event/c-u-l/
CATEGORIES:EST
END:VEVENT
BEGIN:VEVENT
DTSTART;TZID=UTC:20251116T120000
DTEND;TZID=UTC:20251116T120000
DTSTAMP:20260422T165627
CREATED:20250917T124632Z
LAST-MODIFIED:20250917T124632Z
UID:21999-1763294400-1763294400@www.adetca.cat
SUMMARY:Guillermotta
DESCRIPTION:Ester Cànovas ester@elmalda.cat
URL:https://www.adetca.cat/agenda-event/guillermotta-2/
CATEGORIES:EST
END:VEVENT
BEGIN:VEVENT
DTSTART;TZID=UTC:20251115T200000
DTEND;TZID=UTC:20251115T200000
DTSTAMP:20260422T165627
CREATED:20251030T095603Z
LAST-MODIFIED:20251030T095603Z
UID:22610-1763236800-1763236800@www.adetca.cat
SUMMARY:IF Barcelona: Interior noche
DESCRIPTION:Arianna Tanghetti comunicacio@anticteatre.com
URL:https://www.adetca.cat/agenda-event/if-barcelona-interior-noche/
CATEGORIES:EST
END:VEVENT
BEGIN:VEVENT
DTSTART;TZID=UTC:20251115T200000
DTEND;TZID=UTC:20251115T200000
DTSTAMP:20260422T165627
CREATED:20250912T084608Z
LAST-MODIFIED:20251031T091939Z
UID:21936-1763236800-1763236800@www.adetca.cat
SUMMARY:Pa$$$ta(Yo)Ba$$$e!!!
DESCRIPTION:Ana Candela – premsa@tantarantana.com
URL:https://www.adetca.cat/agenda-event/patayobae/
CATEGORIES:EST
END:VEVENT
BEGIN:VEVENT
DTSTART;TZID=UTC:20251115T190000
DTEND;TZID=UTC:20251115T190000
DTSTAMP:20260422T165627
CREATED:20251030T095413Z
LAST-MODIFIED:20251030T095750Z
UID:22608-1763233200-1763233200@www.adetca.cat
SUMMARY:IF Barcelona: Labor
DESCRIPTION:Arianna Tanghetti comunicacio@anticteatre.com
URL:https://www.adetca.cat/agenda-event/if-barcelona-labor/
CATEGORIES:EST
END:VEVENT
BEGIN:VEVENT
DTSTART;TZID=UTC:20251114T200000
DTEND;TZID=UTC:20251114T203000
DTSTAMP:20260422T165627
CREATED:20250912T084341Z
LAST-MODIFIED:20250912T084341Z
UID:21933-1763150400-1763152200@www.adetca.cat
SUMMARY:Fillke Pewma (Sueños)
DESCRIPTION:Ana Candela – premsa@tantarantana.com
URL:https://www.adetca.cat/agenda-event/fillke-pewma-suenos/
CATEGORIES:EST
END:VEVENT
BEGIN:VEVENT
DTSTART;TZID=UTC:20251114T200000
DTEND;TZID=UTC:20251114T200000
DTSTAMP:20260422T165627
CREATED:20250718T094351Z
LAST-MODIFIED:20250718T094735Z
UID:21359-1763150400-1763150400@www.adetca.cat
SUMMARY:No es pot saber
DESCRIPTION:Anna Espunya teatre@eolia.cat
URL:https://www.adetca.cat/agenda-event/bad-moon/
CATEGORIES:EST
END:VEVENT
BEGIN:VEVENT
DTSTART;TZID=UTC:20251114T110000
DTEND;TZID=UTC:20251114T170000
DTSTAMP:20260422T165627
CREATED:20251023T144559Z
LAST-MODIFIED:20251023T144559Z
UID:22536-1763118000-1763139600@www.adetca.cat
SUMMARY:De Scheherezade - Festival Temporada Alta
DESCRIPTION:Eugènia Berga- eugenia@bito.pro
URL:https://www.adetca.cat/agenda-event/de-scheherezade-festival-temporada-alta/
CATEGORIES:RDP
END:VEVENT
BEGIN:VEVENT
DTSTART;TZID=UTC:20251113T200000
DTEND;TZID=UTC:20251113T203000
DTSTAMP:20260422T165627
CREATED:20250912T083659Z
LAST-MODIFIED:20250912T083659Z
UID:21930-1763064000-1763065800@www.adetca.cat
SUMMARY:Vuela alto
DESCRIPTION:Ana Candela – premsa@tantarantana.com
URL:https://www.adetca.cat/agenda-event/vuela-alto/
CATEGORIES:EST
END:VEVENT
BEGIN:VEVENT
DTSTART;TZID=UTC:20251113T200000
DTEND;TZID=UTC:20251113T200000
DTSTAMP:20260422T165627
CREATED:20251029T102500Z
LAST-MODIFIED:20251029T110940Z
UID:22567-1763064000-1763064000@www.adetca.cat
SUMMARY:Glorious
DESCRIPTION:Mima Garriga mimagarriga@gmail.com
URL:https://www.adetca.cat/agenda-event/glorious-3/
CATEGORIES:EST
END:VEVENT
BEGIN:VEVENT
DTSTART;TZID=UTC:20251113T193000
DTEND;TZID=UTC:20251113T193000
DTSTAMP:20260422T165627
CREATED:20250731T084343Z
LAST-MODIFIED:20251006T074926Z
UID:21604-1763062200-1763062200@www.adetca.cat
SUMMARY:El camino de la sal
DESCRIPTION:Núria Amat premsa@salabeckett.cat
URL:https://www.adetca.cat/agenda-event/el-camino-de-la-sal/
CATEGORIES:EST
END:VEVENT
BEGIN:VEVENT
DTSTART;TZID=UTC:20251113T190000
DTEND;TZID=UTC:20251113T190000
DTSTAMP:20260422T165627
CREATED:20250623T074335Z
LAST-MODIFIED:20250623T074335Z
UID:20710-1763060400-1763060400@www.adetca.cat
SUMMARY:La corona d'espines
DESCRIPTION:Bernat Fornells – Bfornells@tnc.cat
URL:https://www.adetca.cat/agenda-event/la-corona-despines/
CATEGORIES:EST
END:VEVENT
BEGIN:VEVENT
DTSTART;TZID=UTC:20251113T123000
DTEND;TZID=UTC:20251113T123000
DTSTAMP:20260422T165627
CREATED:20250718T094943Z
LAST-MODIFIED:20251111T140222Z
UID:21363-1763037000-1763037000@www.adetca.cat
SUMMARY:No es pot saber
DESCRIPTION:Anna Espunya teatre@eolia.cat
URL:https://www.adetca.cat/agenda-event/pots-ser-tu-puc-ser-jo-3/
CATEGORIES:RDP
END:VEVENT
BEGIN:VEVENT
DTSTART;TZID=UTC:20251112T203000
DTEND;TZID=UTC:20251112T203000
DTSTAMP:20260422T165627
CREATED:20250912T083356Z
LAST-MODIFIED:20250912T083356Z
UID:21928-1762979400-1762979400@www.adetca.cat
SUMMARY:La nit dels mons
DESCRIPTION:Ana Candela – premsa@tantarantana.com
URL:https://www.adetca.cat/agenda-event/la-nit-dels-mons/
CATEGORIES:EST
END:VEVENT
BEGIN:VEVENT
DTSTART;TZID=UTC:20251112T200000
DTEND;TZID=UTC:20251112T200000
DTSTAMP:20260422T165627
CREATED:20251105T092557Z
LAST-MODIFIED:20251105T092557Z
UID:22676-1762977600-1762977600@www.adetca.cat
SUMMARY:Burpees
DESCRIPTION:Fernando Solla premsa@teatreakademia.cat
URL:https://www.adetca.cat/agenda-event/burpees/
CATEGORIES:EST
END:VEVENT
BEGIN:VEVENT
DTSTART;TZID=UTC:20251112T110000
DTEND;TZID=UTC:20251112T110000
DTSTAMP:20260422T165627
CREATED:20251031T090840Z
LAST-MODIFIED:20251031T090840Z
UID:22631-1762945200-1762945200@www.adetca.cat
SUMMARY:Flaix de tardor: Double Bill
DESCRIPTION:Paula Pairó ppairocortada@gmail.com
URL:https://www.adetca.cat/agenda-event/flaix-de-tardor-double-bill/
CATEGORIES:RDP
END:VEVENT
BEGIN:VEVENT
DTSTART;TZID=UTC:20251111T200000
DTEND;TZID=UTC:20251111T200000
DTSTAMP:20260422T165627
CREATED:20250918T080918Z
LAST-MODIFIED:20250918T080918Z
UID:22048-1762891200-1762891200@www.adetca.cat
SUMMARY:El desmontaje
DESCRIPTION:Anna perez aperez@focus.cat
URL:https://www.adetca.cat/agenda-event/el-desmontaje/
CATEGORIES:EST
END:VEVENT
BEGIN:VEVENT
DTSTART;TZID=UTC:20251111T193000
DTEND;TZID=UTC:20251111T193000
DTSTAMP:20260422T165627
CREATED:20251106T144157Z
LAST-MODIFIED:20251106T144157Z
UID:22724-1762889400-1762889400@www.adetca.cat
SUMMARY:Lluna plena
DESCRIPTION:Janaba Bah : comunicacio@heartbreakhotel.com
URL:https://www.adetca.cat/agenda-event/lluna-plena/
CATEGORIES:EST
END:VEVENT
BEGIN:VEVENT
DTSTART;TZID=UTC:20251111T120000
DTEND;TZID=UTC:20251111T120000
DTSTAMP:20260422T165627
CREATED:20250918T105946Z
LAST-MODIFIED:20251031T091533Z
UID:22130-1762862400-1762862400@www.adetca.cat
SUMMARY:Natale in Casa Cupiello
DESCRIPTION:Ariadna Fernández ariadna@laperla29.cat
URL:https://www.adetca.cat/agenda-event/natale-in-casa-cupiello/
CATEGORIES:RDP
END:VEVENT
BEGIN:VEVENT
DTSTART;TZID=UTC:20251110T120000
DTEND;TZID=UTC:20251110T120000
DTSTAMP:20260422T165627
CREATED:20250724T151526Z
LAST-MODIFIED:20250724T151526Z
UID:21426-1762776000-1762776000@www.adetca.cat
SUMMARY:La corona d'espines
DESCRIPTION:Esther Vendrell – Evendrell@tnc.cat
URL:https://www.adetca.cat/agenda-event/la-corona-despines-3/
CATEGORIES:RDP
END:VEVENT
BEGIN:VEVENT
DTSTART;TZID=UTC:20251108T200000
DTEND;TZID=UTC:20251108T200000
DTSTAMP:20260422T165627
CREATED:20251030T095132Z
LAST-MODIFIED:20251030T095132Z
UID:22606-1762632000-1762632000@www.adetca.cat
SUMMARY:Cicle HACER HISTORIAS VI: Cavala
DESCRIPTION:Arianna Tanghetti comunicacio@anticteatre.com
URL:https://www.adetca.cat/agenda-event/cicle-hacer-historias-vi-cavala/
CATEGORIES:EST
END:VEVENT
BEGIN:VEVENT
DTSTART;TZID=UTC:20251108T200000
DTEND;TZID=UTC:20251108T200000
DTSTAMP:20260422T165627
CREATED:20250917T124421Z
LAST-MODIFIED:20250917T124421Z
UID:21997-1762632000-1762632000@www.adetca.cat
SUMMARY:La paella dels dijous
DESCRIPTION:Ester Cànovas ester@elmalda.cat
URL:https://www.adetca.cat/agenda-event/la-paella-dels-dijous/
CATEGORIES:EST
END:VEVENT
BEGIN:VEVENT
DTSTART;TZID=UTC:20251108T190000
DTEND;TZID=UTC:20251108T190000
DTSTAMP:20260422T165627
CREATED:20250623T090512Z
LAST-MODIFIED:20250627T140722Z
UID:20779-1762628400-1762628400@www.adetca.cat
SUMMARY:Trilogia de la condició 'millennial'
DESCRIPTION:Clàudia Blasquiz – cblasquiz@teatrelliure.com
URL:https://www.adetca.cat/agenda-event/trilogia-de-la-condicio-millennial/
CATEGORIES:EST
END:VEVENT
BEGIN:VEVENT
DTSTART;TZID=UTC:20251107T190000
DTEND;TZID=UTC:20251107T190000
DTSTAMP:20260422T165627
CREATED:20250623T074155Z
LAST-MODIFIED:20250623T074155Z
UID:20708-1762542000-1762542000@www.adetca.cat
SUMMARY:Tarsius
DESCRIPTION:Bernat Fornells – Bfornells@tnc.cat
URL:https://www.adetca.cat/agenda-event/tarsius/
CATEGORIES:EST
END:VEVENT
END:VCALENDAR