BEGIN:VCALENDAR
VERSION:2.0
PRODID:-//ADETCA - ECPv6.15.20//NONSGML v1.0//EN
CALSCALE:GREGORIAN
METHOD:PUBLISH
X-WR-CALNAME:ADETCA
X-ORIGINAL-URL:https://www.adetca.cat
X-WR-CALDESC:Esdeveniments per ADETCA
REFRESH-INTERVAL;VALUE=DURATION:PT1H
X-Robots-Tag:noindex
X-PUBLISHED-TTL:PT1H
BEGIN:VTIMEZONE
TZID:UTC
BEGIN:STANDARD
TZOFFSETFROM:+0000
TZOFFSETTO:+0000
TZNAME:UTC
DTSTART:20240101T000000
END:STANDARD
END:VTIMEZONE
BEGIN:VEVENT
DTSTART;TZID=UTC:20251104T100000
DTEND;TZID=UTC:20251104T100000
DTSTAMP:20260422T220438
CREATED:20250910T102826Z
LAST-MODIFIED:20250922T131312Z
UID:21829-1762250400-1762250400@www.adetca.cat
SUMMARY:Presentacio Festival elPetit
DESCRIPTION:Annabel Piñar anabel@tremenda.cat
URL:https://www.adetca.cat/agenda-event/presentacio-festival-elpetit-2/
CATEGORIES:RDP
END:VEVENT
BEGIN:VEVENT
DTSTART;TZID=UTC:20251103T110000
DTEND;TZID=UTC:20251103T110000
DTSTAMP:20260422T220438
CREATED:20251028T130117Z
LAST-MODIFIED:20251028T135229Z
UID:22563-1762167600-1762167600@www.adetca.cat
SUMMARY:Raptes
DESCRIPTION:Marta Cros comunicacio@daualsecartsesceniques.com
URL:https://www.adetca.cat/agenda-event/raptes-3/
CATEGORIES:RDP
END:VEVENT
BEGIN:VEVENT
DTSTART;TZID=UTC:20251101T203000
DTEND;TZID=UTC:20251101T203000
DTSTAMP:20260422T220438
CREATED:20250912T083205Z
LAST-MODIFIED:20250912T083205Z
UID:21926-1762029000-1762029000@www.adetca.cat
SUMMARY:Contención mecánica
DESCRIPTION:Ana Candela – premsa@tantarantana.com
URL:https://www.adetca.cat/agenda-event/contencion-mecanica/
CATEGORIES:EST
END:VEVENT
BEGIN:VEVENT
DTSTART;TZID=UTC:20251101T190000
DTEND;TZID=UTC:20251101T190000
DTSTAMP:20260422T220438
CREATED:20250623T074004Z
LAST-MODIFIED:20250707T073958Z
UID:20706-1762023600-1762023600@www.adetca.cat
SUMMARY:La pedra de fusta
DESCRIPTION:Bernat Fornells – Bfornells@tnc.cat
URL:https://www.adetca.cat/agenda-event/la-pedra-de-fusta/
CATEGORIES:EST
END:VEVENT
BEGIN:VEVENT
DTSTART;TZID=UTC:20251101T120000
DTEND;TZID=UTC:20251101T120000
DTSTAMP:20260422T220438
CREATED:20251030T161305Z
LAST-MODIFIED:20251030T161305Z
UID:22620-1761998400-1761998400@www.adetca.cat
SUMMARY:Asses.masses
DESCRIPTION:Diana Juanpere djuanpere@fundaciojoanbrossa.cat
URL:https://www.adetca.cat/agenda-event/asses-masses/
CATEGORIES:EST
END:VEVENT
BEGIN:VEVENT
DTSTART;TZID=UTC:20251031T200000
DTEND;TZID=UTC:20251031T200000
DTSTAMP:20260422T220438
CREATED:20251006T102553Z
LAST-MODIFIED:20251006T102553Z
UID:22424-1761940800-1761940800@www.adetca.cat
SUMMARY:Glòria 27 o el mite de l'èxit
DESCRIPTION:Jordi Araz contractacio@aquitaniateatre.es
URL:https://www.adetca.cat/agenda-event/gloria-27-o-el-mite-de-lexit/
CATEGORIES:EST
END:VEVENT
BEGIN:VEVENT
DTSTART;TZID=UTC:20251031T190000
DTEND;TZID=UTC:20251031T190000
DTSTAMP:20260422T220438
CREATED:20250623T090141Z
LAST-MODIFIED:20251007T134754Z
UID:20777-1761937200-1761937200@www.adetca.cat
SUMMARY:Coup fatal
DESCRIPTION:Clàudia Blasquiz – cblasquiz@teatrelliure.com
URL:https://www.adetca.cat/agenda-event/coupe-fatal/
CATEGORIES:EST
END:VEVENT
BEGIN:VEVENT
DTSTART;TZID=UTC:20251031T180000
DTEND;TZID=UTC:20251031T180000
DTSTAMP:20260422T220438
CREATED:20250923T082212Z
LAST-MODIFIED:20250923T082212Z
UID:22241-1761933600-1761933600@www.adetca.cat
SUMMARY:Loop
DESCRIPTION:David Muntané coordinacio.lapuntual@gmail.com
URL:https://www.adetca.cat/agenda-event/loop-2/
CATEGORIES:EST
END:VEVENT
BEGIN:VEVENT
DTSTART;TZID=UTC:20251030T193000
DTEND;TZID=UTC:20251030T193000
DTSTAMP:20260422T220438
CREATED:20251028T112535Z
LAST-MODIFIED:20251028T112848Z
UID:22556-1761852600-1761852600@www.adetca.cat
SUMMARY:Carn humana
DESCRIPTION:Àlex Bargalló comunicacio@atrium.cat
URL:https://www.adetca.cat/agenda-event/carn-humana/
CATEGORIES:EST
END:VEVENT
BEGIN:VEVENT
DTSTART;TZID=UTC:20251030T120000
DTEND;TZID=UTC:20251030T120000
DTSTAMP:20260422T220438
CREATED:20250623T103439Z
LAST-MODIFIED:20250910T104748Z
UID:20843-1761825600-1761825600@www.adetca.cat
SUMMARY:Trilogia de la condició 'millennial'
DESCRIPTION:Clàudia Blasquiz – cblasquiz@teatrelliure.com
URL:https://www.adetca.cat/agenda-event/trilogia-de-la-condicio-millennial-2/
CATEGORIES:RDP
END:VEVENT
BEGIN:VEVENT
DTSTART;TZID=UTC:20251030T103000
DTEND;TZID=UTC:20251030T103000
DTSTAMP:20260422T220438
CREATED:20251007T134409Z
LAST-MODIFIED:20251007T134409Z
UID:22435-1761820200-1761820200@www.adetca.cat
SUMMARY:Coup fatal
DESCRIPTION:Paula Pairó ppairocortada@gmail.com
URL:https://www.adetca.cat/agenda-event/coup-fatal/
CATEGORIES:RDP
END:VEVENT
BEGIN:VEVENT
DTSTART;TZID=UTC:20251029T200000
DTEND;TZID=UTC:20251029T203000
DTSTAMP:20260422T220438
CREATED:20250912T090337Z
LAST-MODIFIED:20250923T074424Z
UID:21950-1761768000-1761769800@www.adetca.cat
SUMMARY:Un refugi al sol
DESCRIPTION:Rafaela Rivas – premsa@salaversusglories.cat
URL:https://www.adetca.cat/agenda-event/un-refugi-al-sol/
CATEGORIES:EST
END:VEVENT
BEGIN:VEVENT
DTSTART;TZID=UTC:20251029T113000
DTEND;TZID=UTC:20251029T170000
DTSTAMP:20260422T220438
CREATED:20251021T114032Z
LAST-MODIFIED:20251021T114032Z
UID:22512-1761737400-1761757200@www.adetca.cat
SUMMARY:Comediants Institut del Teatre
DESCRIPTION:Ruth Tormo Benavent – tormobr@institutdelteatre.cat
URL:https://www.adetca.cat/agenda-event/comediants-institut-del-teatre/
CATEGORIES:RDP
END:VEVENT
BEGIN:VEVENT
DTSTART;TZID=UTC:20251029T113000
DTEND;TZID=UTC:20251029T123000
DTSTAMP:20260422T220438
CREATED:20250919T113440Z
LAST-MODIFIED:20251009T103412Z
UID:22197-1761737400-1761741000@www.adetca.cat
SUMMARY:Programació L'OffLaVillarroel 25-26\,
DESCRIPTION:Anna Perez aperez@focus.cat
URL:https://www.adetca.cat/agenda-event/programacio-lofflavillarroel-25-26/
CATEGORIES:RDP
END:VEVENT
BEGIN:VEVENT
DTSTART;TZID=UTC:20251029T100000
DTEND;TZID=UTC:20251029T100000
DTSTAMP:20260422T220438
CREATED:20250709T145630Z
LAST-MODIFIED:20251027T153104Z
UID:21291-1761732000-1761732000@www.adetca.cat
SUMMARY:RBLS Festival de Teatre Jove
DESCRIPTION:Rubén García ruben@barc.coop
URL:https://www.adetca.cat/agenda-event/rbls-festival-de-teatre-jove/
CATEGORIES:RDP
END:VEVENT
BEGIN:VEVENT
DTSTART;TZID=UTC:20251028T141500
DTEND;TZID=UTC:20251028T141500
DTSTAMP:20260422T220438
CREATED:20251022T133206Z
LAST-MODIFIED:20251022T133206Z
UID:22514-1761660900-1761660900@www.adetca.cat
SUMMARY:Vermut amb El Tenoriu
DESCRIPTION:Mima Garriga – mimagarriga@gmail.com
URL:https://www.adetca.cat/agenda-event/vermut-amb-el-tenoriu/
CATEGORIES:RDP
END:VEVENT
BEGIN:VEVENT
DTSTART;TZID=UTC:20251028T123000
DTEND;TZID=UTC:20251028T123000
DTSTAMP:20260422T220438
CREATED:20250922T114258Z
LAST-MODIFIED:20251021T113436Z
UID:22220-1761654600-1761654600@www.adetca.cat
SUMMARY:Phèdre - Flaix de tardor
DESCRIPTION:Eugènia Berga eugenia@bito.pro
URL:https://www.adetca.cat/agenda-event/flaix-de-tardor/
CATEGORIES:RDP
END:VEVENT
BEGIN:VEVENT
DTSTART;TZID=UTC:20251028T103000
DTEND;TZID=UTC:20251028T200000
DTSTAMP:20260422T220438
CREATED:20251014T152441Z
LAST-MODIFIED:20251020T131532Z
UID:22493-1761647400-1761681600@www.adetca.cat
SUMMARY:Assaig obert Avui no ploraré
DESCRIPTION:Bàrbara Branco – barbara@tremenda.cat
URL:https://www.adetca.cat/agenda-event/assaig-obert-avui-no-plorare/
CATEGORIES:PDG
END:VEVENT
BEGIN:VEVENT
DTSTART;TZID=UTC:20251024T193000
DTEND;TZID=UTC:20251024T193000
DTSTAMP:20260422T220438
CREATED:20250929T082528Z
LAST-MODIFIED:20250929T082751Z
UID:22338-1761334200-1761334200@www.adetca.cat
SUMMARY:Flaix de Tardor: To move in time de Forced Entertainment
DESCRIPTION:Diana Juanpere djuanpere@fundaciojoanbrossa.cat
URL:https://www.adetca.cat/agenda-event/flaix-de-tardor-to-move-in-time-de-forced-entertainment/
CATEGORIES:EST
END:VEVENT
BEGIN:VEVENT
DTSTART;TZID=UTC:20251024T180000
DTEND;TZID=UTC:20251024T180000
DTSTAMP:20260422T220438
CREATED:20250923T082046Z
LAST-MODIFIED:20250923T082046Z
UID:22239-1761328800-1761328800@www.adetca.cat
SUMMARY:Rojo
DESCRIPTION:David Muntané coordinacio.lapuntual@gmail.com
URL:https://www.adetca.cat/agenda-event/rojo/
CATEGORIES:EST
END:VEVENT
BEGIN:VEVENT
DTSTART;TZID=UTC:20251024T120000
DTEND;TZID=UTC:20251024T130000
DTSTAMP:20260422T220438
CREATED:20251017T075508Z
LAST-MODIFIED:20251017T075656Z
UID:22499-1761307200-1761310800@www.adetca.cat
SUMMARY:Cicle HACER HISTORIA(S)
DESCRIPTION:Mercè Ros mros@mercatflors.cat
URL:https://www.adetca.cat/agenda-event/hacer-historias-3/
CATEGORIES:RDP
END:VEVENT
BEGIN:VEVENT
DTSTART;TZID=UTC:20251024T110000
DTEND;TZID=UTC:20251024T170000
DTSTAMP:20260422T220438
CREATED:20251014T151208Z
LAST-MODIFIED:20251014T151208Z
UID:22490-1761303600-1761325200@www.adetca.cat
SUMMARY:Glorious
DESCRIPTION:Mima Garriga – mimagarriga@gmail.com
URL:https://www.adetca.cat/agenda-event/glorious/
CATEGORIES:RDP
END:VEVENT
BEGIN:VEVENT
DTSTART;TZID=UTC:20251024T100000
DTEND;TZID=UTC:20251024T100000
DTSTAMP:20260422T220438
CREATED:20250917T111046Z
LAST-MODIFIED:20251007T143417Z
UID:21985-1761300000-1761300000@www.adetca.cat
SUMMARY:Cachorro de Leon
DESCRIPTION:Eugènia Berga eugenia@bito.pro
URL:https://www.adetca.cat/agenda-event/festival-temporada-alta-cachorro-de-leon/
CATEGORIES:RDP
END:VEVENT
BEGIN:VEVENT
DTSTART;TZID=UTC:20251023T200000
DTEND;TZID=UTC:20251023T200000
DTSTAMP:20260422T220438
CREATED:20250929T123859Z
LAST-MODIFIED:20250929T123859Z
UID:22346-1761249600-1761249600@www.adetca.cat
SUMMARY:Extintion rave
DESCRIPTION:Arianna Tanghetti comunicacio@anticteatre.com
URL:https://www.adetca.cat/agenda-event/extintion-rave/
CATEGORIES:EST
END:VEVENT
BEGIN:VEVENT
DTSTART;TZID=UTC:20251023T200000
DTEND;TZID=UTC:20251023T200000
DTSTAMP:20260422T220438
CREATED:20250918T080611Z
LAST-MODIFIED:20250918T080611Z
UID:22044-1761249600-1761249600@www.adetca.cat
SUMMARY:La mà
DESCRIPTION:Anna perez aperez@focus.cat
URL:https://www.adetca.cat/agenda-event/la-ma/
CATEGORIES:EST
END:VEVENT
BEGIN:VEVENT
DTSTART;TZID=UTC:20251023T200000
DTEND;TZID=UTC:20251023T200000
DTSTAMP:20260422T220438
CREATED:20250718T103015Z
LAST-MODIFIED:20250718T103742Z
UID:21372-1761249600-1761249600@www.adetca.cat
SUMMARY:Bad Moon
DESCRIPTION:Anna Espunya teatre@eolia.cat
URL:https://www.adetca.cat/agenda-event/bad-moon-2/
CATEGORIES:EST
END:VEVENT
BEGIN:VEVENT
DTSTART;TZID=UTC:20251023T200000
DTEND;TZID=UTC:20251023T200000
DTSTAMP:20260422T220438
CREATED:20250130T093259Z
LAST-MODIFIED:20250925T112440Z
UID:19470-1761249600-1761249600@www.adetca.cat
SUMMARY:Rocky Horror Show
DESCRIPTION:Anna Martinez anna@balanenviu.com \nCristina de la Iglesia cristina@balanaenviu.com
URL:https://www.adetca.cat/agenda-event/rocky-horror-show/
CATEGORIES:EST
END:VEVENT
BEGIN:VEVENT
DTSTART;TZID=UTC:20251023T190000
DTEND;TZID=UTC:20251023T190000
DTSTAMP:20260422T220438
CREATED:20250623T085901Z
LAST-MODIFIED:20250627T140914Z
UID:20775-1761246000-1761246000@www.adetca.cat
SUMMARY:Little women
DESCRIPTION:Clàudia Blasquiz – cblasquiz@teatrelliure.com
URL:https://www.adetca.cat/agenda-event/little-women/
CATEGORIES:EST
END:VEVENT
BEGIN:VEVENT
DTSTART;TZID=UTC:20251023T180000
DTEND;TZID=UTC:20251023T180000
DTSTAMP:20260422T220438
CREATED:20250728T084747Z
LAST-MODIFIED:20250728T084815Z
UID:21500-1761242400-1761242400@www.adetca.cat
SUMMARY:Presentació exposició gràfica CARSTEN GUETH\, artista convidat Temporada Palau
DESCRIPTION:Imma Anglès iangles@palaumusica.cat
URL:https://www.adetca.cat/agenda-event/presentacio-xposicio-grafica-carsten-gueth-artista-convidat-temporada-palau/
CATEGORIES:RDP
END:VEVENT
BEGIN:VEVENT
DTSTART;TZID=UTC:20251023T130000
DTEND;TZID=UTC:20251023T130000
DTSTAMP:20260422T220438
CREATED:20250925T065045Z
LAST-MODIFIED:20251015T123957Z
UID:22291-1761224400-1761224400@www.adetca.cat
SUMMARY:Flaix Tardor BCN - Medida por medida
DESCRIPTION:Paula Pairó ppairocortada@gmail.com
URL:https://www.adetca.cat/agenda-event/flaix-tardor-bcn-medida-por-medida/
CATEGORIES:RDP
END:VEVENT
END:VCALENDAR