BEGIN:VCALENDAR
VERSION:2.0
PRODID:-//ADETCA - ECPv6.15.20//NONSGML v1.0//EN
CALSCALE:GREGORIAN
METHOD:PUBLISH
X-WR-CALNAME:ADETCA
X-ORIGINAL-URL:https://www.adetca.cat
X-WR-CALDESC:Esdeveniments per ADETCA
REFRESH-INTERVAL;VALUE=DURATION:PT1H
X-Robots-Tag:noindex
X-PUBLISHED-TTL:PT1H
BEGIN:VTIMEZONE
TZID:UTC
BEGIN:STANDARD
TZOFFSETFROM:+0000
TZOFFSETTO:+0000
TZNAME:UTC
DTSTART:20250101T000000
END:STANDARD
END:VTIMEZONE
BEGIN:VEVENT
DTSTART;TZID=UTC:20260409T200000
DTEND;TZID=UTC:20260409T200000
DTSTAMP:20260421T121204
CREATED:20250917T130441Z
LAST-MODIFIED:20250917T130441Z
UID:22019-1775764800-1775764800@www.adetca.cat
SUMMARY:Escenes d'una separació
DESCRIPTION:Ester Cànovas ester@elmalda.cat
URL:https://www.adetca.cat/agenda-event/escenes-duna-separacio-3/
CATEGORIES:EST
END:VEVENT
BEGIN:VEVENT
DTSTART;TZID=UTC:20260409T200000
DTEND;TZID=UTC:20260409T200000
DTSTAMP:20260421T121204
CREATED:20250627T105528Z
LAST-MODIFIED:20250918T105140Z
UID:20986-1775764800-1775764800@www.adetca.cat
SUMMARY:Permagel
DESCRIPTION:Martí Rossell marti@barccomunicacio.com
URL:https://www.adetca.cat/agenda-event/espectacle-a-confirmar-5/
CATEGORIES:EST
END:VEVENT
BEGIN:VEVENT
DTSTART;TZID=UTC:20260409T193000
DTEND;TZID=UTC:20260409T193000
DTSTAMP:20260421T121204
CREATED:20260323T154839Z
LAST-MODIFIED:20260323T155158Z
UID:23791-1775763000-1775763000@www.adetca.cat
SUMMARY:Tinc un bosc al cervell
DESCRIPTION:Núria Amat premsa@salabeckett.cat
URL:https://www.adetca.cat/agenda-event/tinc-un-bosc-al-cervell/
CATEGORIES:EST
END:VEVENT
BEGIN:VEVENT
DTSTART;TZID=UTC:20260409T193000
DTEND;TZID=UTC:20260409T193000
DTSTAMP:20260421T121204
CREATED:20260122T120156Z
LAST-MODIFIED:20260129T123531Z
UID:23301-1775763000-1775763000@www.adetca.cat
SUMMARY:Els polítics
DESCRIPTION:Diana Juanpere djuanpere@fundaciojoanbrossa.cat
URL:https://www.adetca.cat/agenda-event/els-politics/
CATEGORIES:EST
END:VEVENT
BEGIN:VEVENT
DTSTART;TZID=UTC:20260409T190000
DTEND;TZID=UTC:20260409T190000
DTSTAMP:20260421T121204
CREATED:20250623T080802Z
LAST-MODIFIED:20260401T101238Z
UID:20752-1775761200-1775761200@www.adetca.cat
SUMMARY:El sonall
DESCRIPTION:Bernat Fornells – Bfornells@tnc.cat
URL:https://www.adetca.cat/agenda-event/el-sonall/
CATEGORIES:EST
END:VEVENT
BEGIN:VEVENT
DTSTART;TZID=UTC:20260409T120000
DTEND;TZID=UTC:20260409T120000
DTSTAMP:20260421T121204
CREATED:20251111T145931Z
LAST-MODIFIED:20251204T145822Z
UID:22752-1775736000-1775736000@www.adetca.cat
SUMMARY:El dibuixant de laberints
DESCRIPTION:Anna Espunya teatre@eolia.cat
URL:https://www.adetca.cat/agenda-event/el-dibuixant-de-laberints-3/
CATEGORIES:RDP
END:VEVENT
BEGIN:VEVENT
DTSTART;TZID=UTC:20260409T120000
DTEND;TZID=UTC:20260409T120000
DTSTAMP:20260421T121204
CREATED:20250625T124527Z
LAST-MODIFIED:20250627T120348Z
UID:20912-1775736000-1775736000@www.adetca.cat
SUMMARY:Els Estunmen
DESCRIPTION:Clàudia Blasquiz – cblasquiz@teatrelliure.com
URL:https://www.adetca.cat/agenda-event/els-estunmen-2/
CATEGORIES:RDP
END:VEVENT
BEGIN:VEVENT
DTSTART;TZID=UTC:20260409T110000
DTEND;TZID=UTC:20260409T110000
DTSTAMP:20260421T121204
CREATED:20260324T124452Z
LAST-MODIFIED:20260324T131219Z
UID:23848-1775732400-1775732400@www.adetca.cat
SUMMARY:El sonall (passi per premsa)
DESCRIPTION:Bernat Fornells – Bfornells@tnc.cat
URL:https://www.adetca.cat/agenda-event/el-sonall-passi-per-premsa/
CATEGORIES:EST
END:VEVENT
BEGIN:VEVENT
DTSTART;TZID=UTC:20260409T100000
DTEND;TZID=UTC:20260409T100000
DTSTAMP:20260421T121204
CREATED:20260121T075837Z
LAST-MODIFIED:20260121T085302Z
UID:23244-1775728800-1775728800@www.adetca.cat
SUMMARY:"T'apropem allò que ens mou" Cicle de dansa de proximitat
DESCRIPTION:Mima Garriga mimagarriga@gmail.com
URL:https://www.adetca.cat/agenda-event/tapropem-allo-que-ens-mou-cicle-de-dansa-de-proximitat/
CATEGORIES:RDP
END:VEVENT
BEGIN:VEVENT
DTSTART;TZID=UTC:20260408T203000
DTEND;TZID=UTC:20260408T203000
DTSTAMP:20260421T121204
CREATED:20260323T160428Z
LAST-MODIFIED:20260323T160428Z
UID:23808-1775680200-1775680200@www.adetca.cat
SUMMARY:Big fake
DESCRIPTION:Ana Candela premsa@tantarantana.com
URL:https://www.adetca.cat/agenda-event/big-fake/
CATEGORIES:EST
END:VEVENT
BEGIN:VEVENT
DTSTART;TZID=UTC:20260408T200000
DTEND;TZID=UTC:20260408T203000
DTSTAMP:20260421T121204
CREATED:20250912T091316Z
LAST-MODIFIED:20250912T091316Z
UID:21960-1775678400-1775680200@www.adetca.cat
SUMMARY:El lladre de llibretes
DESCRIPTION:Rafaela Rivas – premsa@salaversusglories.cat
URL:https://www.adetca.cat/agenda-event/el-lladre-de-llibretes/
CATEGORIES:EST
END:VEVENT
BEGIN:VEVENT
DTSTART;TZID=UTC:20260408T200000
DTEND;TZID=UTC:20260408T200000
DTSTAMP:20260421T121204
CREATED:20260331T095245Z
LAST-MODIFIED:20260331T095318Z
UID:23868-1775678400-1775678400@www.adetca.cat
SUMMARY:La concha de tu madre
DESCRIPTION:Arianna Tanghetti comunicacio@anticteatre.com
URL:https://www.adetca.cat/agenda-event/la-concha-de-tu-madre/
CATEGORIES:EST
END:VEVENT
BEGIN:VEVENT
DTSTART;TZID=UTC:20260408T200000
DTEND;TZID=UTC:20260408T200000
DTSTAMP:20260421T121204
CREATED:20260323T160600Z
LAST-MODIFIED:20260323T160600Z
UID:23811-1775678400-1775678400@www.adetca.cat
SUMMARY:Com eliminar l'olor de lleixu de les mans
DESCRIPTION:Ana Candela premsa@tantarantana.com
URL:https://www.adetca.cat/agenda-event/com-eliminar-lolor-de-lleixu-de-les-mans/
CATEGORIES:EST
END:VEVENT
BEGIN:VEVENT
DTSTART;TZID=UTC:20260408T190000
DTEND;TZID=UTC:20260408T190000
DTSTAMP:20260421T121204
CREATED:20250623T092605Z
LAST-MODIFIED:20250627T135035Z
UID:20808-1775674800-1775674800@www.adetca.cat
SUMMARY:Mil tres\, say cheese
DESCRIPTION:Clàudia Blasquiz – cblasquiz@teatrelliure.com
URL:https://www.adetca.cat/agenda-event/mil-tres-say-cheese/
CATEGORIES:EST
END:VEVENT
BEGIN:VEVENT
DTSTART;TZID=UTC:20260408T120000
DTEND;TZID=UTC:20260408T120000
DTSTAMP:20260421T121204
CREATED:20260320T093622Z
LAST-MODIFIED:20260320T093622Z
UID:23754-1775649600-1775649600@www.adetca.cat
SUMMARY:Permagel
DESCRIPTION:Ruben Garcia ruben@barc.coop
URL:https://www.adetca.cat/agenda-event/permagel-2/
CATEGORIES:RDP
END:VEVENT
BEGIN:VEVENT
DTSTART;TZID=UTC:20260408T113000
DTEND;TZID=UTC:20260408T113000
DTSTAMP:20260421T121204
CREATED:20260114T111417Z
LAST-MODIFIED:20260320T093517Z
UID:23189-1775647800-1775647800@www.adetca.cat
SUMMARY:Permagel
DESCRIPTION:Ruben Garcia ruben@barc.coop
URL:https://www.adetca.cat/agenda-event/permagel/
CATEGORIES:PDG
END:VEVENT
BEGIN:VEVENT
DTSTART;TZID=UTC:20260408T100000
DTEND;TZID=UTC:20260408T100000
DTSTAMP:20260421T121204
CREATED:20260310T073732Z
LAST-MODIFIED:20260310T073732Z
UID:23657-1775642400-1775642400@www.adetca.cat
SUMMARY:30a edició Festival TRAPEZI
DESCRIPTION:Sandra Araquistain saraquis@gmail.com
URL:https://www.adetca.cat/agenda-event/30a-edicio-festival-trapezi/
CATEGORIES:RDP
END:VEVENT
BEGIN:VEVENT
DTSTART;TZID=UTC:20260407T200000
DTEND;TZID=UTC:20260407T200000
DTSTAMP:20260421T121204
CREATED:20260402T070639Z
LAST-MODIFIED:20260402T071415Z
UID:23886-1775592000-1775592000@www.adetca.cat
SUMMARY:Beethoven
DESCRIPTION:Marc Gall mgall@comedianet.com
URL:https://www.adetca.cat/agenda-event/beethoven/
CATEGORIES:EST
END:VEVENT
BEGIN:VEVENT
DTSTART;TZID=UTC:20260407T103000
DTEND;TZID=UTC:20260407T103000
DTSTAMP:20260421T121204
CREATED:20250625T123805Z
LAST-MODIFIED:20250627T135017Z
UID:20906-1775557800-1775557800@www.adetca.cat
SUMMARY:Mil tres\, say cheese
DESCRIPTION:Clàudia Blasquiz – cblasquiz@teatrelliure.com
URL:https://www.adetca.cat/agenda-event/mil-tres-say-cheese-3/
CATEGORIES:RDP
END:VEVENT
BEGIN:VEVENT
DTSTART;TZID=UTC:20260403T200000
DTEND;TZID=UTC:20260403T200000
DTSTAMP:20260421T121204
CREATED:20260224T084813Z
LAST-MODIFIED:20260224T084813Z
UID:23518-1775246400-1775246400@www.adetca.cat
SUMMARY:Abrakadabra
DESCRIPTION:Jordi Araz contractació@aquitaniateatre.es
URL:https://www.adetca.cat/agenda-event/abrakadabra/
CATEGORIES:EST
END:VEVENT
BEGIN:VEVENT
DTSTART;TZID=UTC:20260401T200000
DTEND;TZID=UTC:20260401T200000
DTSTAMP:20260421T121204
CREATED:20250918T092741Z
LAST-MODIFIED:20251030T115531Z
UID:22101-1775073600-1775073600@www.adetca.cat
SUMMARY:Memorias de Adriano
DESCRIPTION:Anna Pérez aperez@focus.cat
URL:https://www.adetca.cat/agenda-event/memorias-de-adriano/
CATEGORIES:EST
END:VEVENT
BEGIN:VEVENT
DTSTART;TZID=UTC:20260330T120000
DTEND;TZID=UTC:20260330T120000
DTSTAMP:20260421T121204
CREATED:20250918T082706Z
LAST-MODIFIED:20260309T170137Z
UID:22068-1774872000-1774872000@www.adetca.cat
SUMMARY:Una bufetada a temps
DESCRIPTION:Anna perez aperez@focus.cat
URL:https://www.adetca.cat/agenda-event/una-bufetada-a-temps-2/
CATEGORIES:RDP
END:VEVENT
BEGIN:VEVENT
DTSTART;TZID=UTC:20260327T180000
DTEND;TZID=UTC:20260327T180000
DTSTAMP:20260421T121204
CREATED:20260303T144122Z
LAST-MODIFIED:20260303T144122Z
UID:23579-1774634400-1774634400@www.adetca.cat
SUMMARY:Cleo y el mar
DESCRIPTION:David Muntané coordinacio.lapuntual@gmail.com
URL:https://www.adetca.cat/agenda-event/cleo-y-el-mar/
CATEGORIES:EST
END:VEVENT
BEGIN:VEVENT
DTSTART;TZID=UTC:20260327T103000
DTEND;TZID=UTC:20260327T103000
DTSTAMP:20260421T121204
CREATED:20250917T125807Z
LAST-MODIFIED:20260120T131711Z
UID:22014-1774607400-1774607400@www.adetca.cat
SUMMARY:Escenes d'una separació
DESCRIPTION:Ester Cànovas ester@elmalda.cat
URL:https://www.adetca.cat/agenda-event/escenes-duna-separacio/
CATEGORIES:RDP
END:VEVENT
BEGIN:VEVENT
DTSTART;VALUE=DATE:20260327
DTEND;VALUE=DATE:20260328
DTSTAMP:20260421T121204
CREATED:20260317T142551Z
LAST-MODIFIED:20260317T142551Z
UID:23749-1774569600-1774655999@www.adetca.cat
SUMMARY:DIA MUNDIAL DEL TEATRE
DESCRIPTION:
URL:https://www.adetca.cat/agenda-event/dia-mundial-del-teatre-4/
END:VEVENT
BEGIN:VEVENT
DTSTART;TZID=UTC:20260326T200000
DTEND;TZID=UTC:20260326T200000
DTSTAMP:20260421T121204
CREATED:20260306T120059Z
LAST-MODIFIED:20260306T123231Z
UID:23652-1774555200-1774555200@www.adetca.cat
SUMMARY:La carn
DESCRIPTION:Arianna Tanghetti comunicacio@anticteatre.com
URL:https://www.adetca.cat/agenda-event/la-carn/
CATEGORIES:EST
END:VEVENT
BEGIN:VEVENT
DTSTART;TZID=UTC:20260326T200000
DTEND;TZID=UTC:20260326T200000
DTSTAMP:20260421T121204
CREATED:20250918T083602Z
LAST-MODIFIED:20251030T135053Z
UID:22080-1774555200-1774555200@www.adetca.cat
SUMMARY:Una idea genial
DESCRIPTION:Anna perez aperez@focus.cat
URL:https://www.adetca.cat/agenda-event/una-idea-genial-2/
CATEGORIES:EST
END:VEVENT
BEGIN:VEVENT
DTSTART;TZID=UTC:20260326T190000
DTEND;TZID=UTC:20260326T190000
DTSTAMP:20260421T121204
CREATED:20250623T092419Z
LAST-MODIFIED:20250627T135251Z
UID:20806-1774551600-1774551600@www.adetca.cat
SUMMARY:Une tentative presque comme une autre
DESCRIPTION:Clàudia Blasquiz – cblasquiz@teatrelliure.com
URL:https://www.adetca.cat/agenda-event/une-tentative-presque-comme-une-autre/
CATEGORIES:EST
END:VEVENT
BEGIN:VEVENT
DTSTART;TZID=UTC:20260326T180000
DTEND;TZID=UTC:20260326T180000
DTSTAMP:20260421T121204
CREATED:20260122T120020Z
LAST-MODIFIED:20260129T123420Z
UID:23298-1774548000-1774548000@www.adetca.cat
SUMMARY:Ens van caldre les úlceres
DESCRIPTION:Diana Juanpere djuanpere@fundaciojoanbrossa.cat
URL:https://www.adetca.cat/agenda-event/ens-van-caldre-les-ulceres/
CATEGORIES:EST
END:VEVENT
BEGIN:VEVENT
DTSTART;TZID=UTC:20260326T120000
DTEND;TZID=UTC:20260326T120000
DTSTAMP:20260421T121204
CREATED:20250917T125925Z
LAST-MODIFIED:20260128T080504Z
UID:22016-1774526400-1774526400@www.adetca.cat
SUMMARY:Escenes d'una separació
DESCRIPTION:Ester Cànovas ester@elmalda.cat
URL:https://www.adetca.cat/agenda-event/escenes-duna-separacio-2/
CATEGORIES:RDP
END:VEVENT
END:VCALENDAR