BEGIN:VCALENDAR
VERSION:2.0
PRODID:-//ADETCA - ECPv6.15.20//NONSGML v1.0//EN
CALSCALE:GREGORIAN
METHOD:PUBLISH
X-ORIGINAL-URL:https://www.adetca.cat
X-WR-CALDESC:Esdeveniments per ADETCA
REFRESH-INTERVAL;VALUE=DURATION:PT1H
X-Robots-Tag:noindex
X-PUBLISHED-TTL:PT1H
BEGIN:VTIMEZONE
TZID:UTC
BEGIN:STANDARD
TZOFFSETFROM:+0000
TZOFFSETTO:+0000
TZNAME:UTC
DTSTART:20240101T000000
END:STANDARD
END:VTIMEZONE
BEGIN:VEVENT
DTSTART;TZID=UTC:20251009T200000
DTEND;TZID=UTC:20251009T200000
DTSTAMP:20260423T033831
CREATED:20250925T094901Z
LAST-MODIFIED:20250925T094901Z
UID:22296-1760040000-1760040000@www.adetca.cat
SUMMARY:Epidermis o el sabor del cardamomo
DESCRIPTION:Àlex Bargalló comunicacio@atrium.cat
URL:https://www.adetca.cat/agenda-event/epidermis-o-el-sabor-del-cardamomo/
CATEGORIES:EST
END:VEVENT
BEGIN:VEVENT
DTSTART;TZID=UTC:20251009T200000
DTEND;TZID=UTC:20251009T200000
DTSTAMP:20260423T033831
CREATED:20250718T093854Z
LAST-MODIFIED:20250718T093854Z
UID:21354-1760040000-1760040000@www.adetca.cat
SUMMARY:Estrena Estuve en * y me acordé de ti
DESCRIPTION:Anna Espunya teatre@eolia.cat
URL:https://www.adetca.cat/agenda-event/estrena-estuve-en-y-me-acorde-de-ti/
CATEGORIES:EST
END:VEVENT
BEGIN:VEVENT
DTSTART;TZID=UTC:20251009T193000
DTEND;TZID=UTC:20251009T193000
DTSTAMP:20260423T033831
CREATED:20250929T082241Z
LAST-MODIFIED:20250929T082241Z
UID:22336-1760038200-1760038200@www.adetca.cat
SUMMARY:Mata'm psicosi
DESCRIPTION:Diana Juanpere djuanpere@fundaciojoanbrossa.cat
URL:https://www.adetca.cat/agenda-event/matam-psicosi-2/
CATEGORIES:EST
END:VEVENT
BEGIN:VEVENT
DTSTART;TZID=UTC:20251009T190000
DTEND;TZID=UTC:20251009T190000
DTSTAMP:20260423T033831
CREATED:20250623T073255Z
LAST-MODIFIED:20250623T073255Z
UID:20702-1760036400-1760036400@www.adetca.cat
SUMMARY:Boira
DESCRIPTION:Bernat Fornells – Bfornells@tnc.cat
URL:https://www.adetca.cat/agenda-event/boira/
CATEGORIES:EST
END:VEVENT
BEGIN:VEVENT
DTSTART;TZID=UTC:20251009T103000
DTEND;TZID=UTC:20251009T103000
DTSTAMP:20260423T033831
CREATED:20250703T132215Z
LAST-MODIFIED:20251002T141906Z
UID:21105-1760005800-1760005800@www.adetca.cat
SUMMARY:Akhnaten
DESCRIPTION:Helena Grau García – helena.grau@liceubarcelona.cat
URL:https://www.adetca.cat/agenda-event/akhnaten/
CATEGORIES:RDP
END:VEVENT
BEGIN:VEVENT
DTSTART;TZID=UTC:20251008T200000
DTEND;TZID=UTC:20251008T203000
DTSTAMP:20260423T033831
CREATED:20250912T090100Z
LAST-MODIFIED:20250912T090100Z
UID:21948-1759953600-1759955400@www.adetca.cat
SUMMARY:Entre los árboles
DESCRIPTION:Rafaela Rivas – premsa@salaversusglories.cat
URL:https://www.adetca.cat/agenda-event/entre-los-arboles/
CATEGORIES:EST
END:VEVENT
BEGIN:VEVENT
DTSTART;TZID=UTC:20251008T193000
DTEND;TZID=UTC:20251008T193000
DTSTAMP:20260423T033831
CREATED:20250923T123218Z
LAST-MODIFIED:20250923T123218Z
UID:22265-1759951800-1759951800@www.adetca.cat
SUMMARY:Si surts amb vida
DESCRIPTION:
URL:https://www.adetca.cat/agenda-event/si-surts-amb-vida/
CATEGORIES:EST
END:VEVENT
BEGIN:VEVENT
DTSTART;TZID=UTC:20251008T120000
DTEND;TZID=UTC:20251008T120000
DTSTAMP:20260423T033831
CREATED:20250925T123311Z
LAST-MODIFIED:20251006T150824Z
UID:22312-1759924800-1759924800@www.adetca.cat
SUMMARY:Projecte nova directora Mercat de les Flors
DESCRIPTION:Mercè Ros mros@mercatflors.cat
URL:https://www.adetca.cat/agenda-event/projecte-nova-directora-mercat-de-les-flors-2/
CATEGORIES:RDP
END:VEVENT
BEGIN:VEVENT
DTSTART;TZID=UTC:20251008T110000
DTEND;TZID=UTC:20251008T110000
DTSTAMP:20260423T033831
CREATED:20250721T130235Z
LAST-MODIFIED:20250929T094830Z
UID:21384-1759921200-1759921200@www.adetca.cat
SUMMARY:Hi! I'm Steven
DESCRIPTION:Ester Cánovas ester@elmalda.cat
URL:https://www.adetca.cat/agenda-event/hi-im-steven-3/
CATEGORIES:RDP
END:VEVENT
BEGIN:VEVENT
DTSTART;TZID=UTC:20251008T100000
DTEND;TZID=UTC:20251008T100000
DTSTAMP:20260423T033831
CREATED:20250909T103740Z
LAST-MODIFIED:20251001T092733Z
UID:21809-1759917600-1759917600@www.adetca.cat
SUMMARY:Gernika
DESCRIPTION:Aloma Vilamala aloma@tremenda.cat
URL:https://www.adetca.cat/agenda-event/lectures-temporada-alta-festival-classics-2/
CATEGORIES:RDP
END:VEVENT
BEGIN:VEVENT
DTSTART;TZID=UTC:20251007T180000
DTEND;TZID=UTC:20251007T210000
DTSTAMP:20260423T033831
CREATED:20250911T155209Z
LAST-MODIFIED:20250911T155209Z
UID:21910-1759860000-1759870800@www.adetca.cat
SUMMARY:Lectura nominats Premis Butaca
DESCRIPTION:Marc Gall mgall@comedianet.com
URL:https://www.adetca.cat/agenda-event/lectura-nominats-premis-butaca-2/
CATEGORIES:RDP
END:VEVENT
BEGIN:VEVENT
DTSTART;TZID=UTC:20251007T123000
DTEND;TZID=UTC:20251007T123000
DTSTAMP:20260423T033831
CREATED:20250926T141649Z
LAST-MODIFIED:20250926T142403Z
UID:22327-1759840200-1759840200@www.adetca.cat
SUMMARY:Tootsie\, la sitcom musical
DESCRIPTION:Cristina Alda comunicacion@gruposmedia.com
URL:https://www.adetca.cat/agenda-event/tootsie-la-sitcom-musical/
CATEGORIES:PDG,RDP
END:VEVENT
BEGIN:VEVENT
DTSTART;TZID=UTC:20251007T103000
DTEND;TZID=UTC:20251007T103000
DTSTAMP:20260423T033831
CREATED:20250708T154128Z
LAST-MODIFIED:20251003T072731Z
UID:21258-1759833000-1759833000@www.adetca.cat
SUMMARY:Supersàpiens (espectacle immersiu)
DESCRIPTION:Ruben Garcia ruben@barc.coop
URL:https://www.adetca.cat/agenda-event/supersapiens-2/
CATEGORIES:RDP
END:VEVENT
BEGIN:VEVENT
DTSTART;TZID=UTC:20251006T180000
DTEND;TZID=UTC:20251006T210000
DTSTAMP:20260423T033831
CREATED:20250911T155048Z
LAST-MODIFIED:20250911T155048Z
UID:21907-1759773600-1759784400@www.adetca.cat
SUMMARY:Lectura nominats Premis Butaca
DESCRIPTION:Marc Gall mgall@comedianet.com
URL:https://www.adetca.cat/agenda-event/lectura-nominats-premis-butaca/
CATEGORIES:RDP
END:VEVENT
BEGIN:VEVENT
DTSTART;TZID=UTC:20251006T120000
DTEND;TZID=UTC:20251006T120000
DTSTAMP:20260423T033831
CREATED:20250925T123223Z
LAST-MODIFIED:20250925T123223Z
UID:22309-1759752000-1759752000@www.adetca.cat
SUMMARY:Projecte nova directora Mercat de les Flors
DESCRIPTION:Mercè Ros mros@mercatflors.cat
URL:https://www.adetca.cat/agenda-event/projecte-nova-directora-mercat-de-les-flors/
CATEGORIES:RDP
END:VEVENT
BEGIN:VEVENT
DTSTART;TZID=UTC:20251006T103000
DTEND;TZID=UTC:20251006T103000
DTSTAMP:20260423T033831
CREATED:20250915T112814Z
LAST-MODIFIED:20250923T124415Z
UID:21974-1759746600-1759746600@www.adetca.cat
SUMMARY:Lectures Temporada Alta Festival Clàssics
DESCRIPTION:Aloma Vilamala aloma@tremenda.cat
URL:https://www.adetca.cat/agenda-event/lectures-temporada-alta-festival-classics/
CATEGORIES:RDP
END:VEVENT
BEGIN:VEVENT
DTSTART;TZID=UTC:20251005T120000
DTEND;TZID=UTC:20251005T120000
DTSTAMP:20260423T033831
CREATED:20250728T105028Z
LAST-MODIFIED:20250728T105028Z
UID:21553-1759665600-1759665600@www.adetca.cat
SUMMARY:Mag Stigman: El Circ dels Impossibles
DESCRIPTION:Jordi Araz contractacio@aquitaniateatre.es
URL:https://www.adetca.cat/agenda-event/mag-stigman-el-circ-dels-impossibles/
CATEGORIES:EST
END:VEVENT
BEGIN:VEVENT
DTSTART;TZID=UTC:20251004T220000
DTEND;TZID=UTC:20251004T220000
DTSTAMP:20260423T033831
CREATED:20250627T105008Z
LAST-MODIFIED:20250918T104749Z
UID:20978-1759615200-1759615200@www.adetca.cat
SUMMARY:Paloma de parque
DESCRIPTION:Martí Rossell marti@barccomunicacio.com
URL:https://www.adetca.cat/agenda-event/espectacle-a-confirmar-2/
CATEGORIES:EST
END:VEVENT
BEGIN:VEVENT
DTSTART;TZID=UTC:20251004T200000
DTEND;TZID=UTC:20251004T200000
DTSTAMP:20260423T033831
CREATED:20250923T121831Z
LAST-MODIFIED:20250923T140630Z
UID:22263-1759608000-1759608000@www.adetca.cat
SUMMARY:Temporada Alta - Lliurament del premi Quim Masó 2025
DESCRIPTION:Eugènia Berga eugenia@bito.pro
URL:https://www.adetca.cat/agenda-event/lliurament-del-premi-quim-maso-2025/
CATEGORIES:EST
END:VEVENT
BEGIN:VEVENT
DTSTART;TZID=UTC:20251004T190000
DTEND;TZID=UTC:20251004T190000
DTSTAMP:20260423T033831
CREATED:20250623T085413Z
LAST-MODIFIED:20250627T141014Z
UID:20771-1759604400-1759604400@www.adetca.cat
SUMMARY:Fosca
DESCRIPTION:Clàudia Blasquiz – cblasquiz@teatrelliure.com
URL:https://www.adetca.cat/agenda-event/fosca/
CATEGORIES:EST
END:VEVENT
BEGIN:VEVENT
DTSTART;TZID=UTC:20251004T120000
DTEND;TZID=UTC:20251004T120000
DTSTAMP:20260423T033831
CREATED:20250728T104806Z
LAST-MODIFIED:20250728T104806Z
UID:21551-1759579200-1759579200@www.adetca.cat
SUMMARY:PAN\, la gran aventura
DESCRIPTION:Jordi Araz contractacio@aquitaniateatre.es
URL:https://www.adetca.cat/agenda-event/pan-la-gran-aventura/
CATEGORIES:EST
END:VEVENT
BEGIN:VEVENT
DTSTART;TZID=UTC:20251003T203000
DTEND;TZID=UTC:20251003T203000
DTSTAMP:20260423T033831
CREATED:20250929T081903Z
LAST-MODIFIED:20250929T081903Z
UID:22331-1759523400-1759523400@www.adetca.cat
SUMMARY:L'internacional. Un sandvitx arqueològic de Barcelona
DESCRIPTION:Diana Juanpere djuanpere@fundaciojoanbrossa.cat
URL:https://www.adetca.cat/agenda-event/linternacional-un-sandvitx-arqueologic-de-barcelona/
CATEGORIES:EST
END:VEVENT
BEGIN:VEVENT
DTSTART;TZID=UTC:20251003T200000
DTEND;TZID=UTC:20251003T200000
DTSTAMP:20260423T033831
CREATED:20250728T104529Z
LAST-MODIFIED:20250728T104529Z
UID:21549-1759521600-1759521600@www.adetca.cat
SUMMARY:Culpables
DESCRIPTION:Jordi Araz contractacio@aquitaniateatre.es
URL:https://www.adetca.cat/agenda-event/culpables/
CATEGORIES:EST
END:VEVENT
BEGIN:VEVENT
DTSTART;TZID=UTC:20251003T190000
DTEND;TZID=UTC:20251003T190000
DTSTAMP:20260423T033831
CREATED:20250929T080155Z
LAST-MODIFIED:20250929T080155Z
UID:22329-1759518000-1759518000@www.adetca.cat
SUMMARY:Lilianae #Am
DESCRIPTION:Diana Juanpere djuanpere@fundaciojoanbrossa.cat
URL:https://www.adetca.cat/agenda-event/lilianae-am/
CATEGORIES:EST
END:VEVENT
BEGIN:VEVENT
DTSTART;TZID=UTC:20251003T180000
DTEND;TZID=UTC:20251003T180000
DTSTAMP:20260423T033831
CREATED:20250923T081544Z
LAST-MODIFIED:20250923T081544Z
UID:22230-1759514400-1759514400@www.adetca.cat
SUMMARY:El fado de Ulisses
DESCRIPTION:David Muntané coordinacio.lapuntual@gmail.com
URL:https://www.adetca.cat/agenda-event/el-fado-de-ulisses/
CATEGORIES:EST
END:VEVENT
BEGIN:VEVENT
DTSTART;TZID=UTC:20251003T120000
DTEND;TZID=UTC:20251003T120000
DTSTAMP:20260423T033831
CREATED:20250808T063801Z
LAST-MODIFIED:20250923T093345Z
UID:21649-1759492800-1759492800@www.adetca.cat
SUMMARY:Roda de premsa 28a Fira Mediterrània de Manresa
DESCRIPTION:Eduard Sant – esant@culturae.cat \nNéstor Lozano nlozano@culturae.com
URL:https://www.adetca.cat/agenda-event/roda-de-premsa-fira-mediterrania-de-manresa-2/
CATEGORIES:RDP
END:VEVENT
BEGIN:VEVENT
DTSTART;TZID=UTC:20251003T110000
DTEND;TZID=UTC:20251003T170000
DTSTAMP:20260423T033831
CREATED:20250731T080800Z
LAST-MODIFIED:20250731T080800Z
UID:21586-1759489200-1759510800@www.adetca.cat
SUMMARY:Pan -  La gran aventura
DESCRIPTION:Cristina Blmont xtna@kdecomunicacion.com
URL:https://www.adetca.cat/agenda-event/pan-la-gran-aventura-2/
CATEGORIES:PDG,RDP
END:VEVENT
BEGIN:VEVENT
DTSTART;TZID=UTC:20251003T110000
DTEND;TZID=UTC:20251003T110000
DTSTAMP:20260423T033831
CREATED:20250728T084555Z
LAST-MODIFIED:20250925T095407Z
UID:21497-1759489200-1759489200@www.adetca.cat
SUMMARY:Palau - OSV
DESCRIPTION:Imma Anglès iangles@palaumusica.cat
URL:https://www.adetca.cat/agenda-event/simfonics-al-palau/
CATEGORIES:RDP
END:VEVENT
BEGIN:VEVENT
DTSTART;TZID=UTC:20251002T200000
DTEND;TZID=UTC:20251002T200000
DTSTAMP:20260423T033831
CREATED:20250728T090951Z
LAST-MODIFIED:20250728T094633Z
UID:21525-1759435200-1759435200@www.adetca.cat
SUMMARY:Arró com mango
DESCRIPTION:Arianna Tanghetti comunicacio@anticteatre.com
URL:https://www.adetca.cat/agenda-event/arro-com-mango/
CATEGORIES:EST
END:VEVENT
BEGIN:VEVENT
DTSTART;TZID=UTC:20251002T200000
DTEND;TZID=UTC:20251002T200000
DTSTAMP:20260423T033831
CREATED:20250728T090722Z
LAST-MODIFIED:20250728T090722Z
UID:21522-1759435200-1759435200@www.adetca.cat
SUMMARY:Break Time (peça itinerant)
DESCRIPTION:Arianna Tanghetti comunicacio@anticteatre.com
URL:https://www.adetca.cat/agenda-event/break-time-peca-itinerant/
CATEGORIES:EST
END:VEVENT
END:VCALENDAR