BEGIN:VCALENDAR
VERSION:2.0
PRODID:-//ADETCA - ECPv6.15.20//NONSGML v1.0//EN
CALSCALE:GREGORIAN
METHOD:PUBLISH
X-WR-CALNAME:ADETCA
X-ORIGINAL-URL:https://www.adetca.cat
X-WR-CALDESC:Esdeveniments per ADETCA
REFRESH-INTERVAL;VALUE=DURATION:PT1H
X-Robots-Tag:noindex
X-PUBLISHED-TTL:PT1H
BEGIN:VTIMEZONE
TZID:UTC
BEGIN:STANDARD
TZOFFSETFROM:+0000
TZOFFSETTO:+0000
TZNAME:UTC
DTSTART:20240101T000000
END:STANDARD
END:VTIMEZONE
BEGIN:VEVENT
DTSTART;TZID=UTC:20251003T180000
DTEND;TZID=UTC:20251003T180000
DTSTAMP:20260423T055512
CREATED:20250923T081544Z
LAST-MODIFIED:20250923T081544Z
UID:22230-1759514400-1759514400@www.adetca.cat
SUMMARY:El fado de Ulisses
DESCRIPTION:David Muntané coordinacio.lapuntual@gmail.com
URL:https://www.adetca.cat/agenda-event/el-fado-de-ulisses/
CATEGORIES:EST
END:VEVENT
BEGIN:VEVENT
DTSTART;TZID=UTC:20251003T120000
DTEND;TZID=UTC:20251003T120000
DTSTAMP:20260423T055512
CREATED:20250808T063801Z
LAST-MODIFIED:20250923T093345Z
UID:21649-1759492800-1759492800@www.adetca.cat
SUMMARY:Roda de premsa 28a Fira Mediterrània de Manresa
DESCRIPTION:Eduard Sant – esant@culturae.cat \nNéstor Lozano nlozano@culturae.com
URL:https://www.adetca.cat/agenda-event/roda-de-premsa-fira-mediterrania-de-manresa-2/
CATEGORIES:RDP
END:VEVENT
BEGIN:VEVENT
DTSTART;TZID=UTC:20251003T110000
DTEND;TZID=UTC:20251003T170000
DTSTAMP:20260423T055512
CREATED:20250731T080800Z
LAST-MODIFIED:20250731T080800Z
UID:21586-1759489200-1759510800@www.adetca.cat
SUMMARY:Pan -  La gran aventura
DESCRIPTION:Cristina Blmont xtna@kdecomunicacion.com
URL:https://www.adetca.cat/agenda-event/pan-la-gran-aventura-2/
CATEGORIES:PDG,RDP
END:VEVENT
BEGIN:VEVENT
DTSTART;TZID=UTC:20251003T110000
DTEND;TZID=UTC:20251003T110000
DTSTAMP:20260423T055512
CREATED:20250728T084555Z
LAST-MODIFIED:20250925T095407Z
UID:21497-1759489200-1759489200@www.adetca.cat
SUMMARY:Palau - OSV
DESCRIPTION:Imma Anglès iangles@palaumusica.cat
URL:https://www.adetca.cat/agenda-event/simfonics-al-palau/
CATEGORIES:RDP
END:VEVENT
BEGIN:VEVENT
DTSTART;TZID=UTC:20251002T200000
DTEND;TZID=UTC:20251002T200000
DTSTAMP:20260423T055512
CREATED:20250728T090951Z
LAST-MODIFIED:20250728T094633Z
UID:21525-1759435200-1759435200@www.adetca.cat
SUMMARY:Arró com mango
DESCRIPTION:Arianna Tanghetti comunicacio@anticteatre.com
URL:https://www.adetca.cat/agenda-event/arro-com-mango/
CATEGORIES:EST
END:VEVENT
BEGIN:VEVENT
DTSTART;TZID=UTC:20251002T200000
DTEND;TZID=UTC:20251002T200000
DTSTAMP:20260423T055512
CREATED:20250728T090722Z
LAST-MODIFIED:20250728T090722Z
UID:21522-1759435200-1759435200@www.adetca.cat
SUMMARY:Break Time (peça itinerant)
DESCRIPTION:Arianna Tanghetti comunicacio@anticteatre.com
URL:https://www.adetca.cat/agenda-event/break-time-peca-itinerant/
CATEGORIES:EST
END:VEVENT
BEGIN:VEVENT
DTSTART;TZID=UTC:20251002T200000
DTEND;TZID=UTC:20251002T200000
DTSTAMP:20260423T055512
CREATED:20250509T102535Z
LAST-MODIFIED:20250509T104532Z
UID:20318-1759435200-1759435200@www.adetca.cat
SUMMARY:Pel davant i pel darrera
DESCRIPTION:Mima Garriga mimagarriga@gmail.com
URL:https://www.adetca.cat/agenda-event/pel-davant-i-pel-darrera/
CATEGORIES:EST
END:VEVENT
BEGIN:VEVENT
DTSTART;TZID=UTC:20251002T190000
DTEND;TZID=UTC:20251002T190000
DTSTAMP:20260423T055512
CREATED:20250623T072922Z
LAST-MODIFIED:20250623T073409Z
UID:20700-1759431600-1759431600@www.adetca.cat
SUMMARY:La filla de l'aire
DESCRIPTION:Bernat Fornells – Bfornells@tnc.cat
URL:https://www.adetca.cat/agenda-event/la-filla-de-laire/
CATEGORIES:EST
END:VEVENT
BEGIN:VEVENT
DTSTART;TZID=UTC:20251002T120000
DTEND;TZID=UTC:20251002T120000
DTSTAMP:20260423T055512
CREATED:20250724T151201Z
LAST-MODIFIED:20250724T151201Z
UID:21420-1759406400-1759406400@www.adetca.cat
SUMMARY:Boira
DESCRIPTION:Esther Vendrell – Evendrell@tnc.cat
URL:https://www.adetca.cat/agenda-event/boira-2/
CATEGORIES:RDP
END:VEVENT
BEGIN:VEVENT
DTSTART;TZID=UTC:20251002T110000
DTEND;TZID=UTC:20251002T110000
DTSTAMP:20260423T055512
CREATED:20250929T082111Z
LAST-MODIFIED:20250929T082111Z
UID:22334-1759402800-1759402800@www.adetca.cat
SUMMARY:Danses romàntiques / Antena fantasma de Montdedutor
DESCRIPTION:Diana Juanpere djuanpere@fundaciojoanbrossa.cat
URL:https://www.adetca.cat/agenda-event/danses-romantiques-antena-fantasma-de-montdedutor/
CATEGORIES:EST
END:VEVENT
BEGIN:VEVENT
DTSTART;TZID=UTC:20251002T100000
DTEND;TZID=UTC:20251002T100000
DTSTAMP:20260423T055512
CREATED:20250721T124856Z
LAST-MODIFIED:20250909T104533Z
UID:21379-1759399200-1759399200@www.adetca.cat
SUMMARY:Presentació de la Temporada Òpera a Catalunya 2025/26
DESCRIPTION:Neus Casso ncasso@operacatalunya.cat
URL:https://www.adetca.cat/agenda-event/presentacio-de-la-temporada-opera-a-catalunya/
CATEGORIES:RDP
END:VEVENT
BEGIN:VEVENT
DTSTART;TZID=UTC:20251001T203000
DTEND;TZID=UTC:20251001T203000
DTSTAMP:20260423T055512
CREATED:20250912T082450Z
LAST-MODIFIED:20250912T082450Z
UID:21920-1759350600-1759350600@www.adetca.cat
SUMMARY:Mary's room (Black box)
DESCRIPTION:Ana Candela – premsa@tantarantana.com
URL:https://www.adetca.cat/agenda-event/marys-room-black-box/
CATEGORIES:EST
END:VEVENT
BEGIN:VEVENT
DTSTART;TZID=UTC:20251001T200000
DTEND;TZID=UTC:20251001T203000
DTSTAMP:20260423T055512
CREATED:20250912T085940Z
LAST-MODIFIED:20250912T085940Z
UID:21946-1759348800-1759350600@www.adetca.cat
SUMMARY:La memòria del gel
DESCRIPTION:Rafaela Rivas – premsa@salaversusglories.cat
URL:https://www.adetca.cat/agenda-event/la-memoria-del-gel-2/
CATEGORIES:EST
END:VEVENT
BEGIN:VEVENT
DTSTART;TZID=UTC:20251001T193000
DTEND;TZID=UTC:20251001T193000
DTSTAMP:20260423T055512
CREATED:20250918T071637Z
LAST-MODIFIED:20250918T071637Z
UID:22038-1759347000-1759347000@www.adetca.cat
SUMMARY:Qui va matar el meu pare
DESCRIPTION:Mireia Pol mireia@heartbreakhotel.cat
URL:https://www.adetca.cat/agenda-event/qui-va-matar-el-meu-pare-2/
CATEGORIES:EST
END:VEVENT
BEGIN:VEVENT
DTSTART;TZID=UTC:20251001T160000
DTEND;TZID=UTC:20251001T160000
DTSTAMP:20260423T055512
CREATED:20250704T105554Z
LAST-MODIFIED:20250915T110726Z
UID:21182-1759334400-1759334400@www.adetca.cat
SUMMARY:Presentació Temporada 2025/26 de laSala
DESCRIPTION:Aina Moles comunicacio@lasalateatre.cat
URL:https://www.adetca.cat/agenda-event/presentacio-temporada-25-26-de-lasala/
CATEGORIES:RDP
END:VEVENT
BEGIN:VEVENT
DTSTART;TZID=UTC:20251001T123000
DTEND;TZID=UTC:20251001T123000
DTSTAMP:20260423T055512
CREATED:20250909T104104Z
LAST-MODIFIED:20250923T121601Z
UID:21811-1759321800-1759321800@www.adetca.cat
SUMMARY:Projecte A Tempo
DESCRIPTION:Eugènia Berga eugenia@bito.pro
URL:https://www.adetca.cat/agenda-event/temporada-alta-39/
CATEGORIES:RDP
END:VEVENT
BEGIN:VEVENT
DTSTART;TZID=UTC:20251001T110000
DTEND;TZID=UTC:20251001T110000
DTSTAMP:20260423T055512
CREATED:20250913T081316Z
LAST-MODIFIED:20250925T094507Z
UID:21965-1759316400-1759316400@www.adetca.cat
SUMMARY:Festival Internacional de Pallasses
DESCRIPTION:Mónica Rakosnik mónica.rakosnik@weareboth.com
URL:https://www.adetca.cat/agenda-event/festival-internacional-de-pallasses-2/
CATEGORIES:RDP
END:VEVENT
BEGIN:VEVENT
DTSTART;TZID=UTC:20251001T103000
DTEND;TZID=UTC:20251001T103000
DTSTAMP:20260423T055512
CREATED:20250922T115758Z
LAST-MODIFIED:20250922T120211Z
UID:22223-1759314600-1759314600@www.adetca.cat
SUMMARY:Presentació versió digital "El Fantasma de l'Òpera"
DESCRIPTION:Cristina Belmonte xtna@kdecomunicacion.com
URL:https://www.adetca.cat/agenda-event/presentacio-versio-digital-el-fantasma-de-lopera/
CATEGORIES:PDG,RDP
END:VEVENT
BEGIN:VEVENT
DTSTART;TZID=UTC:20250930T200000
DTEND;TZID=UTC:20250930T200000
DTSTAMP:20260423T055512
CREATED:20250603T071601Z
LAST-MODIFIED:20250603T071601Z
UID:20568-1759262400-1759262400@www.adetca.cat
SUMMARY:LA CUBANA - L'Amor venia amb taxi
DESCRIPTION:Pol Vinyes premsa@lacubana.es
URL:https://www.adetca.cat/agenda-event/la-cubana-lamor-venia-amb-taxi-2/
CATEGORIES:EST
END:VEVENT
BEGIN:VEVENT
DTSTART;TZID=UTC:20250930T120000
DTEND;TZID=UTC:20250930T120000
DTSTAMP:20260423T055512
CREATED:20250623T102930Z
LAST-MODIFIED:20250627T141034Z
UID:20835-1759233600-1759233600@www.adetca.cat
SUMMARY:Fosca
DESCRIPTION:Clàudia Blasquiz – cblasquiz@teatrelliure.com
URL:https://www.adetca.cat/agenda-event/fosca-2/
CATEGORIES:RDP
END:VEVENT
BEGIN:VEVENT
DTSTART;TZID=UTC:20250930T110000
DTEND;TZID=UTC:20250930T110000
DTSTAMP:20260423T055512
CREATED:20250708T134844Z
LAST-MODIFIED:20250717T074242Z
UID:21245-1759230000-1759230000@www.adetca.cat
SUMMARY:CÈLU·LA #6
DESCRIPTION:Mercè ros mros@mercatflors.cat
URL:https://www.adetca.cat/agenda-event/celu%c2%b7la-6/
CATEGORIES:RDP
END:VEVENT
BEGIN:VEVENT
DTSTART;TZID=UTC:20250929T203000
DTEND;TZID=UTC:20250929T203000
DTSTAMP:20260423T055512
CREATED:20250818T141837Z
LAST-MODIFIED:20250909T144322Z
UID:21660-1759177800-1759177800@www.adetca.cat
SUMMARY:El fantasma de la opera
DESCRIPTION:Sandra Araquistain saraquis@gmail.com
URL:https://www.adetca.cat/agenda-event/el-fantasma-de-la-opera-4/
CATEGORIES:EST
END:VEVENT
BEGIN:VEVENT
DTSTART;TZID=UTC:20250929T200000
DTEND;TZID=UTC:20250929T200000
DTSTAMP:20260423T055512
CREATED:20250918T080351Z
LAST-MODIFIED:20250918T080351Z
UID:22042-1759176000-1759176000@www.adetca.cat
SUMMARY:Hombre por necesidad
DESCRIPTION:Anna perez aperez@focus.cat
URL:https://www.adetca.cat/agenda-event/hombre-por-necesidad/
CATEGORIES:EST
END:VEVENT
BEGIN:VEVENT
DTSTART;TZID=UTC:20250929T120000
DTEND;TZID=UTC:20250929T120000
DTSTAMP:20260423T055512
CREATED:20250724T151037Z
LAST-MODIFIED:20250724T151037Z
UID:21418-1759147200-1759147200@www.adetca.cat
SUMMARY:La filla de l'aire
DESCRIPTION:Esther Vendrell – Evendrell@tnc.cat
URL:https://www.adetca.cat/agenda-event/la-filla-de-laire-3/
CATEGORIES:RDP
END:VEVENT
BEGIN:VEVENT
DTSTART;TZID=UTC:20250929T103000
DTEND;TZID=UTC:20250929T103000
DTSTAMP:20260423T055512
CREATED:20250902T133143Z
LAST-MODIFIED:20250923T104722Z
UID:21741-1759141800-1759141800@www.adetca.cat
SUMMARY:Nosaltres\, els sense nom + Llibràlegs + XV Torneig de Dramatúrgia
DESCRIPTION:Paula Pairó ppairocortada@gmail.com
URL:https://www.adetca.cat/agenda-event/temporada-alta-26/
CATEGORIES:RDP
END:VEVENT
BEGIN:VEVENT
DTSTART;TZID=UTC:20250926T180000
DTEND;TZID=UTC:20250926T180000
DTSTAMP:20260423T055512
CREATED:20250728T102229Z
LAST-MODIFIED:20250728T103432Z
UID:21531-1758909600-1758909600@www.adetca.cat
SUMMARY:En la boca del lobo
DESCRIPTION:David Muntané coordinacio.lapuntual@gmail.com
URL:https://www.adetca.cat/agenda-event/en-la-boca-del-lobo/
CATEGORIES:EST
END:VEVENT
BEGIN:VEVENT
DTSTART;TZID=UTC:20250926T120000
DTEND;TZID=UTC:20250926T120000
DTSTAMP:20260423T055512
CREATED:20250310T080554Z
LAST-MODIFIED:20250901T083514Z
UID:19810-1758888000-1758888000@www.adetca.cat
SUMMARY:LA CUBANA L'Amor venia amb taxi
DESCRIPTION:Pol Vinyes premsa@lacubana.es
URL:https://www.adetca.cat/agenda-event/la-cubana-lamor-venia-amb-taxi/
CATEGORIES:RDP
END:VEVENT
BEGIN:VEVENT
DTSTART;TZID=UTC:20250925T200000
DTEND;TZID=UTC:20250925T203000
DTSTAMP:20260423T055512
CREATED:20250912T082240Z
LAST-MODIFIED:20250912T085142Z
UID:21918-1758830400-1758832200@www.adetca.cat
SUMMARY:Tribut a les rates
DESCRIPTION:Ana Candela – premsa@tantarantana.com
URL:https://www.adetca.cat/agenda-event/tribut-a-les-rtes/
CATEGORIES:EST
END:VEVENT
BEGIN:VEVENT
DTSTART;TZID=UTC:20250925T200000
DTEND;TZID=UTC:20250925T200000
DTSTAMP:20260423T055512
CREATED:20250728T090533Z
LAST-MODIFIED:20250728T090533Z
UID:21520-1758830400-1758830400@www.adetca.cat
SUMMARY:Fuerte esperpento
DESCRIPTION:Arianna Tanghetti comunicacio@anticteatre.com
URL:https://www.adetca.cat/agenda-event/fuerte-esperpento-2/
CATEGORIES:EST
END:VEVENT
BEGIN:VEVENT
DTSTART;TZID=UTC:20250925T200000
DTEND;TZID=UTC:20250925T200000
DTSTAMP:20260423T055512
CREATED:20250627T104823Z
LAST-MODIFIED:20250918T104633Z
UID:20976-1758830400-1758830400@www.adetca.cat
SUMMARY:Ovelles
DESCRIPTION:Martí Rossell marti@barccomunicacio.com
URL:https://www.adetca.cat/agenda-event/espectacle-a-confirmar/
CATEGORIES:EST
END:VEVENT
END:VCALENDAR