BEGIN:VCALENDAR
VERSION:2.0
PRODID:-//ADETCA - ECPv6.15.20//NONSGML v1.0//EN
CALSCALE:GREGORIAN
METHOD:PUBLISH
X-WR-CALNAME:ADETCA
X-ORIGINAL-URL:https://www.adetca.cat
X-WR-CALDESC:Esdeveniments per ADETCA
REFRESH-INTERVAL;VALUE=DURATION:PT1H
X-Robots-Tag:noindex
X-PUBLISHED-TTL:PT1H
BEGIN:VTIMEZONE
TZID:UTC
BEGIN:STANDARD
TZOFFSETFROM:+0000
TZOFFSETTO:+0000
TZNAME:UTC
DTSTART:20240101T000000
END:STANDARD
END:VTIMEZONE
BEGIN:VEVENT
DTSTART;TZID=UTC:20250917T200000
DTEND;TZID=UTC:20250917T200000
DTSTAMP:20260423T112629
CREATED:20250911T154434Z
LAST-MODIFIED:20250911T154754Z
UID:21905-1758139200-1758139200@www.adetca.cat
SUMMARY:Llogatera
DESCRIPTION:Fernando Solla prensa@teatreakademia.cat
URL:https://www.adetca.cat/agenda-event/llogatera/
CATEGORIES:EST
END:VEVENT
BEGIN:VEVENT
DTSTART;TZID=UTC:20250917T200000
DTEND;TZID=UTC:20250917T200000
DTSTAMP:20260423T112629
CREATED:20250731T083513Z
LAST-MODIFIED:20250731T083513Z
UID:21594-1758139200-1758139200@www.adetca.cat
SUMMARY:Del fandom al troleig. Una sàtira del bla bla bla
DESCRIPTION:Núria Amat premsa@salabeckett.cat
URL:https://www.adetca.cat/agenda-event/del-fandom-al-troleig-una-satira-del-bla-bla-bla/
CATEGORIES:EST
END:VEVENT
BEGIN:VEVENT
DTSTART;TZID=UTC:20250917T200000
DTEND;TZID=UTC:20250917T200000
DTSTAMP:20260423T112629
CREATED:20250424T102052Z
LAST-MODIFIED:20250424T102052Z
UID:20129-1758139200-1758139200@www.adetca.cat
SUMMARY:Els bons
DESCRIPTION:Ivan Danot ivandanot@gmail.com
URL:https://www.adetca.cat/agenda-event/els-bons/
CATEGORIES:EST
END:VEVENT
BEGIN:VEVENT
DTSTART;TZID=UTC:20250917T100000
DTEND;TZID=UTC:20250917T190000
DTSTAMP:20260423T112629
CREATED:20250724T095805Z
LAST-MODIFIED:20250724T100846Z
UID:21399-1758103200-1758135600@www.adetca.cat
SUMMARY:Exposició Antarctica Experience
DESCRIPTION:Xavi Lleyda xlleyda@focus.cat
URL:https://www.adetca.cat/agenda-event/exposicio-antarctica-experience/
CATEGORIES:RDP
END:VEVENT
BEGIN:VEVENT
DTSTART;TZID=UTC:20250917T100000
DTEND;TZID=UTC:20250917T100000
DTSTAMP:20260423T112629
CREATED:20250708T080251Z
LAST-MODIFIED:20250904T074139Z
UID:21210-1758103200-1758103200@www.adetca.cat
SUMMARY:Presentació Festival Clàssics
DESCRIPTION:Aloma Vilamala aloma@tremenda.cat
URL:https://www.adetca.cat/agenda-event/presentacio-festival-classics/
CATEGORIES:RDP
END:VEVENT
BEGIN:VEVENT
DTSTART;TZID=UTC:20250916T200000
DTEND;TZID=UTC:20250916T200000
DTSTAMP:20260423T112629
CREATED:20250616T074125Z
LAST-MODIFIED:20250724T100503Z
UID:20666-1758052800-1758052800@www.adetca.cat
SUMMARY:Estrena oficial Teatres del Farró
DESCRIPTION:Marc Gall mgall@comedianet.com
URL:https://www.adetca.cat/agenda-event/esptena-oficial-teatres-del-farro/
CATEGORIES:RDP
END:VEVENT
BEGIN:VEVENT
DTSTART;TZID=UTC:20250916T120000
DTEND;TZID=UTC:20250916T120000
DTSTAMP:20260423T112629
CREATED:20250623T102355Z
LAST-MODIFIED:20250627T141217Z
UID:20829-1758024000-1758024000@www.adetca.cat
SUMMARY:El mestre i Margarita
DESCRIPTION:Clàudia Blasquiz – cblasquiz@teatrelliure.com
URL:https://www.adetca.cat/agenda-event/el-mestre-i-margarita-3/
CATEGORIES:RDP
END:VEVENT
BEGIN:VEVENT
DTSTART;TZID=UTC:20250915T200000
DTEND;TZID=UTC:20250915T200000
DTSTAMP:20260423T112629
CREATED:20250731T083321Z
LAST-MODIFIED:20250731T083351Z
UID:21591-1757966400-1757966400@www.adetca.cat
SUMMARY:El potser com a públic
DESCRIPTION:Núria Amat premsa@salabeckett.cat
URL:https://www.adetca.cat/agenda-event/el-potser-com-a-public/
CATEGORIES:EST
END:VEVENT
BEGIN:VEVENT
DTSTART;TZID=UTC:20250915T190000
DTEND;TZID=UTC:20250915T190000
DTSTAMP:20260423T112629
CREATED:20250530T131444Z
LAST-MODIFIED:20250915T151940Z
UID:20554-1757962800-1757962800@www.adetca.cat
SUMMARY:Presentació Temporada 2025/26 Balañá en Viu
DESCRIPTION:Mima Garriga mimagarriga@gmail.com
URL:https://www.adetca.cat/agenda-event/presentacio-temporada-2025-26-balana-en-viu/
CATEGORIES:RDP
END:VEVENT
BEGIN:VEVENT
DTSTART;TZID=UTC:20250915T120000
DTEND;TZID=UTC:20250915T120000
DTSTAMP:20260423T112629
CREATED:20250703T131910Z
LAST-MODIFIED:20250905T110652Z
UID:21102-1757937600-1757937600@www.adetca.cat
SUMMARY:La guineueta astuta
DESCRIPTION:Helena Grau García – helena.grau@liceubarcelona.cat
URL:https://www.adetca.cat/agenda-event/la-guineueta-astuta/
CATEGORIES:RDP
END:VEVENT
BEGIN:VEVENT
DTSTART;TZID=UTC:20250915T120000
DTEND;TZID=UTC:20250915T120000
DTSTAMP:20260423T112629
CREATED:20250205T115100Z
LAST-MODIFIED:20250709T114449Z
UID:19559-1757937600-1757937600@www.adetca.cat
SUMMARY:Comiat Àngels Margarit
DESCRIPTION:Mercè ros mros@mercatflors.cat
URL:https://www.adetca.cat/agenda-event/balanc-mercat-de-les-flors/
CATEGORIES:RDP
END:VEVENT
BEGIN:VEVENT
DTSTART;TZID=UTC:20250915T100000
DTEND;TZID=UTC:20250915T100000
DTSTAMP:20260423T112629
CREATED:20250828T080632Z
LAST-MODIFIED:20250828T080632Z
UID:21709-1757930400-1757930400@www.adetca.cat
SUMMARY:Visita espai + roda de premsa (esmorzar) espectacle inaugural Teatres del Farró
DESCRIPTION:Marc Gall mgall@comedianet.com
URL:https://www.adetca.cat/agenda-event/visita-espai-roda-de-premsa-esmorzar-espectacle-inaugural-teatres-del-farro/
CATEGORIES:RDP
END:VEVENT
BEGIN:VEVENT
DTSTART;TZID=UTC:20250912T200000
DTEND;TZID=UTC:20250912T200000
DTSTAMP:20260423T112629
CREATED:20250616T073847Z
LAST-MODIFIED:20250616T073847Z
UID:20664-1757707200-1757707200@www.adetca.cat
SUMMARY:Portes obertes Teatres del Farró
DESCRIPTION:Marc Gall mgall@comedianet.com
URL:https://www.adetca.cat/agenda-event/portes-obertes-teatres-del-farro/
CATEGORIES:RDP
END:VEVENT
BEGIN:VEVENT
DTSTART;TZID=UTC:20250912T171500
DTEND;TZID=UTC:20250912T171500
DTSTAMP:20260423T112629
CREATED:20250905T115525Z
LAST-MODIFIED:20250905T115921Z
UID:21788-1757697300-1757697300@www.adetca.cat
SUMMARY:Presentació Teatres del Farró
DESCRIPTION:Marc Gall mgall@comedianet.com
URL:https://www.adetca.cat/agenda-event/presentacio-teatres-del-farro-3/
CATEGORIES:PDG
END:VEVENT
BEGIN:VEVENT
DTSTART;TZID=UTC:20250912T163000
DTEND;TZID=UTC:20250912T163000
DTSTAMP:20260423T112629
CREATED:20250905T115253Z
LAST-MODIFIED:20250905T115253Z
UID:21785-1757694600-1757694600@www.adetca.cat
SUMMARY:Presentació Teatres del Farró a la Festa Major
DESCRIPTION:Marc Gall mgall@comedianet.com
URL:https://www.adetca.cat/agenda-event/presentacio-teatres-del-farro-a-la-festa-major/
CATEGORIES:RDP
END:VEVENT
BEGIN:VEVENT
DTSTART;TZID=UTC:20250911T120000
DTEND;TZID=UTC:20250911T120000
DTSTAMP:20260423T112629
CREATED:20250728T101632Z
LAST-MODIFIED:20250728T101632Z
UID:21527-1757592000-1757592000@www.adetca.cat
SUMMARY:Caballero sin caballo
DESCRIPTION:David Muntané coordinacio.lapuntual@gmail.com
URL:https://www.adetca.cat/agenda-event/caballero-sin-caballo/
CATEGORIES:EST
END:VEVENT
BEGIN:VEVENT
DTSTART;TZID=UTC:20250910T200000
DTEND;TZID=UTC:20250910T200000
DTSTAMP:20260423T112629
CREATED:20250728T090400Z
LAST-MODIFIED:20250728T090400Z
UID:21518-1757534400-1757534400@www.adetca.cat
SUMMARY:Rebota\, rebota y en tu cara explota
DESCRIPTION:Arianna Tanghetti comunicacio@anticteatre.com
URL:https://www.adetca.cat/agenda-event/rebota-rebota-y-en-tu-cara-explota/
CATEGORIES:EST
END:VEVENT
BEGIN:VEVENT
DTSTART;TZID=UTC:20250910T200000
DTEND;TZID=UTC:20250910T200000
DTSTAMP:20260423T112629
CREATED:20250718T093647Z
LAST-MODIFIED:20250718T093647Z
UID:21352-1757534400-1757534400@www.adetca.cat
SUMMARY:Ragazzo
DESCRIPTION:Anna Espunya teatre@eolia.cat
URL:https://www.adetca.cat/agenda-event/ragazzo/
CATEGORIES:EST
END:VEVENT
BEGIN:VEVENT
DTSTART;TZID=UTC:20250910T133000
DTEND;TZID=UTC:20250910T133000
DTSTAMP:20260423T112629
CREATED:20250828T080323Z
LAST-MODIFIED:20250828T080323Z
UID:21707-1757511000-1757511000@www.adetca.cat
SUMMARY:Visita espai + roda de premsa (aperitiu) espectacle inaugural Teatres del Farró
DESCRIPTION:Marc Gall mgall@comedianet.com
URL:https://www.adetca.cat/agenda-event/visita-espai-roda-de-premsa-aperitiu-espectacle-inaugural-teatres-del-farro/
CATEGORIES:RDP
END:VEVENT
BEGIN:VEVENT
DTSTART;TZID=UTC:20250910T120000
DTEND;TZID=UTC:20250910T120000
DTSTAMP:20260423T112629
CREATED:20250623T080826Z
LAST-MODIFIED:20250623T125510Z
UID:20753-1757505600-1757505600@www.adetca.cat
SUMMARY:Els bons
DESCRIPTION:Cristina Belmonte xtna@kdecomuncacion.com
URL:https://www.adetca.cat/agenda-event/els-bons-2/
CATEGORIES:PDG,RDP
END:VEVENT
BEGIN:VEVENT
DTSTART;TZID=UTC:20250910T110000
DTEND;TZID=UTC:20250910T110000
DTSTAMP:20260423T112629
CREATED:20250728T121024Z
LAST-MODIFIED:20250728T121422Z
UID:21557-1757502000-1757502000@www.adetca.cat
SUMMARY:El potser com a públic / Del fandom al troleig. Una sàtira del bla bla bla / El meu germà Bernard
DESCRIPTION:Núria Amat premsa@salabeckett.cat
URL:https://www.adetca.cat/agenda-event/el-potser-com-a-public-del-fandom-al-troleig-una-satira-del-bla-bla-bla-el-meu-germa-bernard/
CATEGORIES:RDP
END:VEVENT
BEGIN:VEVENT
DTSTART;TZID=UTC:20250909T123000
DTEND;TZID=UTC:20250909T123000
DTSTAMP:20260423T112629
CREATED:20250702T071738Z
LAST-MODIFIED:20250707T113517Z
UID:21084-1757421000-1757421000@www.adetca.cat
SUMMARY:Ànima
DESCRIPTION:Anna Martínez anna@balanaenviu.com
URL:https://www.adetca.cat/agenda-event/anima-2/
CATEGORIES:RDP
END:VEVENT
BEGIN:VEVENT
DTSTART;TZID=UTC:20250909T110000
DTEND;TZID=UTC:20250909T110000
DTSTAMP:20260423T112629
CREATED:20250908T081157Z
LAST-MODIFIED:20250908T081429Z
UID:21798-1757415600-1757415600@www.adetca.cat
SUMMARY:Presentació programació de Sâlmon 2025
DESCRIPTION:Sara Esteller premsa@festivalsalmon.com
URL:https://www.adetca.cat/agenda-event/presentacio-programacio-de-salmon-2025/
CATEGORIES:RDP
END:VEVENT
BEGIN:VEVENT
DTSTART;TZID=UTC:20250909T110000
DTEND;TZID=UTC:20250909T110000
DTSTAMP:20260423T112629
CREATED:20250604T152351Z
LAST-MODIFIED:20250604T152351Z
UID:20596-1757415600-1757415600@www.adetca.cat
SUMMARY:Temporada de Simfònics al Palau 2025/26
DESCRIPTION:Blanca de Carreras bdecarreras@osvalles.com
URL:https://www.adetca.cat/agenda-event/temporada-de-simfonics-al-palau-2025-26/
END:VEVENT
BEGIN:VEVENT
DTSTART;TZID=UTC:20250909T100000
DTEND;TZID=UTC:20250909T100000
DTSTAMP:20260423T112629
CREATED:20250410T142956Z
LAST-MODIFIED:20250730T091518Z
UID:20079-1757412000-1757412000@www.adetca.cat
SUMMARY:Presentació Temporada 2025/26 Teatre Akadèmia
DESCRIPTION:Fernando Solla premsa@teatreakademia.cat
URL:https://www.adetca.cat/agenda-event/presentacio-temporada-2025-26-teatre-akademia/
CATEGORIES:RDP
END:VEVENT
BEGIN:VEVENT
DTSTART;TZID=UTC:20250908T210000
DTEND;TZID=UTC:20250908T210000
DTSTAMP:20260423T112629
CREATED:20250305T073227Z
LAST-MODIFIED:20250305T073353Z
UID:19781-1757365200-1757365200@www.adetca.cat
SUMMARY:XXIV Gala Catalunya aixeca el teló
DESCRIPTION:
URL:https://www.adetca.cat/agenda-event/gala-catalunya-aixexca-el-telo/
CATEGORIES:EST
END:VEVENT
BEGIN:VEVENT
DTSTART;TZID=UTC:20250908T120000
DTEND;TZID=UTC:20250908T120000
DTSTAMP:20260423T112629
CREATED:20250305T073113Z
LAST-MODIFIED:20250703T132229Z
UID:19779-1757332800-1757332800@www.adetca.cat
SUMMARY:ADETCA - Inici Temporada
DESCRIPTION:
URL:https://www.adetca.cat/agenda-event/adetca-inici-temporada/
CATEGORIES:RDP
END:VEVENT
BEGIN:VEVENT
DTSTART;TZID=UTC:20250905T200000
DTEND;TZID=UTC:20250905T200000
DTSTAMP:20260423T112629
CREATED:20250728T104056Z
LAST-MODIFIED:20250728T104056Z
UID:21544-1757102400-1757102400@www.adetca.cat
SUMMARY:El noi de la mare
DESCRIPTION:Jordi Araz contractacio@aquitaniateatre.es
URL:https://www.adetca.cat/agenda-event/el-noi-de-la-mare/
CATEGORIES:EST
END:VEVENT
BEGIN:VEVENT
DTSTART;TZID=UTC:20250905T180000
DTEND;TZID=UTC:20250905T180000
DTSTAMP:20260423T112629
CREATED:20250728T100944Z
LAST-MODIFIED:20250728T100944Z
UID:21489-1757095200-1757095200@www.adetca.cat
SUMMARY:PIPA\, el titella meravella
DESCRIPTION:David Muntané coordinacio.lapuntual@gmail.com
URL:https://www.adetca.cat/agenda-event/pipa-el-titella-meravella-4/
CATEGORIES:EST
END:VEVENT
BEGIN:VEVENT
DTSTART;TZID=UTC:20250905T120000
DTEND;TZID=UTC:20250905T120000
DTSTAMP:20260423T112629
CREATED:20250506T145209Z
LAST-MODIFIED:20250506T145209Z
UID:20269-1757073600-1757073600@www.adetca.cat
SUMMARY:Presentació Temporada 2025/26 Focus
DESCRIPTION:XAvi lleyda xlleyda@focus.cat
URL:https://www.adetca.cat/agenda-event/presentacio-temporada-2025-26-focus/
CATEGORIES:RDP
END:VEVENT
END:VCALENDAR