BEGIN:VCALENDAR
VERSION:2.0
PRODID:-//ADETCA - ECPv6.15.20//NONSGML v1.0//EN
CALSCALE:GREGORIAN
METHOD:PUBLISH
X-WR-CALNAME:ADETCA
X-ORIGINAL-URL:https://www.adetca.cat
X-WR-CALDESC:Esdeveniments per ADETCA
REFRESH-INTERVAL;VALUE=DURATION:PT1H
X-Robots-Tag:noindex
X-PUBLISHED-TTL:PT1H
BEGIN:VTIMEZONE
TZID:UTC
BEGIN:STANDARD
TZOFFSETFROM:+0000
TZOFFSETTO:+0000
TZNAME:UTC
DTSTART:20240101T000000
END:STANDARD
END:VTIMEZONE
BEGIN:VEVENT
DTSTART;TZID=UTC:20250715T160000
DTEND;TZID=UTC:20250715T160000
DTSTAMP:20260423T181138
CREATED:20250505T102725Z
LAST-MODIFIED:20250505T102853Z
UID:20195-1752595200-1752595200@www.adetca.cat
SUMMARY:Ballet de Kiev - El llac dels cignes
DESCRIPTION:Sandra Arquistain saraquis@gmail.com
URL:https://www.adetca.cat/agenda-event/ballet-de-kiev-4/
CATEGORIES:PDG
END:VEVENT
BEGIN:VEVENT
DTSTART;TZID=UTC:20250715T120000
DTEND;TZID=UTC:20250715T120000
DTSTAMP:20260423T181138
CREATED:20250410T140939Z
LAST-MODIFIED:20250506T084128Z
UID:20075-1752580800-1752580800@www.adetca.cat
SUMMARY:Presentació Temporada 2025/26 de la Sala Fènix
DESCRIPTION:Isabella Pintani fenix@salafenix.com
URL:https://www.adetca.cat/agenda-event/presentacio-temporada-25-26-de-la-sala-fenix/
CATEGORIES:RDP
END:VEVENT
BEGIN:VEVENT
DTSTART;TZID=UTC:20250714T200000
DTEND;TZID=UTC:20250714T200000
DTSTAMP:20260423T181138
CREATED:20250505T135727Z
LAST-MODIFIED:20250703T144057Z
UID:20230-1752523200-1752523200@www.adetca.cat
SUMMARY:Tots els nens creixen
DESCRIPTION:Xavi Lleyda xlleyda@focus.cat
URL:https://www.adetca.cat/agenda-event/tots-els-nens-creixen-2/
CATEGORIES:EST
END:VEVENT
BEGIN:VEVENT
DTSTART;TZID=UTC:20250714T200000
DTEND;TZID=UTC:20250714T200000
DTSTAMP:20260423T181138
CREATED:20250505T080441Z
LAST-MODIFIED:20250703T143805Z
UID:20175-1752523200-1752523200@www.adetca.cat
SUMMARY:Un refugi al sol - Batec del Grec
DESCRIPTION:Rafaela Rivas premsa@salaversusglories.cat
URL:https://www.adetca.cat/agenda-event/un-refugi-al-sol-batec-del-grec/
CATEGORIES:EST
END:VEVENT
BEGIN:VEVENT
DTSTART;TZID=UTC:20250711T220000
DTEND;TZID=UTC:20250711T220000
DTSTAMP:20260423T181138
CREATED:20250604T134039Z
LAST-MODIFIED:20250703T143547Z
UID:20585-1752271200-1752271200@www.adetca.cat
SUMMARY:BIOPIC
DESCRIPTION:Martí Rossell marti@barccomunicacio.com
URL:https://www.adetca.cat/agenda-event/biopic/
CATEGORIES:EST
END:VEVENT
BEGIN:VEVENT
DTSTART;TZID=UTC:20250711T120000
DTEND;TZID=UTC:20250711T120000
DTSTAMP:20260423T181138
CREATED:20250516T132012Z
LAST-MODIFIED:20250516T132012Z
UID:20420-1752235200-1752235200@www.adetca.cat
SUMMARY:GREC'25 - LOS BRUTOS (Roberto Martín)
DESCRIPTION:Neus Masferrer dispers@hotmail.com
URL:https://www.adetca.cat/agenda-event/grec25-los-brutos-roberto-martin/
CATEGORIES:RDP
END:VEVENT
BEGIN:VEVENT
DTSTART;TZID=UTC:20250711T110000
DTEND;TZID=UTC:20250711T110000
DTSTAMP:20260423T181138
CREATED:20250516T131849Z
LAST-MODIFIED:20250516T131849Z
UID:20417-1752231600-1752231600@www.adetca.cat
SUMMARY:GREC'25 - MY FIERCE IGNORANT STEP (Christos Papadopoulos)
DESCRIPTION:Neus Masferrer dispers@hotmail.com
URL:https://www.adetca.cat/agenda-event/grec25-my-fierce-ignorant-step-christos-papadopoulos/
CATEGORIES:RDP
END:VEVENT
BEGIN:VEVENT
DTSTART;TZID=UTC:20250711T110000
DTEND;TZID=UTC:20250711T110000
DTSTAMP:20260423T181138
CREATED:20240620T083222Z
LAST-MODIFIED:20240620T083222Z
UID:16803-1752231600-1752231600@www.adetca.cat
SUMMARY:Benjamin a Portbou
DESCRIPTION:Joana Lladó joana.llado@liceubarcelona.cat
URL:https://www.adetca.cat/agenda-event/benjamin-a-portbou/
CATEGORIES:RDP
END:VEVENT
BEGIN:VEVENT
DTSTART;TZID=UTC:20250710T200000
DTEND;TZID=UTC:20250710T200000
DTSTAMP:20260423T181138
CREATED:20250516T113957Z
LAST-MODIFIED:20250516T113957Z
UID:20384-1752177600-1752177600@www.adetca.cat
SUMMARY:HET LAM GODS. Primera part: La Pastora. "Idilio"
DESCRIPTION:Arianna comunicacio@anticteatre.com
URL:https://www.adetca.cat/agenda-event/het-lam-gods-primera-part-la-pastora-idilio/
CATEGORIES:EST
END:VEVENT
BEGIN:VEVENT
DTSTART;TZID=UTC:20250710T200000
DTEND;TZID=UTC:20250710T200000
DTSTAMP:20260423T181138
CREATED:20250505T135415Z
LAST-MODIFIED:20250703T143113Z
UID:20224-1752177600-1752177600@www.adetca.cat
SUMMARY:Grand Canyon
DESCRIPTION:Xavi Lleyda xlleyda@focus.cat
URL:https://www.adetca.cat/agenda-event/grand-canyon-2/
CATEGORIES:EST
END:VEVENT
BEGIN:VEVENT
DTSTART;TZID=UTC:20250710T200000
DTEND;TZID=UTC:20250710T200000
DTSTAMP:20260423T181138
CREATED:20250408T105530Z
LAST-MODIFIED:20250703T142852Z
UID:20024-1752177600-1752177600@www.adetca.cat
SUMMARY:Papa o tot el que faré quan finalment et moris
DESCRIPTION:Anna Espunya teatre@eolia.cat
URL:https://www.adetca.cat/agenda-event/papa-o-tot-el-que-fare-quan-finalment-et-moris/
CATEGORIES:EST
END:VEVENT
BEGIN:VEVENT
DTSTART;TZID=UTC:20250710T120000
DTEND;TZID=UTC:20250710T120000
DTSTAMP:20260423T181138
CREATED:20250505T134713Z
LAST-MODIFIED:20250505T134713Z
UID:20216-1752148800-1752148800@www.adetca.cat
SUMMARY:Tots els nens creixen
DESCRIPTION:Xavi Lleyda xlleyda@focus.cat
URL:https://www.adetca.cat/agenda-event/tots-els-nens-creixen/
CATEGORIES:RDP
END:VEVENT
BEGIN:VEVENT
DTSTART;TZID=UTC:20250710T110000
DTEND;TZID=UTC:20250710T110000
DTSTAMP:20260423T181138
CREATED:20250516T131721Z
LAST-MODIFIED:20250516T131721Z
UID:20415-1752145200-1752145200@www.adetca.cat
SUMMARY:GREC'25 - IHSANE (Sidi Larbi Cherkaoui)
DESCRIPTION:Neus Masferrer dispers@hotmail.com
URL:https://www.adetca.cat/agenda-event/grec25-ihsane-sidi-larbi-cherkaoui/
CATEGORIES:RDP
END:VEVENT
BEGIN:VEVENT
DTSTART;TZID=UTC:20250710T100000
DTEND;TZID=UTC:20250710T100000
DTSTAMP:20260423T181138
CREATED:20250516T131243Z
LAST-MODIFIED:20250516T131243Z
UID:20413-1752141600-1752141600@www.adetca.cat
SUMMARY:GREC'25 -  CADELA FORÇA II: THE BROTHERHOOD (LA GERMANDAT) (Carolina Bianchi y Cara de Cavalo)
DESCRIPTION:Neus Masferrer dispers@hotmail.com
URL:https://www.adetca.cat/agenda-event/grec25-cadela-forca-ii-the-brotherhood-la-germandat-carolina-bianchi-y-cara-de-cavalo/
CATEGORIES:RDP
END:VEVENT
BEGIN:VEVENT
DTSTART;TZID=UTC:20250709T200000
DTEND;TZID=UTC:20250709T233000
DTSTAMP:20260423T181138
CREATED:20250505T134916Z
LAST-MODIFIED:20250703T142600Z
UID:20218-1752091200-1752103800@www.adetca.cat
SUMMARY:Gegant
DESCRIPTION:Xavi Lleyda xlleyda@focus.cat
URL:https://www.adetca.cat/agenda-event/gegant-2/
CATEGORIES:EST
END:VEVENT
BEGIN:VEVENT
DTSTART;TZID=UTC:20250709T120000
DTEND;TZID=UTC:20250709T120000
DTSTAMP:20260423T181138
CREATED:20250505T134157Z
LAST-MODIFIED:20250505T134157Z
UID:20210-1752062400-1752062400@www.adetca.cat
SUMMARY:El cuarto de atrás
DESCRIPTION:Xavi Lleyda xlleyda@focus.cat
URL:https://www.adetca.cat/agenda-event/el-cuarto-de-atras/
CATEGORIES:RDP
END:VEVENT
BEGIN:VEVENT
DTSTART;TZID=UTC:20250708T200000
DTEND;TZID=UTC:20250708T200000
DTSTAMP:20260423T181138
CREATED:20250425T081521Z
LAST-MODIFIED:20250425T081609Z
UID:20135-1752004800-1752004800@www.adetca.cat
SUMMARY:Operetta
DESCRIPTION:Xavi Lleyda xlleyda@focus.cat
URL:https://www.adetca.cat/agenda-event/operetta/
CATEGORIES:EST
END:VEVENT
BEGIN:VEVENT
DTSTART;TZID=UTC:20250708T160000
DTEND;TZID=UTC:20250708T160000
DTSTAMP:20260423T181138
CREATED:20250617T153859Z
LAST-MODIFIED:20250626T070601Z
UID:20668-1751990400-1751990400@www.adetca.cat
SUMMARY:Se ha escrito un crimen
DESCRIPTION:Cristina Alda comunicacion@gruposmedia.com
URL:https://www.adetca.cat/agenda-event/se-ha-escrito-un-crimen/
CATEGORIES:PDG
END:VEVENT
BEGIN:VEVENT
DTSTART;TZID=UTC:20250708T120000
DTEND;TZID=UTC:20250708T120000
DTSTAMP:20260423T181138
CREATED:20250616T073504Z
LAST-MODIFIED:20250616T073504Z
UID:20661-1751976000-1751976000@www.adetca.cat
SUMMARY:Presentació Teatres del Farró
DESCRIPTION:Marc Gall mgall@comedianet.com
URL:https://www.adetca.cat/agenda-event/presentacio-teatres-del-farro-2/
CATEGORIES:RDP
END:VEVENT
BEGIN:VEVENT
DTSTART;TZID=UTC:20250707T120000
DTEND;TZID=UTC:20250707T120000
DTSTAMP:20260423T181138
CREATED:20250616T073342Z
LAST-MODIFIED:20250616T073419Z
UID:20657-1751889600-1751889600@www.adetca.cat
SUMMARY:Presentació Teatres del Farró
DESCRIPTION:Marc Gall mgall@comedianet.com
URL:https://www.adetca.cat/agenda-event/presentacio-teatres-del-farro/
CATEGORIES:RDP
END:VEVENT
BEGIN:VEVENT
DTSTART;TZID=UTC:20250705T120000
DTEND;TZID=UTC:20250705T120000
DTSTAMP:20260423T181138
CREATED:20250529T131721Z
LAST-MODIFIED:20250529T131944Z
UID:20531-1751716800-1751716800@www.adetca.cat
SUMMARY:En patufet
DESCRIPTION:David – coordinacio.lapuntual@gmail.com
URL:https://www.adetca.cat/agenda-event/en-patufet/
CATEGORIES:EST
END:VEVENT
BEGIN:VEVENT
DTSTART;TZID=UTC:20250704T190000
DTEND;TZID=UTC:20250704T190000
DTSTAMP:20260423T181138
CREATED:20240701T080622Z
LAST-MODIFIED:20240701T080648Z
UID:16989-1751655600-1751655600@www.adetca.cat
SUMMARY:The hours
DESCRIPTION:Bernat Fornells bfornells@tnc.cat
URL:https://www.adetca.cat/agenda-event/the-hours/
CATEGORIES:EST
END:VEVENT
BEGIN:VEVENT
DTSTART;TZID=UTC:20250704T110000
DTEND;TZID=UTC:20250704T110000
DTSTAMP:20260423T181138
CREATED:20250516T131130Z
LAST-MODIFIED:20250516T131130Z
UID:20410-1751626800-1751626800@www.adetca.cat
SUMMARY:GREC'25 -  RENACIMIENTO (La Tristura)
DESCRIPTION:Neus Masferrer dispers@hotmail.com
URL:https://www.adetca.cat/agenda-event/grec25-renacimiento-la-tristura/
CATEGORIES:RDP
END:VEVENT
BEGIN:VEVENT
DTSTART;TZID=UTC:20250703T210000
DTEND;TZID=UTC:20250703T210000
DTSTAMP:20260423T181138
CREATED:20250605T111937Z
LAST-MODIFIED:20250605T111937Z
UID:20607-1751576400-1751576400@www.adetca.cat
SUMMARY:La taberna de los perros
DESCRIPTION:Isabella Pintani fenix@salafenix.com
URL:https://www.adetca.cat/agenda-event/la-taberna-de-los-perros/
CATEGORIES:EST
END:VEVENT
BEGIN:VEVENT
DTSTART;TZID=UTC:20250703T200000
DTEND;TZID=UTC:20250703T200000
DTSTAMP:20260423T181138
CREATED:20250604T144416Z
LAST-MODIFIED:20250604T144505Z
UID:20591-1751572800-1751572800@www.adetca.cat
SUMMARY:Oasi
DESCRIPTION:Centre de les Arts Lliures – comunicacio@fundaciojoanbrossa.cat
URL:https://www.adetca.cat/agenda-event/oasi/
CATEGORIES:EST
END:VEVENT
BEGIN:VEVENT
DTSTART;TZID=UTC:20250703T200000
DTEND;TZID=UTC:20250703T200000
DTSTAMP:20260423T181138
CREATED:20250516T113834Z
LAST-MODIFIED:20250516T113834Z
UID:20382-1751572800-1751572800@www.adetca.cat
SUMMARY:Fuerte Esperpento
DESCRIPTION:Arianna comunicacio@anticteatre.com
URL:https://www.adetca.cat/agenda-event/fuerte-esperpento/
CATEGORIES:EST
END:VEVENT
BEGIN:VEVENT
DTSTART;TZID=UTC:20250703T200000
DTEND;TZID=UTC:20250703T200000
DTSTAMP:20260423T181138
CREATED:20250408T105323Z
LAST-MODIFIED:20250703T141348Z
UID:20021-1751572800-1751572800@www.adetca.cat
SUMMARY:Home\, sweet home
DESCRIPTION:Anna Espunya teatre@eolia.cat
URL:https://www.adetca.cat/agenda-event/home-sweet-home/
CATEGORIES:EST
END:VEVENT
BEGIN:VEVENT
DTSTART;TZID=UTC:20250703T193000
DTEND;TZID=UTC:20250703T193000
DTSTAMP:20260423T181138
CREATED:20250516T110912Z
LAST-MODIFIED:20250516T111430Z
UID:20369-1751571000-1751571000@www.adetca.cat
SUMMARY:El Monstre
DESCRIPTION:Núria Amat premsa@salabeckett.cat
URL:https://www.adetca.cat/agenda-event/el-monstre/
CATEGORIES:EST
END:VEVENT
BEGIN:VEVENT
DTSTART;TZID=UTC:20250703T120000
DTEND;TZID=UTC:20250703T120000
DTSTAMP:20260423T181138
CREATED:20250505T133550Z
LAST-MODIFIED:20250505T133550Z
UID:20205-1751544000-1751544000@www.adetca.cat
SUMMARY:Grand Canyon
DESCRIPTION:Xavi Lleyda xlleyda@focus.cat
URL:https://www.adetca.cat/agenda-event/grand-canyon/
CATEGORIES:RDP
END:VEVENT
BEGIN:VEVENT
DTSTART;TZID=UTC:20250702T200000
DTEND;TZID=UTC:20250702T200000
DTSTAMP:20260423T181138
CREATED:20250505T135519Z
LAST-MODIFIED:20250703T141158Z
UID:20226-1751486400-1751486400@www.adetca.cat
SUMMARY:Sardana Superstar
DESCRIPTION:Xavi Lleyda xlleyda@focus.cat
URL:https://www.adetca.cat/agenda-event/sardana-superstar-2/
CATEGORIES:EST
END:VEVENT
END:VCALENDAR