BEGIN:VCALENDAR
VERSION:2.0
PRODID:-//ADETCA - ECPv6.15.20//NONSGML v1.0//EN
CALSCALE:GREGORIAN
METHOD:PUBLISH
X-ORIGINAL-URL:https://www.adetca.cat
X-WR-CALDESC:Esdeveniments per ADETCA
REFRESH-INTERVAL;VALUE=DURATION:PT1H
X-Robots-Tag:noindex
X-PUBLISHED-TTL:PT1H
BEGIN:VTIMEZONE
TZID:UTC
BEGIN:STANDARD
TZOFFSETFROM:+0000
TZOFFSETTO:+0000
TZNAME:UTC
DTSTART:20250101T000000
END:STANDARD
END:VTIMEZONE
BEGIN:VEVENT
DTSTART;VALUE=DATE:20260327
DTEND;VALUE=DATE:20260328
DTSTAMP:20260421T150445
CREATED:20260317T142551Z
LAST-MODIFIED:20260317T142551Z
UID:23749-1774569600-1774655999@www.adetca.cat
SUMMARY:DIA MUNDIAL DEL TEATRE
DESCRIPTION:
URL:https://www.adetca.cat/agenda-event/dia-mundial-del-teatre-4/
END:VEVENT
BEGIN:VEVENT
DTSTART;TZID=UTC:20260326T200000
DTEND;TZID=UTC:20260326T200000
DTSTAMP:20260421T150445
CREATED:20260306T120059Z
LAST-MODIFIED:20260306T123231Z
UID:23652-1774555200-1774555200@www.adetca.cat
SUMMARY:La carn
DESCRIPTION:Arianna Tanghetti comunicacio@anticteatre.com
URL:https://www.adetca.cat/agenda-event/la-carn/
CATEGORIES:EST
END:VEVENT
BEGIN:VEVENT
DTSTART;TZID=UTC:20260326T200000
DTEND;TZID=UTC:20260326T200000
DTSTAMP:20260421T150445
CREATED:20250918T083602Z
LAST-MODIFIED:20251030T135053Z
UID:22080-1774555200-1774555200@www.adetca.cat
SUMMARY:Una idea genial
DESCRIPTION:Anna perez aperez@focus.cat
URL:https://www.adetca.cat/agenda-event/una-idea-genial-2/
CATEGORIES:EST
END:VEVENT
BEGIN:VEVENT
DTSTART;TZID=UTC:20260326T190000
DTEND;TZID=UTC:20260326T190000
DTSTAMP:20260421T150445
CREATED:20250623T092419Z
LAST-MODIFIED:20250627T135251Z
UID:20806-1774551600-1774551600@www.adetca.cat
SUMMARY:Une tentative presque comme une autre
DESCRIPTION:Clàudia Blasquiz – cblasquiz@teatrelliure.com
URL:https://www.adetca.cat/agenda-event/une-tentative-presque-comme-une-autre/
CATEGORIES:EST
END:VEVENT
BEGIN:VEVENT
DTSTART;TZID=UTC:20260326T180000
DTEND;TZID=UTC:20260326T180000
DTSTAMP:20260421T150445
CREATED:20260122T120020Z
LAST-MODIFIED:20260129T123420Z
UID:23298-1774548000-1774548000@www.adetca.cat
SUMMARY:Ens van caldre les úlceres
DESCRIPTION:Diana Juanpere djuanpere@fundaciojoanbrossa.cat
URL:https://www.adetca.cat/agenda-event/ens-van-caldre-les-ulceres/
CATEGORIES:EST
END:VEVENT
BEGIN:VEVENT
DTSTART;TZID=UTC:20260326T120000
DTEND;TZID=UTC:20260326T120000
DTSTAMP:20260421T150445
CREATED:20250917T125925Z
LAST-MODIFIED:20260128T080504Z
UID:22016-1774526400-1774526400@www.adetca.cat
SUMMARY:Escenes d'una separació
DESCRIPTION:Ester Cànovas ester@elmalda.cat
URL:https://www.adetca.cat/agenda-event/escenes-duna-separacio-2/
CATEGORIES:RDP
END:VEVENT
BEGIN:VEVENT
DTSTART;TZID=UTC:20260325T193000
DTEND;TZID=UTC:20260325T193000
DTSTAMP:20260421T150445
CREATED:20260114T110816Z
LAST-MODIFIED:20260114T110816Z
UID:23187-1774467000-1774467000@www.adetca.cat
SUMMARY:Abecedari
DESCRIPTION:Núria Amat premsa@salabeckett.cat
URL:https://www.adetca.cat/agenda-event/abecedari/
CATEGORIES:EST
END:VEVENT
BEGIN:VEVENT
DTSTART;TZID=UTC:20260325T193000
DTEND;TZID=UTC:20260325T193000
DTSTAMP:20260421T150445
CREATED:20260114T102257Z
LAST-MODIFIED:20260227T161413Z
UID:23151-1774467000-1774467000@www.adetca.cat
SUMMARY:Perfectass
DESCRIPTION:Marta Cros comunicacio@daualsecartsesceniques.cat
URL:https://www.adetca.cat/agenda-event/perfectass/
CATEGORIES:EST
END:VEVENT
BEGIN:VEVENT
DTSTART;TZID=UTC:20260325T190000
DTEND;TZID=UTC:20260325T190000
DTSTAMP:20260421T150445
CREATED:20250623T081625Z
LAST-MODIFIED:20260227T161036Z
UID:20758-1774465200-1774465200@www.adetca.cat
SUMMARY:Festival ZIP
DESCRIPTION:Bernat Fornells – Bfornells@tnc.cat
URL:https://www.adetca.cat/agenda-event/zip-1-bomba-va/
CATEGORIES:EST
END:VEVENT
BEGIN:VEVENT
DTSTART;TZID=UTC:20260325T120000
DTEND;TZID=UTC:20260325T120000
DTSTAMP:20260421T150445
CREATED:20250625T123314Z
LAST-MODIFIED:20260303T154722Z
UID:20902-1774440000-1774440000@www.adetca.cat
SUMMARY:Une tentative presque comme une autre
DESCRIPTION:Clàudia Blasquiz – cblasquiz@teatrelliure.com
URL:https://www.adetca.cat/agenda-event/une-tentative-presque-comme-une-autre-3/
CATEGORIES:RDP
END:VEVENT
BEGIN:VEVENT
DTSTART;TZID=UTC:20260324T200000
DTEND;TZID=UTC:20260324T200000
DTSTAMP:20260421T150445
CREATED:20260306T115949Z
LAST-MODIFIED:20260306T115949Z
UID:23650-1774382400-1774382400@www.adetca.cat
SUMMARY:The Kitchen Network. Episodi 4
DESCRIPTION:Arianna Tanghetti comunicacio@anticteatre.com
URL:https://www.adetca.cat/agenda-event/the-kitchen-network-episodi-4/
CATEGORIES:EST
END:VEVENT
BEGIN:VEVENT
DTSTART;TZID=UTC:20260324T193000
DTEND;TZID=UTC:20260324T193000
DTSTAMP:20260421T150445
CREATED:20260223T074401Z
LAST-MODIFIED:20260223T091507Z
UID:23509-1774380600-1774380600@www.adetca.cat
SUMMARY:Retorn a Haifa
DESCRIPTION:Jànaba Bah comunicacio@heartbreakhotel.cat
URL:https://www.adetca.cat/agenda-event/retorn-a-haifa/
CATEGORIES:EST
END:VEVENT
BEGIN:VEVENT
DTSTART;TZID=UTC:20260324T130000
DTEND;TZID=UTC:20260324T130000
DTSTAMP:20260421T150445
CREATED:20260213T152958Z
LAST-MODIFIED:20260217T152922Z
UID:23456-1774357200-1774357200@www.adetca.cat
SUMMARY:Abecedari i Tinc un bosc al cervell
DESCRIPTION:Núria Amat premsa@salabeckett.cat
URL:https://www.adetca.cat/agenda-event/abecedari-i-tinc-un-bosc-al-cervell/
CATEGORIES:RDP
END:VEVENT
BEGIN:VEVENT
DTSTART;TZID=UTC:20260324T120000
DTEND;TZID=UTC:20260324T120000
DTSTAMP:20260421T150445
CREATED:20250918T092847Z
LAST-MODIFIED:20250918T092847Z
UID:22103-1774353600-1774353600@www.adetca.cat
SUMMARY:Memorias de Adriano
DESCRIPTION:Anna Pérez aperez@focus.cat
URL:https://www.adetca.cat/agenda-event/memorias-de-adriano-2/
CATEGORIES:RDP
END:VEVENT
BEGIN:VEVENT
DTSTART;TZID=UTC:20260321T200000
DTEND;TZID=UTC:20260321T200000
DTSTAMP:20260421T150445
CREATED:20250930T092724Z
LAST-MODIFIED:20260227T160940Z
UID:22365-1774123200-1774123200@www.adetca.cat
SUMMARY:ACTE DE CELEBRACIÓ 3a EDICIÓ CAP BUTACA BUIDA
DESCRIPTION:
URL:https://www.adetca.cat/agenda-event/acte-de-celebracio-3a-edicio-cap-butaca-buida/
CATEGORIES:EST
END:VEVENT
BEGIN:VEVENT
DTSTART;TZID=UTC:20260321T190000
DTEND;TZID=UTC:20260321T190000
DTSTAMP:20260421T150445
CREATED:20250623T081123Z
LAST-MODIFIED:20250623T083319Z
UID:20756-1774119600-1774119600@www.adetca.cat
SUMMARY:365 Dones l'any 25/26
DESCRIPTION:Bernat Fornells – Bfornells@tnc.cat
URL:https://www.adetca.cat/agenda-event/365-dones-lany-25-26/
CATEGORIES:EST
END:VEVENT
BEGIN:VEVENT
DTSTART;VALUE=DATE:20260321
DTEND;VALUE=DATE:20260322
DTSTAMP:20260421T150445
CREATED:20260317T142332Z
LAST-MODIFIED:20260317T142643Z
UID:23746-1774051200-1774137599@www.adetca.cat
SUMMARY:DIA MUNDIAL DEL TEATRE DE TITELLES
DESCRIPTION:
URL:https://www.adetca.cat/agenda-event/dia-mundial-del-teatre-de-titelles/
END:VEVENT
BEGIN:VEVENT
DTSTART;TZID=UTC:20260320T190000
DTEND;TZID=UTC:20260320T190000
DTSTAMP:20260421T150445
CREATED:20250623T075819Z
LAST-MODIFIED:20250623T075819Z
UID:20732-1774033200-1774033200@www.adetca.cat
SUMMARY:Gionvanni's Room
DESCRIPTION:Bernat Fornells – Bfornells@tnc.cat
URL:https://www.adetca.cat/agenda-event/gionvannis-room/
CATEGORIES:EST
END:VEVENT
BEGIN:VEVENT
DTSTART;VALUE=DATE:20260320
DTEND;VALUE=DATE:20260321
DTSTAMP:20260421T150445
CREATED:20260317T141842Z
LAST-MODIFIED:20260317T142807Z
UID:23743-1773964800-1774051199@www.adetca.cat
SUMMARY:DIA MUNDIAL DEL TEATRE INFANTIL I JUVENIL
DESCRIPTION:
URL:https://www.adetca.cat/agenda-event/dia-mundial-del-teatre-infantil-i-juvenil-4/
END:VEVENT
BEGIN:VEVENT
DTSTART;TZID=UTC:20260319T200000
DTEND;TZID=UTC:20260319T200000
DTSTAMP:20260421T150445
CREATED:20260306T115817Z
LAST-MODIFIED:20260306T115817Z
UID:23648-1773950400-1773950400@www.adetca.cat
SUMMARY:veline repertoire
DESCRIPTION:Arianna Tanghetti comunicacio@anticteatre.com
URL:https://www.adetca.cat/agenda-event/veline-repertoire/
CATEGORIES:EST
END:VEVENT
BEGIN:VEVENT
DTSTART;TZID=UTC:20260319T200000
DTEND;TZID=UTC:20260319T200000
DTSTAMP:20260421T150445
CREATED:20250918T084941Z
LAST-MODIFIED:20250918T084941Z
UID:22084-1773950400-1773950400@www.adetca.cat
SUMMARY:Mejor no decirlo
DESCRIPTION:Anna Perez aperez@focus.cat
URL:https://www.adetca.cat/agenda-event/mejor-no-decirlo-2/
CATEGORIES:EST
END:VEVENT
BEGIN:VEVENT
DTSTART;TZID=UTC:20260319T193000
DTEND;TZID=UTC:20260319T193000
DTSTAMP:20260421T150445
CREATED:20260122T115852Z
LAST-MODIFIED:20260129T123328Z
UID:23295-1773948600-1773948600@www.adetca.cat
SUMMARY:I trust you
DESCRIPTION:Diana Juanpere djuanpere@fundaciojoanbrossa.cat
URL:https://www.adetca.cat/agenda-event/i-trust-you/
CATEGORIES:EST
END:VEVENT
BEGIN:VEVENT
DTSTART;TZID=UTC:20260319T190000
DTEND;TZID=UTC:20260319T190000
DTSTAMP:20260421T150445
CREATED:20250623T092252Z
LAST-MODIFIED:20250627T135336Z
UID:20804-1773946800-1773946800@www.adetca.cat
SUMMARY:Calentamiento
DESCRIPTION:Clàudia Blasquiz – cblasquiz@teatrelliure.com
URL:https://www.adetca.cat/agenda-event/calentamiento/
CATEGORIES:EST
END:VEVENT
BEGIN:VEVENT
DTSTART;TZID=UTC:20260318T193000
DTEND;TZID=UTC:20260318T193000
DTSTAMP:20260421T150445
CREATED:20260227T163315Z
LAST-MODIFIED:20260227T163315Z
UID:23542-1773862200-1773862200@www.adetca.cat
SUMMARY:La segona millor
DESCRIPTION:comunicacio@atrium.cat
URL:https://www.adetca.cat/agenda-event/la-segona-millor-2/
CATEGORIES:EST
END:VEVENT
BEGIN:VEVENT
DTSTART;TZID=UTC:20260318T120000
DTEND;TZID=UTC:20260318T120000
DTSTAMP:20260421T150445
CREATED:20260316T155921Z
LAST-MODIFIED:20260316T165958Z
UID:23723-1773835200-1773835200@www.adetca.cat
SUMMARY:Obrador d’Arrel Fira Mediterrània de Manresa
DESCRIPTION:Eduard Sant esant@culturae.cat
URL:https://www.adetca.cat/agenda-event/obrador-darrel-fira-mediterrania-de-manresa/
CATEGORIES:RDP
END:VEVENT
BEGIN:VEVENT
DTSTART;TZID=UTC:20260318T120000
DTEND;TZID=UTC:20260318T120000
DTSTAMP:20260421T150445
CREATED:20250918T084829Z
LAST-MODIFIED:20250918T084829Z
UID:22082-1773835200-1773835200@www.adetca.cat
SUMMARY:Mejor no decirlo
DESCRIPTION:Anna Perez aperez@focus.cat
URL:https://www.adetca.cat/agenda-event/mejor-no-decirlo/
CATEGORIES:RDP
END:VEVENT
BEGIN:VEVENT
DTSTART;TZID=UTC:20260318T120000
DTEND;TZID=UTC:20260318T120000
DTSTAMP:20260421T150445
CREATED:20250724T153338Z
LAST-MODIFIED:20250724T153338Z
UID:21450-1773835200-1773835200@www.adetca.cat
SUMMARY:ZIP
DESCRIPTION:Esther Vendrell – Evendrell@tnc.cat
URL:https://www.adetca.cat/agenda-event/zip-2/
CATEGORIES:RDP
END:VEVENT
BEGIN:VEVENT
DTSTART;TZID=UTC:20260317T200000
DTEND;TZID=UTC:20260317T200000
DTSTAMP:20260421T150445
CREATED:20250918T082429Z
LAST-MODIFIED:20250918T082429Z
UID:22064-1773777600-1773777600@www.adetca.cat
SUMMARY:Un poyo rojo
DESCRIPTION:Anna perez aperez@focus.cat
URL:https://www.adetca.cat/agenda-event/un-poyo-rojo/
CATEGORIES:EST
END:VEVENT
BEGIN:VEVENT
DTSTART;TZID=UTC:20260317T120000
DTEND;TZID=UTC:20260317T120000
DTSTAMP:20260421T150445
CREATED:20250918T083441Z
LAST-MODIFIED:20260216T084500Z
UID:22078-1773748800-1773748800@www.adetca.cat
SUMMARY:Una idea genial
DESCRIPTION:Anna perez aperez@focus.cat
URL:https://www.adetca.cat/agenda-event/una-idea-genial/
CATEGORIES:RDP
END:VEVENT
BEGIN:VEVENT
DTSTART;TZID=UTC:20260317T103000
DTEND;TZID=UTC:20260317T120000
DTSTAMP:20260421T150445
CREATED:20260220T085829Z
LAST-MODIFIED:20260304T150334Z
UID:23495-1773743400-1773748800@www.adetca.cat
SUMMARY:37a Mostra Igualada
DESCRIPTION:Núria Olivé nuria@tremenda.cat
URL:https://www.adetca.cat/agenda-event/37a-mostra-igualada/
CATEGORIES:RDP
END:VEVENT
END:VCALENDAR