BEGIN:VCALENDAR
VERSION:2.0
PRODID:-//ADETCA - ECPv6.15.20//NONSGML v1.0//EN
CALSCALE:GREGORIAN
METHOD:PUBLISH
X-WR-CALNAME:ADETCA
X-ORIGINAL-URL:https://www.adetca.cat
X-WR-CALDESC:Esdeveniments per ADETCA
REFRESH-INTERVAL;VALUE=DURATION:PT1H
X-Robots-Tag:noindex
X-PUBLISHED-TTL:PT1H
BEGIN:VTIMEZONE
TZID:UTC
BEGIN:STANDARD
TZOFFSETFROM:+0000
TZOFFSETTO:+0000
TZNAME:UTC
DTSTART:20240101T000000
END:STANDARD
END:VTIMEZONE
BEGIN:VEVENT
DTSTART;TZID=UTC:20250520T200000
DTEND;TZID=UTC:20250520T200000
DTSTAMP:20260424T031751
CREATED:20250430T154425Z
LAST-MODIFIED:20250430T154425Z
UID:20168-1747771200-1747771200@www.adetca.cat
SUMMARY:La Criatura del Dr. Frankenstein
DESCRIPTION:
URL:https://www.adetca.cat/agenda-event/la-criatura-del-dr-frankenstein/
CATEGORIES:EST
END:VEVENT
BEGIN:VEVENT
DTSTART;TZID=UTC:20250520T170000
DTEND;TZID=UTC:20250520T170000
DTSTAMP:20260424T031751
CREATED:20250506T132340Z
LAST-MODIFIED:20250506T132340Z
UID:20259-1747760400-1747760400@www.adetca.cat
SUMMARY:Totally Tina
DESCRIPTION:Cristina Alda comunicacion@gruposmedia.com
URL:https://www.adetca.cat/agenda-event/totally-tina/
CATEGORIES:PDG
END:VEVENT
BEGIN:VEVENT
DTSTART;TZID=UTC:20250520T120000
DTEND;TZID=UTC:20250520T120000
DTSTAMP:20260424T031751
CREATED:20240708T095632Z
LAST-MODIFIED:20240708T095709Z
UID:17207-1747742400-1747742400@www.adetca.cat
SUMMARY:La brama del cérvol
DESCRIPTION:Mar Solà msola@teatrelliure.com
URL:https://www.adetca.cat/agenda-event/la-brama-del-cervol-2/
CATEGORIES:RDP
END:VEVENT
BEGIN:VEVENT
DTSTART;TZID=UTC:20250519T120000
DTEND;TZID=UTC:20250519T120000
DTSTAMP:20260424T031751
CREATED:20250310T154706Z
LAST-MODIFIED:20250310T154706Z
UID:19825-1747656000-1747656000@www.adetca.cat
SUMMARY:TELA - Taula del tercer sector cultural
DESCRIPTION:Bea Moyano bea@bito.pro
URL:https://www.adetca.cat/agenda-event/tela-taula-del-tercer-sector-cultural/
CATEGORIES:RDP
END:VEVENT
BEGIN:VEVENT
DTSTART;TZID=UTC:20250518T123000
DTEND;TZID=UTC:20250518T123000
DTSTAMP:20260424T031751
CREATED:20241209T150806Z
LAST-MODIFIED:20241209T150806Z
UID:18900-1747571400-1747571400@www.adetca.cat
SUMMARY:Títuba
DESCRIPTION:Martí Rossell – marti@barccomunicacio.com
URL:https://www.adetca.cat/agenda-event/tituba-3/
CATEGORIES:EST
END:VEVENT
BEGIN:VEVENT
DTSTART;TZID=UTC:20250516T120000
DTEND;TZID=UTC:20250516T120000
DTSTAMP:20260424T031751
CREATED:20250324T080847Z
LAST-MODIFIED:20250324T080847Z
UID:19905-1747396800-1747396800@www.adetca.cat
SUMMARY:Mesures Extraordinàries
DESCRIPTION:Cristina Belmonte xtna@kdecomunicacion.com \nAnna Martínez anna@balanaenviu.com
URL:https://www.adetca.cat/agenda-event/mesures-extraordinaries-2/
CATEGORIES:RDP
END:VEVENT
BEGIN:VEVENT
DTSTART;TZID=UTC:20250515T200000
DTEND;TZID=UTC:20250515T200000
DTSTAMP:20260424T031751
CREATED:20250506T104945Z
LAST-MODIFIED:20250506T104945Z
UID:20250-1747339200-1747339200@www.adetca.cat
SUMMARY:Opus
DESCRIPTION:Arianna comunicacio@anticteatre.com
URL:https://www.adetca.cat/agenda-event/opus/
CATEGORIES:EST
END:VEVENT
BEGIN:VEVENT
DTSTART;TZID=UTC:20250515T190000
DTEND;TZID=UTC:20250515T190000
DTSTAMP:20260424T031751
CREATED:20240405T070931Z
LAST-MODIFIED:20240701T072427Z
UID:15919-1747335600-1747335600@www.adetca.cat
SUMMARY:Anatomia d'un suïcidi
DESCRIPTION:Bernat Fornells bfornells@tnc.cat
URL:https://www.adetca.cat/agenda-event/estrena-sala-petita-6/
CATEGORIES:EST
END:VEVENT
BEGIN:VEVENT
DTSTART;TZID=UTC:20250514T203000
DTEND;TZID=UTC:20250514T203000
DTSTAMP:20260424T031751
CREATED:20250324T092456Z
LAST-MODIFIED:20250324T092456Z
UID:19935-1747254600-1747254600@www.adetca.cat
SUMMARY:A la deriva
DESCRIPTION:Ana Candela premsa@tantarantana
URL:https://www.adetca.cat/agenda-event/a-la-deriva/
CATEGORIES:EST
END:VEVENT
BEGIN:VEVENT
DTSTART;TZID=UTC:20250514T120000
DTEND;TZID=UTC:20250514T120000
DTSTAMP:20260424T031751
CREATED:20250115T145410Z
LAST-MODIFIED:20250310T075435Z
UID:19329-1747224000-1747224000@www.adetca.cat
SUMMARY:Presentació Temporada Palau de la Música 2025/26
DESCRIPTION:Imma Anglès iangles@palaumusica.cat
URL:https://www.adetca.cat/agenda-event/presentacio-temporada-2025-26/
CATEGORIES:RDP
END:VEVENT
BEGIN:VEVENT
DTSTART;TZID=UTC:20250514T120000
DTEND;TZID=UTC:20250514T120000
DTSTAMP:20260424T031751
CREATED:20250114T104438Z
LAST-MODIFIED:20250114T104438Z
UID:19273-1747224000-1747224000@www.adetca.cat
SUMMARY:Un menú tancat
DESCRIPTION:XAvi Lleyda xlleyda@focus.cat
URL:https://www.adetca.cat/agenda-event/un-menu-tancat/
CATEGORIES:RDP
END:VEVENT
BEGIN:VEVENT
DTSTART;TZID=UTC:20250514T100000
DTEND;TZID=UTC:20250514T100000
DTSTAMP:20260424T031751
CREATED:20250314T124251Z
LAST-MODIFIED:20250314T125150Z
UID:19836-1747216800-1747216800@www.adetca.cat
SUMMARY:Orquestra Sònica
DESCRIPTION:Maria Bros maria@latremenda.cat
URL:https://www.adetca.cat/agenda-event/orquestra-sonica/
CATEGORIES:RDP
END:VEVENT
BEGIN:VEVENT
DTSTART;TZID=UTC:20250513T200000
DTEND;TZID=UTC:20250513T200000
DTSTAMP:20260424T031751
CREATED:20250430T154024Z
LAST-MODIFIED:20250430T154024Z
UID:20166-1747166400-1747166400@www.adetca.cat
SUMMARY:Mary
DESCRIPTION:
URL:https://www.adetca.cat/agenda-event/mary/
CATEGORIES:EST
END:VEVENT
BEGIN:VEVENT
DTSTART;TZID=UTC:20250513T200000
DTEND;TZID=UTC:20250513T200000
DTSTAMP:20260424T031751
CREATED:20250113T133345Z
LAST-MODIFIED:20250305T072528Z
UID:19238-1747166400-1747166400@www.adetca.cat
SUMMARY:La música
DESCRIPTION:Anna Martínez anna@balanaenviu.com \nCristina de la Iglesia cristina@balanaenviu.com
URL:https://www.adetca.cat/agenda-event/la-musica/
CATEGORIES:EST
END:VEVENT
BEGIN:VEVENT
DTSTART;TZID=UTC:20250513T120000
DTEND;TZID=UTC:20250513T120000
DTSTAMP:20260424T031751
CREATED:20240916T140645Z
LAST-MODIFIED:20240916T140645Z
UID:17847-1747137600-1747137600@www.adetca.cat
SUMMARY:Anatomia d'un suïcidi
DESCRIPTION:Bernat Fornells bfornells@tnc.cat \nEsther Vendrell evendrell@tnc.cat
URL:https://www.adetca.cat/agenda-event/anatomia-dun-suicidi-2/
CATEGORIES:RDP
END:VEVENT
BEGIN:VEVENT
DTSTART;TZID=UTC:20250512T200000
DTEND;TZID=UTC:20250512T200000
DTSTAMP:20260424T031751
CREATED:20250416T075233Z
LAST-MODIFIED:20250416T075233Z
UID:20110-1747080000-1747080000@www.adetca.cat
SUMMARY:Un plaer culpable
DESCRIPTION:Xavi Lleyda xlleyda@focus.cat
URL:https://www.adetca.cat/agenda-event/un-plaer-culpable-2/
CATEGORIES:EST
END:VEVENT
BEGIN:VEVENT
DTSTART;TZID=UTC:20250512T160000
DTEND;TZID=UTC:20250512T160000
DTSTAMP:20260424T031751
CREATED:20250113T134937Z
LAST-MODIFIED:20250305T071143Z
UID:19245-1747065600-1747065600@www.adetca.cat
SUMMARY:La música
DESCRIPTION:Anna Martínez anna@balanaenviu.com \nCristina de la Iglesia cristina@balanaenviu.com
URL:https://www.adetca.cat/agenda-event/la-musica-4/
CATEGORIES:RDP
END:VEVENT
BEGIN:VEVENT
DTSTART;TZID=UTC:20250509T180000
DTEND;TZID=UTC:20250509T180000
DTSTAMP:20260424T031751
CREATED:20250430T083611Z
LAST-MODIFIED:20250430T083926Z
UID:20156-1746813600-1746813600@www.adetca.cat
SUMMARY:PIPA\, el titella meravella
DESCRIPTION:David Muntané coordinacio.lapuntual@gmail.com
URL:https://www.adetca.cat/agenda-event/pipa-el-titella-meravella-3/
CATEGORIES:EST
END:VEVENT
BEGIN:VEVENT
DTSTART;TZID=UTC:20250509T120000
DTEND;TZID=UTC:20250509T120000
DTSTAMP:20260424T031751
CREATED:20240916T140429Z
LAST-MODIFIED:20250113T131822Z
UID:17848-1746792000-1746792000@www.adetca.cat
SUMMARY:Anatomia d'un suïcidi
DESCRIPTION:Bernat Fornells bfornells@tnc.cat \nEsther Vendrell evendrell@tnc.cat
URL:https://www.adetca.cat/agenda-event/anatomia-dun-suicidi/
CATEGORIES:RDP
END:VEVENT
BEGIN:VEVENT
DTSTART;TZID=UTC:20250509T103000
DTEND;TZID=UTC:20250509T103000
DTSTAMP:20260424T031751
CREATED:20241220T145832Z
LAST-MODIFIED:20250310T124706Z
UID:19168-1746786600-1746786600@www.adetca.cat
SUMMARY:Presentació Temporada l'Auditori 2025-26
DESCRIPTION:Rocio Pedrol -rpedrol@auditori.cat
URL:https://www.adetca.cat/agenda-event/presentacio-temporada-lauditori/
CATEGORIES:RDP
END:VEVENT
BEGIN:VEVENT
DTSTART;TZID=UTC:20250508T200000
DTEND;TZID=UTC:20250508T200000
DTSTAMP:20260424T031751
CREATED:20250408T103332Z
LAST-MODIFIED:20250408T103332Z
UID:20011-1746734400-1746734400@www.adetca.cat
SUMMARY:RomanOFF (un retrat)
DESCRIPTION:Anna Espunya teatre@eolia.cat
URL:https://www.adetca.cat/agenda-event/romanoff-un-retrat/
CATEGORIES:EST
END:VEVENT
BEGIN:VEVENT
DTSTART;TZID=UTC:20250508T200000
DTEND;TZID=UTC:20250508T200000
DTSTAMP:20260424T031751
CREATED:20241009T163118Z
LAST-MODIFIED:20241218T160622Z
UID:18260-1746734400-1746734400@www.adetca.cat
SUMMARY:Kramig
DESCRIPTION:Martí Rossell – marti@barccomunicacio.com
URL:https://www.adetca.cat/agenda-event/kramig/
CATEGORIES:EST
END:VEVENT
BEGIN:VEVENT
DTSTART;TZID=UTC:20250508T190000
DTEND;TZID=UTC:20250508T190000
DTSTAMP:20260424T031751
CREATED:20240405T071442Z
LAST-MODIFIED:20240629T091119Z
UID:15933-1746730800-1746730800@www.adetca.cat
SUMMARY:Alícia en un món real
DESCRIPTION:Bernat Fornells bfornells@tnc.cat
URL:https://www.adetca.cat/agenda-event/estrena-sala-tallers-7/
CATEGORIES:EST
END:VEVENT
BEGIN:VEVENT
DTSTART;TZID=UTC:20250508T160000
DTEND;TZID=UTC:20250508T160000
DTSTAMP:20260424T031751
CREATED:20250416T074517Z
LAST-MODIFIED:20250416T074517Z
UID:20108-1746720000-1746720000@www.adetca.cat
SUMMARY:Un plaer culpable
DESCRIPTION:Xavi Lleyda xlleyda@focus.cat
URL:https://www.adetca.cat/agenda-event/un-plaer-culpable/
CATEGORIES:RDP
END:VEVENT
BEGIN:VEVENT
DTSTART;TZID=UTC:20250508T120000
DTEND;TZID=UTC:20250508T120000
DTSTAMP:20260424T031751
CREATED:20250324T082719Z
LAST-MODIFIED:20250414T144255Z
UID:19915-1746705600-1746705600@www.adetca.cat
SUMMARY:13a edició Festival Terrats en Cultura
DESCRIPTION:Maria Bros maria@latremenda.cat
URL:https://www.adetca.cat/agenda-event/13a-edicio-festival-terrats-en-cultura/
CATEGORIES:RDP
END:VEVENT
BEGIN:VEVENT
DTSTART;TZID=UTC:20250508T103000
DTEND;TZID=UTC:20250508T103000
DTSTAMP:20260424T031751
CREATED:20250414T071949Z
LAST-MODIFIED:20250414T071949Z
UID:20092-1746700200-1746700200@www.adetca.cat
SUMMARY:La Caldera - 30 anys
DESCRIPTION:Sònia González gonzalez@wearecosmica.com
URL:https://www.adetca.cat/agenda-event/la-caldera-30-anys/
CATEGORIES:RDP
END:VEVENT
BEGIN:VEVENT
DTSTART;TZID=UTC:20250507T200000
DTEND;TZID=UTC:20250507T200000
DTSTAMP:20260424T031751
CREATED:20250312T130025Z
LAST-MODIFIED:20250312T131836Z
UID:19834-1746648000-1746648000@www.adetca.cat
SUMMARY:Refugi
DESCRIPTION:Anna Novell anovell@laperla29.cat
URL:https://www.adetca.cat/agenda-event/refugi-3/
CATEGORIES:EST
END:VEVENT
BEGIN:VEVENT
DTSTART;TZID=UTC:20250507T193000
DTEND;TZID=UTC:20250507T193000
DTSTAMP:20260424T031751
CREATED:20240629T084801Z
LAST-MODIFIED:20240629T084801Z
UID:16944-1746646200-1746646200@www.adetca.cat
SUMMARY:Una mena d'Alaska
DESCRIPTION:Mar Solà msola@teatrelliure.com
URL:https://www.adetca.cat/agenda-event/una-mena-dalaska/
CATEGORIES:EST
END:VEVENT
BEGIN:VEVENT
DTSTART;TZID=UTC:20250507T120000
DTEND;TZID=UTC:20250507T120000
DTSTAMP:20260424T031751
CREATED:20250121T144618Z
LAST-MODIFIED:20250403T125400Z
UID:19388-1746619200-1746619200@www.adetca.cat
SUMMARY:Presentació Toca'm 2025 a Barcelona
DESCRIPTION:Eduard Sant esant@culturae.cat
URL:https://www.adetca.cat/agenda-event/presentacio-tocam-2025-a-barcelona/
CATEGORIES:RDP
END:VEVENT
BEGIN:VEVENT
DTSTART;TZID=UTC:20250507T103000
DTEND;TZID=UTC:20250507T103000
DTSTAMP:20260424T031751
CREATED:20250109T100621Z
LAST-MODIFIED:20250331T140429Z
UID:19206-1746613800-1746613800@www.adetca.cat
SUMMARY:La Caldera - 30 anys
DESCRIPTION:Sònia González gonzalez@wearecosmica.com
URL:https://www.adetca.cat/agenda-event/la-caldera-30-anys-2/
CATEGORIES:RDP
END:VEVENT
END:VCALENDAR