BEGIN:VCALENDAR
VERSION:2.0
PRODID:-//ADETCA - ECPv6.15.20//NONSGML v1.0//EN
CALSCALE:GREGORIAN
METHOD:PUBLISH
X-ORIGINAL-URL:https://www.adetca.cat
X-WR-CALDESC:Esdeveniments per ADETCA
REFRESH-INTERVAL;VALUE=DURATION:PT1H
X-Robots-Tag:noindex
X-PUBLISHED-TTL:PT1H
BEGIN:VTIMEZONE
TZID:UTC
BEGIN:STANDARD
TZOFFSETFROM:+0000
TZOFFSETTO:+0000
TZNAME:UTC
DTSTART:20240101T000000
END:STANDARD
END:VTIMEZONE
BEGIN:VEVENT
DTSTART;TZID=UTC:20250508T120000
DTEND;TZID=UTC:20250508T120000
DTSTAMP:20260424T042335
CREATED:20250324T082719Z
LAST-MODIFIED:20250414T144255Z
UID:19915-1746705600-1746705600@www.adetca.cat
SUMMARY:13a edició Festival Terrats en Cultura
DESCRIPTION:Maria Bros maria@latremenda.cat
URL:https://www.adetca.cat/agenda-event/13a-edicio-festival-terrats-en-cultura/
CATEGORIES:RDP
END:VEVENT
BEGIN:VEVENT
DTSTART;TZID=UTC:20250508T103000
DTEND;TZID=UTC:20250508T103000
DTSTAMP:20260424T042335
CREATED:20250414T071949Z
LAST-MODIFIED:20250414T071949Z
UID:20092-1746700200-1746700200@www.adetca.cat
SUMMARY:La Caldera - 30 anys
DESCRIPTION:Sònia González gonzalez@wearecosmica.com
URL:https://www.adetca.cat/agenda-event/la-caldera-30-anys/
CATEGORIES:RDP
END:VEVENT
BEGIN:VEVENT
DTSTART;TZID=UTC:20250507T200000
DTEND;TZID=UTC:20250507T200000
DTSTAMP:20260424T042335
CREATED:20250312T130025Z
LAST-MODIFIED:20250312T131836Z
UID:19834-1746648000-1746648000@www.adetca.cat
SUMMARY:Refugi
DESCRIPTION:Anna Novell anovell@laperla29.cat
URL:https://www.adetca.cat/agenda-event/refugi-3/
CATEGORIES:EST
END:VEVENT
BEGIN:VEVENT
DTSTART;TZID=UTC:20250507T193000
DTEND;TZID=UTC:20250507T193000
DTSTAMP:20260424T042335
CREATED:20240629T084801Z
LAST-MODIFIED:20240629T084801Z
UID:16944-1746646200-1746646200@www.adetca.cat
SUMMARY:Una mena d'Alaska
DESCRIPTION:Mar Solà msola@teatrelliure.com
URL:https://www.adetca.cat/agenda-event/una-mena-dalaska/
CATEGORIES:EST
END:VEVENT
BEGIN:VEVENT
DTSTART;TZID=UTC:20250507T120000
DTEND;TZID=UTC:20250507T120000
DTSTAMP:20260424T042335
CREATED:20250121T144618Z
LAST-MODIFIED:20250403T125400Z
UID:19388-1746619200-1746619200@www.adetca.cat
SUMMARY:Presentació Toca'm 2025 a Barcelona
DESCRIPTION:Eduard Sant esant@culturae.cat
URL:https://www.adetca.cat/agenda-event/presentacio-tocam-2025-a-barcelona/
CATEGORIES:RDP
END:VEVENT
BEGIN:VEVENT
DTSTART;TZID=UTC:20250507T103000
DTEND;TZID=UTC:20250507T103000
DTSTAMP:20260424T042335
CREATED:20250109T100621Z
LAST-MODIFIED:20250331T140429Z
UID:19206-1746613800-1746613800@www.adetca.cat
SUMMARY:La Caldera - 30 anys
DESCRIPTION:Sònia González gonzalez@wearecosmica.com
URL:https://www.adetca.cat/agenda-event/la-caldera-30-anys-2/
CATEGORIES:RDP
END:VEVENT
BEGIN:VEVENT
DTSTART;TZID=UTC:20250507T100000
DTEND;TZID=UTC:20250507T100000
DTSTAMP:20260424T042335
CREATED:20250430T064553Z
LAST-MODIFIED:20250430T083022Z
UID:20150-1746612000-1746612000@www.adetca.cat
SUMMARY:Kramig
DESCRIPTION:Rubén Garcia – ruben@barccomunicacio.com
URL:https://www.adetca.cat/agenda-event/kramig-2/
CATEGORIES:RDP
END:VEVENT
BEGIN:VEVENT
DTSTART;TZID=UTC:20250506T120000
DTEND;TZID=UTC:20250506T120000
DTSTAMP:20260424T042335
CREATED:20240916T140254Z
LAST-MODIFIED:20240916T140254Z
UID:17843-1746532800-1746532800@www.adetca.cat
SUMMARY:Alícia en un món real
DESCRIPTION:Bernat Fornells bfornells@tnc.cat \nEsther Vendrell evendrell@tnc.cat
URL:https://www.adetca.cat/agenda-event/alicia-en-un-mon-real-2/
CATEGORIES:RDP
END:VEVENT
BEGIN:VEVENT
DTSTART;TZID=UTC:20250506T103000
DTEND;TZID=UTC:20250506T103000
DTSTAMP:20260424T042335
CREATED:20240708T095319Z
LAST-MODIFIED:20240708T095319Z
UID:17205-1746527400-1746527400@www.adetca.cat
SUMMARY:Una mena d'Alaska
DESCRIPTION:Mar Solà msola@teatrelliure.com
URL:https://www.adetca.cat/agenda-event/una-mena-dalaska-3/
CATEGORIES:RDP
END:VEVENT
BEGIN:VEVENT
DTSTART;TZID=UTC:20250505T120000
DTEND;TZID=UTC:20250505T120000
DTSTAMP:20260424T042335
CREATED:20240916T140211Z
LAST-MODIFIED:20240916T140211Z
UID:17841-1746446400-1746446400@www.adetca.cat
SUMMARY:Alícia en un món real
DESCRIPTION:Bernat Fornells bfornells@tnc.cat \nEsther Vendrell evendrell@tnc.cat
URL:https://www.adetca.cat/agenda-event/alicia-en-un-mon-real/
CATEGORIES:RDP
END:VEVENT
BEGIN:VEVENT
DTSTART;TZID=UTC:20250505T110000
DTEND;TZID=UTC:20250505T110000
DTSTAMP:20260424T042335
CREATED:20250326T154128Z
LAST-MODIFIED:20250326T154128Z
UID:19956-1746442800-1746442800@www.adetca.cat
SUMMARY:Presentació de la Temporada 2025/26
DESCRIPTION:Helena Grau helena.grau@liceubarcelona.cat
URL:https://www.adetca.cat/agenda-event/presentacio-de-la-temporada-2025-26/
CATEGORIES:RDP
END:VEVENT
BEGIN:VEVENT
DTSTART;TZID=UTC:20250502T200000
DTEND;TZID=UTC:20250502T200000
DTSTAMP:20260424T042335
CREATED:20250424T104446Z
LAST-MODIFIED:20250424T104446Z
UID:20131-1746216000-1746216000@www.adetca.cat
SUMMARY:Morgana Morandi Miss SBarbie (a punk collective history about our messy bodies)
DESCRIPTION:Arianna Tanghetti comunicacio@anticteatre.com
URL:https://www.adetca.cat/agenda-event/morgana-morandi-miss-sbarbie-a-punk-collective-history-about-our-messy-bodies/
CATEGORIES:EST
END:VEVENT
BEGIN:VEVENT
DTSTART;TZID=UTC:20250502T200000
DTEND;TZID=UTC:20250502T200000
DTSTAMP:20260424T042335
CREATED:20250324T090919Z
LAST-MODIFIED:20250324T090919Z
UID:19930-1746216000-1746216000@www.adetca.cat
SUMMARY:Fins que acabi de ploure
DESCRIPTION:Ana Candela premsa@tantarantana
URL:https://www.adetca.cat/agenda-event/fins-que-acabi-de-ploure/
CATEGORIES:EST
END:VEVENT
BEGIN:VEVENT
DTSTART;TZID=UTC:20250501T200000
DTEND;TZID=UTC:20250501T200000
DTSTAMP:20260424T042335
CREATED:20250429T113111Z
LAST-MODIFIED:20250429T113111Z
UID:20144-1746129600-1746129600@www.adetca.cat
SUMMARY:Time Lapse for a Promise
DESCRIPTION:Fernando Solla premsa@teatreakademia.cat
URL:https://www.adetca.cat/agenda-event/time-lapse-for-a-promise/
CATEGORIES:EST
END:VEVENT
BEGIN:VEVENT
DTSTART;TZID=UTC:20250501T200000
DTEND;TZID=UTC:20250501T200000
DTSTAMP:20260424T042335
CREATED:20250408T103128Z
LAST-MODIFIED:20250408T103128Z
UID:20009-1746129600-1746129600@www.adetca.cat
SUMMARY:No es pot saber
DESCRIPTION:Anna Espunya teatre@eolia.cat
URL:https://www.adetca.cat/agenda-event/no-es-pot-saber/
CATEGORIES:EST
END:VEVENT
BEGIN:VEVENT
DTSTART;TZID=UTC:20250501T180000
DTEND;TZID=UTC:20250501T180000
DTSTAMP:20260424T042335
CREATED:20250430T083257Z
LAST-MODIFIED:20250430T083457Z
UID:20152-1746122400-1746122400@www.adetca.cat
SUMMARY:La cigala i la formiga
DESCRIPTION:David Muntané coordinacio.lapuntual@gmail.com
URL:https://www.adetca.cat/agenda-event/la-cigala-i-la-formiga/
CATEGORIES:EST
END:VEVENT
BEGIN:VEVENT
DTSTART;TZID=UTC:20250430T203000
DTEND;TZID=UTC:20250430T203000
DTSTAMP:20260424T042335
CREATED:20250128T162050Z
LAST-MODIFIED:20250128T162050Z
UID:19445-1746045000-1746045000@www.adetca.cat
SUMMARY:Un xai ha creuat el desert
DESCRIPTION:Laura Farrés laurafarres@salabeckett.cat
URL:https://www.adetca.cat/agenda-event/un-xai-ha-creuat-el-desert/
CATEGORIES:EST
END:VEVENT
BEGIN:VEVENT
DTSTART;TZID=UTC:20250430T200000
DTEND;TZID=UTC:20250430T200000
DTSTAMP:20260424T042335
CREATED:20250318T095016Z
LAST-MODIFIED:20250421T201103Z
UID:19852-1746043200-1746043200@www.adetca.cat
SUMMARY:Companyia Nacho Duato
DESCRIPTION:SAndra Araquistain saraquis@gmail.com
URL:https://www.adetca.cat/agenda-event/companyia-nacho-duato-2/
CATEGORIES:EST
END:VEVENT
BEGIN:VEVENT
DTSTART;TZID=UTC:20250430T160000
DTEND;TZID=UTC:20250430T160000
DTSTAMP:20260424T042335
CREATED:20250318T094831Z
LAST-MODIFIED:20250421T201305Z
UID:19850-1746028800-1746028800@www.adetca.cat
SUMMARY:Companyia Nacho Duato
DESCRIPTION:SAndra Araquistain saraquis@gmail.com
URL:https://www.adetca.cat/agenda-event/companyia-nacho-duato/
CATEGORIES:PDG
END:VEVENT
BEGIN:VEVENT
DTSTART;TZID=UTC:20250430T120000
DTEND;TZID=UTC:20250430T120000
DTSTAMP:20260424T042335
CREATED:20250310T075057Z
LAST-MODIFIED:20250310T075057Z
UID:19807-1746014400-1746014400@www.adetca.cat
SUMMARY:Presentació Festival Grec'25
DESCRIPTION:Gullem Talens gtalensm@bcn.cat
URL:https://www.adetca.cat/agenda-event/presentacio-festival-grec25/
CATEGORIES:RDP
END:VEVENT
BEGIN:VEVENT
DTSTART;TZID=UTC:20250430T110000
DTEND;TZID=UTC:20250430T110000
DTSTAMP:20260424T042335
CREATED:20241218T160123Z
LAST-MODIFIED:20241218T160123Z
UID:19135-1746010800-1746010800@www.adetca.cat
SUMMARY:Mònica Muntaner i Rosa Muñoz + Pablo Lilienfeld i Federico Vladimir
DESCRIPTION:Mercè Ros mros@mercatflors.cat
URL:https://www.adetca.cat/agenda-event/monica-muntaner-i-rosa-munoz-pablo-lilienfeld-i-federico-vladimir/
CATEGORIES:RDP
END:VEVENT
BEGIN:VEVENT
DTSTART;TZID=UTC:20250429T123000
DTEND;TZID=UTC:20250429T123000
DTSTAMP:20260424T042335
CREATED:20250312T093210Z
LAST-MODIFIED:20250312T093210Z
UID:19832-1745929800-1745929800@www.adetca.cat
SUMMARY:Refugi
DESCRIPTION:Anna Novell
URL:https://www.adetca.cat/agenda-event/refugi-2/
CATEGORIES:RDP
END:VEVENT
BEGIN:VEVENT
DTSTART;TZID=UTC:20250428T113000
DTEND;TZID=UTC:20250428T113000
DTSTAMP:20260424T042335
CREATED:20250312T093110Z
LAST-MODIFIED:20250312T093110Z
UID:19830-1745839800-1745839800@www.adetca.cat
SUMMARY:Refugi
DESCRIPTION:Anna Novell
URL:https://www.adetca.cat/agenda-event/refugi/
CATEGORIES:RDP
END:VEVENT
BEGIN:VEVENT
DTSTART;TZID=UTC:20250425T190000
DTEND;TZID=UTC:20250425T190000
DTSTAMP:20260424T042335
CREATED:20250408T102927Z
LAST-MODIFIED:20250408T102927Z
UID:20007-1745607600-1745607600@www.adetca.cat
SUMMARY:Pots ser tu\, puc ser jo
DESCRIPTION:Anna Espunya teatre@eolia.cat
URL:https://www.adetca.cat/agenda-event/pots-ser-tu-puc-ser-jo-2/
CATEGORIES:EST
END:VEVENT
BEGIN:VEVENT
DTSTART;TZID=UTC:20250425T190000
DTEND;TZID=UTC:20250425T190000
DTSTAMP:20260424T042335
CREATED:20240629T084508Z
LAST-MODIFIED:20240629T084508Z
UID:16942-1745607600-1745607600@www.adetca.cat
SUMMARY:Cor dels amants
DESCRIPTION:Mar Solà msola@teatrelliure.com
URL:https://www.adetca.cat/agenda-event/cor-dels-amants/
CATEGORIES:EST
END:VEVENT
BEGIN:VEVENT
DTSTART;TZID=UTC:20250425T190000
DTEND;TZID=UTC:20250425T190000
DTSTAMP:20260424T042335
CREATED:20240405T071843Z
LAST-MODIFIED:20240701T073046Z
UID:15941-1745607600-1745607600@www.adetca.cat
SUMMARY:Laia
DESCRIPTION:Bernat Fornells bfornells@tnc.cat
URL:https://www.adetca.cat/agenda-event/estrena-taller-de-pintura-2/
CATEGORIES:EST
END:VEVENT
BEGIN:VEVENT
DTSTART;TZID=UTC:20250425T110000
DTEND;TZID=UTC:20250425T130000
DTSTAMP:20260424T042335
CREATED:20240619T112646Z
LAST-MODIFIED:20240619T112646Z
UID:16793-1745578800-1745586000@www.adetca.cat
SUMMARY:Presentació Temporada
DESCRIPTION:Joana Lladó joana.llado@liceubarcelona.cat
URL:https://www.adetca.cat/agenda-event/presentacio-temporada-4/
CATEGORIES:RDP
END:VEVENT
BEGIN:VEVENT
DTSTART;TZID=UTC:20250424T200000
DTEND;TZID=UTC:20250424T200000
DTSTAMP:20260424T042335
CREATED:20250411T122807Z
LAST-MODIFIED:20250411T122807Z
UID:20088-1745524800-1745524800@www.adetca.cat
SUMMARY:El Futur
DESCRIPTION:Rafaela Rivas premsa@salaversusglories.cat
URL:https://www.adetca.cat/agenda-event/el-futur/
CATEGORIES:EST
END:VEVENT
BEGIN:VEVENT
DTSTART;TZID=UTC:20250424T200000
DTEND;TZID=UTC:20250424T200000
DTSTAMP:20260424T042335
CREATED:20250410T142702Z
LAST-MODIFIED:20250410T142702Z
UID:20077-1745524800-1745524800@www.adetca.cat
SUMMARY:El venedor de fum
DESCRIPTION:Fernando Solla premsa@teatreakademia.cat
URL:https://www.adetca.cat/agenda-event/el-venedor-de-fum-3/
CATEGORIES:EST
END:VEVENT
BEGIN:VEVENT
DTSTART;TZID=UTC:20250424T200000
DTEND;TZID=UTC:20250424T200000
DTSTAMP:20260424T042335
CREATED:20241105T155420Z
LAST-MODIFIED:20241105T155420Z
UID:18529-1745524800-1745524800@www.adetca.cat
SUMMARY:Six\, The musical
DESCRIPTION:Eva Rexach eva@mahala.es
URL:https://www.adetca.cat/agenda-event/six-the-musical/
CATEGORIES:EST
END:VEVENT
END:VCALENDAR