BEGIN:VCALENDAR
VERSION:2.0
PRODID:-//ADETCA - ECPv6.15.20//NONSGML v1.0//EN
CALSCALE:GREGORIAN
METHOD:PUBLISH
X-ORIGINAL-URL:https://www.adetca.cat
X-WR-CALDESC:Esdeveniments per ADETCA
REFRESH-INTERVAL;VALUE=DURATION:PT1H
X-Robots-Tag:noindex
X-PUBLISHED-TTL:PT1H
BEGIN:VTIMEZONE
TZID:UTC
BEGIN:STANDARD
TZOFFSETFROM:+0000
TZOFFSETTO:+0000
TZNAME:UTC
DTSTART:20240101T000000
END:STANDARD
END:VTIMEZONE
BEGIN:VEVENT
DTSTART;TZID=UTC:20250401T123000
DTEND;TZID=UTC:20250401T123000
DTSTAMP:20260424T111032
CREATED:20250116T153436Z
LAST-MODIFIED:20250117T112420Z
UID:19361-1743510600-1743510600@www.adetca.cat
SUMMARY:Presentació Festival Trapezi
DESCRIPTION:Alicia G. Núñez alicia.gnunez@weareboth.com
URL:https://www.adetca.cat/agenda-event/presentacio-festival-trapezi-2/
END:VEVENT
BEGIN:VEVENT
DTSTART;TZID=UTC:20250331T110000
DTEND;TZID=UTC:20250331T110000
DTSTAMP:20260424T111032
CREATED:20250210T151918Z
LAST-MODIFIED:20250210T152428Z
UID:19603-1743418800-1743418800@www.adetca.cat
SUMMARY:Sismògraf 2025
DESCRIPTION:Dàlia Rajmildalia@wearecosmica.com
URL:https://www.adetca.cat/agenda-event/sismograf-2025/
CATEGORIES:RDP
END:VEVENT
BEGIN:VEVENT
DTSTART;TZID=UTC:20250328T170000
DTEND;TZID=UTC:20250328T170000
DTSTAMP:20260424T111032
CREATED:20240405T070044Z
LAST-MODIFIED:20250306T141010Z
UID:15902-1743181200-1743181200@www.adetca.cat
SUMMARY:Vudú (3318) Blixen
DESCRIPTION:Bernat Fornells bfornells@tnc.cat
URL:https://www.adetca.cat/agenda-event/estrena-sala-gran-3/
CATEGORIES:EST
END:VEVENT
BEGIN:VEVENT
DTSTART;TZID=UTC:20250327T200000
DTEND;TZID=UTC:20250327T200000
DTSTAMP:20260424T111032
CREATED:20241018T123343Z
LAST-MODIFIED:20241018T123343Z
UID:18366-1743105600-1743105600@www.adetca.cat
SUMMARY:Mort d'un comediant
DESCRIPTION:Xavi Lleyda xlleyda@focus.cat
URL:https://www.adetca.cat/agenda-event/mort-dun-comediant-2/
CATEGORIES:EST
END:VEVENT
BEGIN:VEVENT
DTSTART;TZID=UTC:20250326T203000
DTEND;TZID=UTC:20250326T203000
DTSTAMP:20260424T111032
CREATED:20250324T090528Z
LAST-MODIFIED:20250324T090528Z
UID:19923-1743021000-1743021000@www.adetca.cat
SUMMARY:SÍ SÍ SÍ
DESCRIPTION:Ana Candela premsa@tantarantana
URL:https://www.adetca.cat/agenda-event/si-si-si/
CATEGORIES:EST
END:VEVENT
BEGIN:VEVENT
DTSTART;TZID=UTC:20250326T200000
DTEND;TZID=UTC:20250326T200000
DTSTAMP:20260424T111032
CREATED:20241018T123230Z
LAST-MODIFIED:20241018T123230Z
UID:18363-1743019200-1743019200@www.adetca.cat
SUMMARY:Dones de ràdio
DESCRIPTION:Xavi Lleyda xlleyda@focus.cat
URL:https://www.adetca.cat/agenda-event/dones-de-radio-2/
CATEGORIES:EST
END:VEVENT
BEGIN:VEVENT
DTSTART;TZID=UTC:20250326T193000
DTEND;TZID=UTC:20250326T193000
DTSTAMP:20260424T111032
CREATED:20240619T111707Z
LAST-MODIFIED:20240619T111707Z
UID:16785-1743017400-1743017400@www.adetca.cat
SUMMARY:Ballet Du Capitole de Toulouse
DESCRIPTION:Joana Lladó joana.llado@liceubarcelona.cat
URL:https://www.adetca.cat/agenda-event/ballet-du-capitole-de-toulouse-2/
CATEGORIES:EST
END:VEVENT
BEGIN:VEVENT
DTSTART;TZID=UTC:20250326T120000
DTEND;TZID=UTC:20250326T120000
DTSTAMP:20260424T111032
CREATED:20240708T093750Z
LAST-MODIFIED:20240708T093750Z
UID:17193-1742990400-1742990400@www.adetca.cat
SUMMARY:Fantàstic Ramon
DESCRIPTION:Mar Solà msola@teatrelliure.com
URL:https://www.adetca.cat/agenda-event/fantastic-ramon-2/
CATEGORIES:RDP
END:VEVENT
BEGIN:VEVENT
DTSTART;TZID=UTC:20250325T140000
DTEND;TZID=UTC:20250325T140000
DTSTAMP:20260424T111032
CREATED:20250306T075120Z
LAST-MODIFIED:20250306T075120Z
UID:19798-1742911200-1742911200@www.adetca.cat
SUMMARY:Presentació director titular OSV - Dinar amb premsa
DESCRIPTION:Blanca de Carreras bdecarreras@osvalles.com
URL:https://www.adetca.cat/agenda-event/presentacio-director-titular-osv-dinar-amb-premsa/
CATEGORIES:RDP
END:VEVENT
BEGIN:VEVENT
DTSTART;TZID=UTC:20250325T110000
DTEND;TZID=UTC:20250325T110000
DTSTAMP:20260424T111032
CREATED:20241216T151713Z
LAST-MODIFIED:20241216T151713Z
UID:19110-1742900400-1742900400@www.adetca.cat
SUMMARY:Guy Nader i Maria Campos + Thomas Hauert
DESCRIPTION:Mercè Ros mros@mercatflors.cat
URL:https://www.adetca.cat/agenda-event/guy-nader-i-maria-campos-thomas-hauert/
CATEGORIES:RDP
END:VEVENT
BEGIN:VEVENT
DTSTART;TZID=UTC:20250322T200000
DTEND;TZID=UTC:20250322T200000
DTSTAMP:20260424T111032
CREATED:20250314T140522Z
LAST-MODIFIED:20250314T140652Z
UID:19838-1742673600-1742673600@www.adetca.cat
SUMMARY:ACTE DE CELEBRACIÓ 2a EDICIÓ CAP BUTACA BUIDA
DESCRIPTION:
URL:https://www.adetca.cat/agenda-event/acte-de-cloenda-2a-edicio-cap-butaca-buida/
CATEGORIES:EST
END:VEVENT
BEGIN:VEVENT
DTSTART;TZID=UTC:20250321T190000
DTEND;TZID=UTC:20250321T190000
DTSTAMP:20260424T111032
CREATED:20240405T065851Z
LAST-MODIFIED:20240701T074834Z
UID:15900-1742583600-1742583600@www.adetca.cat
SUMMARY:Infinite
DESCRIPTION:Bernat Fornells bfornells@tnc.cat
URL:https://www.adetca.cat/agenda-event/estrena-sala-gran-2/
CATEGORIES:EST
END:VEVENT
BEGIN:VEVENT
DTSTART;TZID=UTC:20250320T200000
DTEND;TZID=UTC:20250320T200000
DTSTAMP:20260424T111032
CREATED:20250320T170420Z
LAST-MODIFIED:20250320T170420Z
UID:19882-1742500800-1742500800@www.adetca.cat
SUMMARY:GLASS. KILL. BLUEBEARD
DESCRIPTION:Ana Candela premsa@tantarantana.com
URL:https://www.adetca.cat/agenda-event/glass-kill-bluebeard/
CATEGORIES:EST
END:VEVENT
BEGIN:VEVENT
DTSTART;TZID=UTC:20250320T200000
DTEND;TZID=UTC:20250320T200000
DTSTAMP:20260424T111032
CREATED:20241211T084751Z
LAST-MODIFIED:20241211T084751Z
UID:18939-1742500800-1742500800@www.adetca.cat
SUMMARY:Lapònia
DESCRIPTION:Xavi Lleyda xlleyda@focus.cat
URL:https://www.adetca.cat/agenda-event/laponia-2/
CATEGORIES:EST
END:VEVENT
BEGIN:VEVENT
DTSTART;TZID=UTC:20250320T200000
DTEND;TZID=UTC:20250320T200000
DTSTAMP:20260424T111032
CREATED:20241114T133408Z
LAST-MODIFIED:20241114T133408Z
UID:18603-1742500800-1742500800@www.adetca.cat
SUMMARY:Les mares
DESCRIPTION:Carlos Zaragoza carloszaragoza@teatrepoliorama.com
URL:https://www.adetca.cat/agenda-event/les-mares/
CATEGORIES:EST
END:VEVENT
BEGIN:VEVENT
DTSTART;TZID=UTC:20250320T200000
DTEND;TZID=UTC:20250320T200000
DTSTAMP:20260424T111032
CREATED:20240917T122644Z
LAST-MODIFIED:20240917T122644Z
UID:17939-1742500800-1742500800@www.adetca.cat
SUMMARY:The cibels
DESCRIPTION:Ester Cánovas ester@elmalda.cat
URL:https://www.adetca.cat/agenda-event/the-cibels/
CATEGORIES:EST
END:VEVENT
BEGIN:VEVENT
DTSTART;TZID=UTC:20250320T193000
DTEND;TZID=UTC:20250320T193000
DTSTAMP:20260424T111032
CREATED:20250128T161622Z
LAST-MODIFIED:20250128T162302Z
UID:19440-1742499000-1742499000@www.adetca.cat
SUMMARY:L3 Fontana
DESCRIPTION:Laura Farrés laurafarres@salabeckett.cat
URL:https://www.adetca.cat/agenda-event/l3-fontana/
CATEGORIES:EST
END:VEVENT
BEGIN:VEVENT
DTSTART;TZID=UTC:20250320T120000
DTEND;TZID=UTC:20250320T120000
DTSTAMP:20260424T111032
CREATED:20250306T140705Z
LAST-MODIFIED:20250306T140705Z
UID:19800-1742472000-1742472000@www.adetca.cat
SUMMARY:Sémiramis - Don Juan
DESCRIPTION:Helena Grau helena.grau@liceubarcelona.cat
URL:https://www.adetca.cat/agenda-event/semiramis-don-juan/
CATEGORIES:RDP
END:VEVENT
BEGIN:VEVENT
DTSTART;TZID=UTC:20250320T120000
DTEND;TZID=UTC:20250320T120000
DTSTAMP:20260424T111032
CREATED:20241018T122915Z
LAST-MODIFIED:20241018T122938Z
UID:18359-1742472000-1742472000@www.adetca.cat
SUMMARY:Dones de ràdio
DESCRIPTION:Xavi Lleyda xlleyda@focus.cat
URL:https://www.adetca.cat/agenda-event/dones-de-radio/
CATEGORIES:RDP
END:VEVENT
BEGIN:VEVENT
DTSTART;TZID=UTC:20250320T100000
DTEND;TZID=UTC:20250320T100000
DTSTAMP:20260424T111032
CREATED:20240708T093333Z
LAST-MODIFIED:20250224T082630Z
UID:17191-1742464800-1742464800@www.adetca.cat
SUMMARY:Ferida lluminosa - Unlock the city
DESCRIPTION:Mar Solà msola@teatrelliure.com
URL:https://www.adetca.cat/agenda-event/ferida-lluminosa-unlock-the-city/
CATEGORIES:RDP
END:VEVENT
BEGIN:VEVENT
DTSTART;TZID=UTC:20250319T200000
DTEND;TZID=UTC:20250319T200000
DTSTAMP:20260424T111032
CREATED:20240918T103641Z
LAST-MODIFIED:20250310T140956Z
UID:18025-1742414400-1742414400@www.adetca.cat
SUMMARY:Weltschmerz (títol provisional)
DESCRIPTION:Centre de les Arts Lliures – comunicacio@fundaciojoanbrossa.cat
URL:https://www.adetca.cat/agenda-event/weltschmerz-titol-provisional/
CATEGORIES:EST
END:VEVENT
BEGIN:VEVENT
DTSTART;TZID=UTC:20250319T190000
DTEND;TZID=UTC:20250319T190000
DTSTAMP:20260424T111032
CREATED:20240629T083907Z
LAST-MODIFIED:20240629T083907Z
UID:16936-1742410800-1742410800@www.adetca.cat
SUMMARY:Kill me
DESCRIPTION:Mar Solà msola@teatrelliure.com
URL:https://www.adetca.cat/agenda-event/kill-me/
CATEGORIES:EST
END:VEVENT
BEGIN:VEVENT
DTSTART;TZID=UTC:20250319T123000
DTEND;TZID=UTC:20250319T123000
DTSTAMP:20260424T111032
CREATED:20250121T145038Z
LAST-MODIFIED:20250305T082856Z
UID:19390-1742387400-1742387400@www.adetca.cat
SUMMARY:Presentació Temporada 2025/26 de BCN Clàssics
DESCRIPTION:  \n\n\n\nMireia Ayguadé | BCN Clàssics: mayguade@bcnclassics.cat\n\n  \n\n\n\n 
URL:https://www.adetca.cat/agenda-event/presentacio-temporada-2025-26-de-bcn-classics/
CATEGORIES:RDP
END:VEVENT
BEGIN:VEVENT
DTSTART;TZID=UTC:20250319T120000
DTEND;TZID=UTC:20250319T120000
DTSTAMP:20260424T111032
CREATED:20241018T122748Z
LAST-MODIFIED:20241018T122748Z
UID:18357-1742385600-1742385600@www.adetca.cat
SUMMARY:Mort d'un comediant
DESCRIPTION:Xavi Lleyda xlleyda@focus.cat
URL:https://www.adetca.cat/agenda-event/mort-dun-comediant/
CATEGORIES:RDP
END:VEVENT
BEGIN:VEVENT
DTSTART;TZID=UTC:20250319T110000
DTEND;TZID=UTC:20250319T110000
DTSTAMP:20260424T111032
CREATED:20250114T100733Z
LAST-MODIFIED:20250114T100733Z
UID:19268-1742382000-1742382000@www.adetca.cat
SUMMARY:Presentació Obrador d’Arrel. Fira Mediterrània de Manresa.
DESCRIPTION:
URL:https://www.adetca.cat/agenda-event/presentacio-obrador-darrel-fira-mediterrania-de-manresa/
CATEGORIES:RDP
END:VEVENT
BEGIN:VEVENT
DTSTART;TZID=UTC:20250318T120000
DTEND;TZID=UTC:20250318T120000
DTSTAMP:20260424T111032
CREATED:20241211T084601Z
LAST-MODIFIED:20241211T084841Z
UID:18937-1742299200-1742299200@www.adetca.cat
SUMMARY:Lapònia
DESCRIPTION:Xavi Lleyda xlleyda@focus.cat
URL:https://www.adetca.cat/agenda-event/laponia/
CATEGORIES:RDP
END:VEVENT
BEGIN:VEVENT
DTSTART;TZID=UTC:20250318T103000
DTEND;TZID=UTC:20250318T103000
DTSTAMP:20260424T111032
CREATED:20241211T095846Z
LAST-MODIFIED:20241211T105052Z
UID:18949-1742293800-1742293800@www.adetca.cat
SUMMARY:Presentació del 70è. Concurs Maria Canals de Barcelona
DESCRIPTION:Anna M. Dàvila anamdavila2@gmail.com
URL:https://www.adetca.cat/agenda-event/presentacio-del-70e-concurs-maria-canals-de-barcelona/
CATEGORIES:RDP
END:VEVENT
BEGIN:VEVENT
DTSTART;TZID=UTC:20250317T190000
DTEND;TZID=UTC:20250317T190000
DTSTAMP:20260424T111032
CREATED:20240619T111325Z
LAST-MODIFIED:20240619T111325Z
UID:16781-1742238000-1742238000@www.adetca.cat
SUMMARY:Lohengrin
DESCRIPTION:Joana Lladó joana.llado@liceubarcelona.cat
URL:https://www.adetca.cat/agenda-event/lohengrin-3/
CATEGORIES:EST
END:VEVENT
BEGIN:VEVENT
DTSTART;TZID=UTC:20250317T160000
DTEND;TZID=UTC:20250317T160000
DTSTAMP:20260424T111032
CREATED:20250308T214423Z
LAST-MODIFIED:20250308T214423Z
UID:19803-1742227200-1742227200@www.adetca.cat
SUMMARY:L3 Fontana
DESCRIPTION:Laura Farrés laurafarres@salabeckett.cat
URL:https://www.adetca.cat/agenda-event/l3-fontana-2/
CATEGORIES:RDP
END:VEVENT
BEGIN:VEVENT
DTSTART;TZID=UTC:20250314T113000
DTEND;TZID=UTC:20250314T113000
DTSTAMP:20260424T111032
CREATED:20241216T151357Z
LAST-MODIFIED:20241216T151357Z
UID:19105-1741951800-1741951800@www.adetca.cat
SUMMARY:Mette Ingvartsen
DESCRIPTION:Mercè Ros mros@mercatflors.cat
URL:https://www.adetca.cat/agenda-event/mette-ingvartsen/
CATEGORIES:RDP
END:VEVENT
END:VCALENDAR