BEGIN:VCALENDAR
VERSION:2.0
PRODID:-//ADETCA - ECPv6.15.20//NONSGML v1.0//EN
CALSCALE:GREGORIAN
METHOD:PUBLISH
X-ORIGINAL-URL:https://www.adetca.cat
X-WR-CALDESC:Esdeveniments per ADETCA
REFRESH-INTERVAL;VALUE=DURATION:PT1H
X-Robots-Tag:noindex
X-PUBLISHED-TTL:PT1H
BEGIN:VTIMEZONE
TZID:UTC
BEGIN:STANDARD
TZOFFSETFROM:+0000
TZOFFSETTO:+0000
TZNAME:UTC
DTSTART:20240101T000000
END:STANDARD
END:VTIMEZONE
BEGIN:VEVENT
DTSTART;TZID=UTC:20250319T120000
DTEND;TZID=UTC:20250319T120000
DTSTAMP:20260424T120930
CREATED:20241018T122748Z
LAST-MODIFIED:20241018T122748Z
UID:18357-1742385600-1742385600@www.adetca.cat
SUMMARY:Mort d'un comediant
DESCRIPTION:Xavi Lleyda xlleyda@focus.cat
URL:https://www.adetca.cat/agenda-event/mort-dun-comediant/
CATEGORIES:RDP
END:VEVENT
BEGIN:VEVENT
DTSTART;TZID=UTC:20250319T110000
DTEND;TZID=UTC:20250319T110000
DTSTAMP:20260424T120930
CREATED:20250114T100733Z
LAST-MODIFIED:20250114T100733Z
UID:19268-1742382000-1742382000@www.adetca.cat
SUMMARY:Presentació Obrador d’Arrel. Fira Mediterrània de Manresa.
DESCRIPTION:
URL:https://www.adetca.cat/agenda-event/presentacio-obrador-darrel-fira-mediterrania-de-manresa/
CATEGORIES:RDP
END:VEVENT
BEGIN:VEVENT
DTSTART;TZID=UTC:20250318T120000
DTEND;TZID=UTC:20250318T120000
DTSTAMP:20260424T120930
CREATED:20241211T084601Z
LAST-MODIFIED:20241211T084841Z
UID:18937-1742299200-1742299200@www.adetca.cat
SUMMARY:Lapònia
DESCRIPTION:Xavi Lleyda xlleyda@focus.cat
URL:https://www.adetca.cat/agenda-event/laponia/
CATEGORIES:RDP
END:VEVENT
BEGIN:VEVENT
DTSTART;TZID=UTC:20250318T103000
DTEND;TZID=UTC:20250318T103000
DTSTAMP:20260424T120930
CREATED:20241211T095846Z
LAST-MODIFIED:20241211T105052Z
UID:18949-1742293800-1742293800@www.adetca.cat
SUMMARY:Presentació del 70è. Concurs Maria Canals de Barcelona
DESCRIPTION:Anna M. Dàvila anamdavila2@gmail.com
URL:https://www.adetca.cat/agenda-event/presentacio-del-70e-concurs-maria-canals-de-barcelona/
CATEGORIES:RDP
END:VEVENT
BEGIN:VEVENT
DTSTART;TZID=UTC:20250317T190000
DTEND;TZID=UTC:20250317T190000
DTSTAMP:20260424T120930
CREATED:20240619T111325Z
LAST-MODIFIED:20240619T111325Z
UID:16781-1742238000-1742238000@www.adetca.cat
SUMMARY:Lohengrin
DESCRIPTION:Joana Lladó joana.llado@liceubarcelona.cat
URL:https://www.adetca.cat/agenda-event/lohengrin-3/
CATEGORIES:EST
END:VEVENT
BEGIN:VEVENT
DTSTART;TZID=UTC:20250317T160000
DTEND;TZID=UTC:20250317T160000
DTSTAMP:20260424T120930
CREATED:20250308T214423Z
LAST-MODIFIED:20250308T214423Z
UID:19803-1742227200-1742227200@www.adetca.cat
SUMMARY:L3 Fontana
DESCRIPTION:Laura Farrés laurafarres@salabeckett.cat
URL:https://www.adetca.cat/agenda-event/l3-fontana-2/
CATEGORIES:RDP
END:VEVENT
BEGIN:VEVENT
DTSTART;TZID=UTC:20250314T113000
DTEND;TZID=UTC:20250314T113000
DTSTAMP:20260424T120930
CREATED:20241216T151357Z
LAST-MODIFIED:20241216T151357Z
UID:19105-1741951800-1741951800@www.adetca.cat
SUMMARY:Mette Ingvartsen
DESCRIPTION:Mercè Ros mros@mercatflors.cat
URL:https://www.adetca.cat/agenda-event/mette-ingvartsen/
CATEGORIES:RDP
END:VEVENT
BEGIN:VEVENT
DTSTART;TZID=UTC:20250313T190000
DTEND;TZID=UTC:20250313T190000
DTSTAMP:20260424T120930
CREATED:20240405T071337Z
LAST-MODIFIED:20240701T075026Z
UID:15929-1741892400-1741892400@www.adetca.cat
SUMMARY:Habitació Suite N. 4: Do not Disturb
DESCRIPTION:Bernat Fornells bfornells@tnc.cat
URL:https://www.adetca.cat/agenda-event/estrena-sala-tallers-5/
CATEGORIES:EST
END:VEVENT
BEGIN:VEVENT
DTSTART;TZID=UTC:20250313T130000
DTEND;TZID=UTC:20250313T130000
DTSTAMP:20260424T120930
CREATED:20240619T111232Z
LAST-MODIFIED:20250306T092023Z
UID:16779-1741870800-1741870800@www.adetca.cat
SUMMARY:Lohengrin
DESCRIPTION:Joana Lladó joana.llado@liceubarcelona.ca \nHelena Grau: helena.grau@liceubracelona.cat
URL:https://www.adetca.cat/agenda-event/lohengrin-2/
CATEGORIES:RDP
END:VEVENT
BEGIN:VEVENT
DTSTART;TZID=UTC:20250313T103000
DTEND;TZID=UTC:20250313T103000
DTSTAMP:20260424T120930
CREATED:20250228T102623Z
LAST-MODIFIED:20250228T102623Z
UID:19751-1741861800-1741861800@www.adetca.cat
SUMMARY:Les mares
DESCRIPTION:Ivan Danot ivandanot@gmail.com
URL:https://www.adetca.cat/agenda-event/les-mares-2/
CATEGORIES:RDP
END:VEVENT
BEGIN:VEVENT
DTSTART;TZID=UTC:20250312T120000
DTEND;TZID=UTC:20250312T120000
DTSTAMP:20260424T120930
CREATED:20240916T135752Z
LAST-MODIFIED:20250206T144849Z
UID:17832-1741780800-1741780800@www.adetca.cat
SUMMARY:Barcelona Calling Palestina
DESCRIPTION:Bernat Fornells bfornells@tnc.cat \nEsther Vendrell evendrell@tnc.cat
URL:https://www.adetca.cat/agenda-event/barcelona-calling-palestina-2/
CATEGORIES:RDP
END:VEVENT
BEGIN:VEVENT
DTSTART;TZID=UTC:20250312T100000
DTEND;TZID=UTC:20250312T100000
DTSTAMP:20260424T120930
CREATED:20241202T110600Z
LAST-MODIFIED:20241202T111542Z
UID:18765-1741773600-1741773600@www.adetca.cat
SUMMARY:36a Mostra Igualada
DESCRIPTION:Núria Olivé nuria@latremenda.coop
URL:https://www.adetca.cat/agenda-event/36a-mostra-igualada-2/
CATEGORIES:RDP
END:VEVENT
BEGIN:VEVENT
DTSTART;TZID=UTC:20250311T123000
DTEND;TZID=UTC:20250311T123000
DTSTAMP:20260424T120930
CREATED:20250127T090424Z
LAST-MODIFIED:20250206T103442Z
UID:19415-1741696200-1741696200@www.adetca.cat
SUMMARY:Presentació de la Schubertíada 2025
DESCRIPTION:Mireia Prats info@schubertiada.cat \n+34 673 73 23 57
URL:https://www.adetca.cat/agenda-event/presentacio-de-la-schubertiada-2025/
CATEGORIES:RDP
END:VEVENT
BEGIN:VEVENT
DTSTART;TZID=UTC:20250311T110000
DTEND;TZID=UTC:20250311T110000
DTSTAMP:20260424T120930
CREATED:20240626T082550Z
LAST-MODIFIED:20250212T154806Z
UID:16856-1741690800-1741690800@www.adetca.cat
SUMMARY:The cibels
DESCRIPTION:Ester Cánovas ester@elmalda.cat
URL:https://www.adetca.cat/agenda-event/espectacle-malda-7/
CATEGORIES:RDP
END:VEVENT
BEGIN:VEVENT
DTSTART;TZID=UTC:20250310T200000
DTEND;TZID=UTC:20250310T200000
DTSTAMP:20260424T120930
CREATED:20250304T133931Z
LAST-MODIFIED:20250304T134017Z
UID:19771-1741636800-1741636800@www.adetca.cat
SUMMARY:Arribaràs i serà de nit
DESCRIPTION:Àlex Bragalló comunicacio@atrium.cat
URL:https://www.adetca.cat/agenda-event/arribaras-i-sera-de-nit/
CATEGORIES:EST
END:VEVENT
BEGIN:VEVENT
DTSTART;TZID=UTC:20250310T200000
DTEND;TZID=UTC:20250310T200000
DTSTAMP:20260424T120930
CREATED:20241114T133129Z
LAST-MODIFIED:20241114T133129Z
UID:18601-1741636800-1741636800@www.adetca.cat
SUMMARY:L'orquestra impossible
DESCRIPTION:Carlos Zaragoza carloszaragoza@teatrepoliorama.com
URL:https://www.adetca.cat/agenda-event/lorquestra-impossible/
CATEGORIES:EST
END:VEVENT
BEGIN:VEVENT
DTSTART;TZID=UTC:20250310T110000
DTEND;TZID=UTC:20250310T110000
DTSTAMP:20260424T120930
CREATED:20250227T102401Z
LAST-MODIFIED:20250227T102501Z
UID:19746-1741604400-1741604400@www.adetca.cat
SUMMARY:Àngel Duran
DESCRIPTION:Mercè Ros mros@mercatflors.cat
URL:https://www.adetca.cat/agenda-event/angel-duran/
CATEGORIES:RDP
END:VEVENT
BEGIN:VEVENT
DTSTART;TZID=UTC:20250307T180000
DTEND;TZID=UTC:20250307T180000
DTSTAMP:20260424T120930
CREATED:20250205T082847Z
LAST-MODIFIED:20250205T084011Z
UID:19554-1741370400-1741370400@www.adetca.cat
SUMMARY:Patufet
DESCRIPTION:David Muntané coordinacio.lapuntual@gmail.com
URL:https://www.adetca.cat/agenda-event/patufet-2/
CATEGORIES:EST
END:VEVENT
BEGIN:VEVENT
DTSTART;TZID=UTC:20250307T110000
DTEND;TZID=UTC:20250307T110000
DTSTAMP:20260424T120930
CREATED:20250115T134119Z
LAST-MODIFIED:20250127T081756Z
UID:19324-1741345200-1741345200@www.adetca.cat
SUMMARY:Presentació del cicle Palau 100
DESCRIPTION:Imma Anglès iangles@palaumusica.cat
URL:https://www.adetca.cat/agenda-event/presentacio-del-cicle-palau-100/
CATEGORIES:RDP
END:VEVENT
BEGIN:VEVENT
DTSTART;TZID=UTC:20250306T190000
DTEND;TZID=UTC:20250306T190000
DTSTAMP:20260424T120930
CREATED:20240405T070810Z
LAST-MODIFIED:20240701T075215Z
UID:15917-1741287600-1741287600@www.adetca.cat
SUMMARY:Marie\, la roja
DESCRIPTION:Bernat Fornells bfornells@tnc.cat
URL:https://www.adetca.cat/agenda-event/estrena-sala-petita-5/
CATEGORIES:EST
END:VEVENT
BEGIN:VEVENT
DTSTART;TZID=UTC:20250306T170000
DTEND;TZID=UTC:20250306T170000
DTSTAMP:20260424T120930
CREATED:20250225T154339Z
LAST-MODIFIED:20250225T154420Z
UID:19728-1741280400-1741280400@www.adetca.cat
SUMMARY:Grease\, el musical
DESCRIPTION:Daniel Mejias daniel@danielmejias.com
URL:https://www.adetca.cat/agenda-event/grease-el-musical/
CATEGORIES:PDG
END:VEVENT
BEGIN:VEVENT
DTSTART;TZID=UTC:20250306T110000
DTEND;TZID=UTC:20250306T110000
DTSTAMP:20260424T120930
CREATED:20241216T151203Z
LAST-MODIFIED:20241216T151203Z
UID:19103-1741258800-1741258800@www.adetca.cat
SUMMARY:Ayelen Parolin + Montse Roig - Educatius
DESCRIPTION:Mercè Ros \nmros@mercatflors.cat
URL:https://www.adetca.cat/agenda-event/ayelen-parolin-montse-roig-educatius/
CATEGORIES:RDP
END:VEVENT
BEGIN:VEVENT
DTSTART;TZID=UTC:20250305T200000
DTEND;TZID=UTC:20250305T200000
DTSTAMP:20260424T120930
CREATED:20250204T112834Z
LAST-MODIFIED:20250226T122655Z
UID:19546-1741204800-1741204800@www.adetca.cat
SUMMARY:Després del final
DESCRIPTION:Rafaela Rivas premsa@salaversusglories.cat
URL:https://www.adetca.cat/agenda-event/despres-del-final/
CATEGORIES:EST
END:VEVENT
BEGIN:VEVENT
DTSTART;TZID=UTC:20250305T200000
DTEND;TZID=UTC:20250305T200000
DTSTAMP:20260424T120930
CREATED:20241122T085910Z
LAST-MODIFIED:20250226T121759Z
UID:18711-1741204800-1741204800@www.adetca.cat
SUMMARY:Expulsió
DESCRIPTION:Laura Farrés laurafarres@salabeckett.cat
URL:https://www.adetca.cat/agenda-event/espulsio/
CATEGORIES:EST
END:VEVENT
BEGIN:VEVENT
DTSTART;TZID=UTC:20250304T120000
DTEND;TZID=UTC:20250304T120000
DTSTAMP:20260424T120930
CREATED:20240916T135259Z
LAST-MODIFIED:20250206T144727Z
UID:17824-1741089600-1741089600@www.adetca.cat
SUMMARY:Marie\, la roja
DESCRIPTION:Bernat Fornells bfornells@tnc.cat \nEsther Vendrell evendrell@tnc.cat
URL:https://www.adetca.cat/agenda-event/marie-la-roja-2/
CATEGORIES:RDP
END:VEVENT
BEGIN:VEVENT
DTSTART;TZID=UTC:20250301T180000
DTEND;TZID=UTC:20250301T180000
DTSTAMP:20260424T120930
CREATED:20241114T160116Z
LAST-MODIFIED:20241114T160116Z
UID:18613-1740852000-1740852000@www.adetca.cat
SUMMARY:Sicalíptiques
DESCRIPTION:Cristina Belmonte xtna@kdecomunicacion
URL:https://www.adetca.cat/agenda-event/sicaliptiques-3/
CATEGORIES:EST
END:VEVENT
BEGIN:VEVENT
DTSTART;TZID=UTC:20250228T180000
DTEND;TZID=UTC:20250228T180000
DTSTAMP:20260424T120930
CREATED:20250205T080406Z
LAST-MODIFIED:20250205T081140Z
UID:19549-1740765600-1740765600@www.adetca.cat
SUMMARY:El árbol
DESCRIPTION:David Muntané coordinacio.lapuntual@gmail.com
URL:https://www.adetca.cat/agenda-event/el-arbol/
CATEGORIES:EST
END:VEVENT
BEGIN:VEVENT
DTSTART;TZID=UTC:20250228T121500
DTEND;TZID=UTC:20250228T121500
DTSTAMP:20260424T120930
CREATED:20241114T160021Z
LAST-MODIFIED:20250214T130015Z
UID:18611-1740744900-1740744900@www.adetca.cat
SUMMARY:Sicalíptiques
DESCRIPTION:Cristina Belmonte xtna@kdecomunicacion
URL:https://www.adetca.cat/agenda-event/sicaliptiques-2/
CATEGORIES:PDG,RDP
END:VEVENT
BEGIN:VEVENT
DTSTART;TZID=UTC:20250228T103000
DTEND;TZID=UTC:20250228T103000
DTSTAMP:20260424T120930
CREATED:20250131T115458Z
LAST-MODIFIED:20250212T101018Z
UID:19507-1740738600-1740738600@www.adetca.cat
SUMMARY:Expulsió
DESCRIPTION:Laura Farrés laurafarres@salabeckett.cat
URL:https://www.adetca.cat/agenda-event/expulsio-2/
CATEGORIES:PDG,RDP
END:VEVENT
BEGIN:VEVENT
DTSTART;TZID=UTC:20250227T200000
DTEND;TZID=UTC:20250227T200000
DTSTAMP:20260424T120930
CREATED:20241211T084250Z
LAST-MODIFIED:20241211T084250Z
UID:18935-1740686400-1740686400@www.adetca.cat
SUMMARY:El gran teatro del mundo
DESCRIPTION:Xavi Lleyda xlleyda@focus.cat
URL:https://www.adetca.cat/agenda-event/el-gran-teatro-del-mundo-2/
CATEGORIES:EST
END:VEVENT
END:VCALENDAR