BEGIN:VCALENDAR
VERSION:2.0
PRODID:-//ADETCA - ECPv6.15.20//NONSGML v1.0//EN
CALSCALE:GREGORIAN
METHOD:PUBLISH
X-ORIGINAL-URL:https://www.adetca.cat
X-WR-CALDESC:Esdeveniments per ADETCA
REFRESH-INTERVAL;VALUE=DURATION:PT1H
X-Robots-Tag:noindex
X-PUBLISHED-TTL:PT1H
BEGIN:VTIMEZONE
TZID:UTC
BEGIN:STANDARD
TZOFFSETFROM:+0000
TZOFFSETTO:+0000
TZNAME:UTC
DTSTART:20240101T000000
END:STANDARD
END:VTIMEZONE
BEGIN:VEVENT
DTSTART;TZID=UTC:20250304T120000
DTEND;TZID=UTC:20250304T120000
DTSTAMP:20260424T152245
CREATED:20240916T135259Z
LAST-MODIFIED:20250206T144727Z
UID:17824-1741089600-1741089600@www.adetca.cat
SUMMARY:Marie\, la roja
DESCRIPTION:Bernat Fornells bfornells@tnc.cat \nEsther Vendrell evendrell@tnc.cat
URL:https://www.adetca.cat/agenda-event/marie-la-roja-2/
CATEGORIES:RDP
END:VEVENT
BEGIN:VEVENT
DTSTART;TZID=UTC:20250301T180000
DTEND;TZID=UTC:20250301T180000
DTSTAMP:20260424T152245
CREATED:20241114T160116Z
LAST-MODIFIED:20241114T160116Z
UID:18613-1740852000-1740852000@www.adetca.cat
SUMMARY:Sicalíptiques
DESCRIPTION:Cristina Belmonte xtna@kdecomunicacion
URL:https://www.adetca.cat/agenda-event/sicaliptiques-3/
CATEGORIES:EST
END:VEVENT
BEGIN:VEVENT
DTSTART;TZID=UTC:20250228T180000
DTEND;TZID=UTC:20250228T180000
DTSTAMP:20260424T152245
CREATED:20250205T080406Z
LAST-MODIFIED:20250205T081140Z
UID:19549-1740765600-1740765600@www.adetca.cat
SUMMARY:El árbol
DESCRIPTION:David Muntané coordinacio.lapuntual@gmail.com
URL:https://www.adetca.cat/agenda-event/el-arbol/
CATEGORIES:EST
END:VEVENT
BEGIN:VEVENT
DTSTART;TZID=UTC:20250228T121500
DTEND;TZID=UTC:20250228T121500
DTSTAMP:20260424T152245
CREATED:20241114T160021Z
LAST-MODIFIED:20250214T130015Z
UID:18611-1740744900-1740744900@www.adetca.cat
SUMMARY:Sicalíptiques
DESCRIPTION:Cristina Belmonte xtna@kdecomunicacion
URL:https://www.adetca.cat/agenda-event/sicaliptiques-2/
CATEGORIES:PDG,RDP
END:VEVENT
BEGIN:VEVENT
DTSTART;TZID=UTC:20250228T103000
DTEND;TZID=UTC:20250228T103000
DTSTAMP:20260424T152245
CREATED:20250131T115458Z
LAST-MODIFIED:20250212T101018Z
UID:19507-1740738600-1740738600@www.adetca.cat
SUMMARY:Expulsió
DESCRIPTION:Laura Farrés laurafarres@salabeckett.cat
URL:https://www.adetca.cat/agenda-event/expulsio-2/
CATEGORIES:PDG,RDP
END:VEVENT
BEGIN:VEVENT
DTSTART;TZID=UTC:20250227T200000
DTEND;TZID=UTC:20250227T200000
DTSTAMP:20260424T152245
CREATED:20241211T084250Z
LAST-MODIFIED:20241211T084250Z
UID:18935-1740686400-1740686400@www.adetca.cat
SUMMARY:El gran teatro del mundo
DESCRIPTION:Xavi Lleyda xlleyda@focus.cat
URL:https://www.adetca.cat/agenda-event/el-gran-teatro-del-mundo-2/
CATEGORIES:EST
END:VEVENT
BEGIN:VEVENT
DTSTART;TZID=UTC:20250227T193000
DTEND;TZID=UTC:20250227T193000
DTSTAMP:20260424T152245
CREATED:20240629T083712Z
LAST-MODIFIED:20240629T083712Z
UID:16934-1740684600-1740684600@www.adetca.cat
SUMMARY:Electra
DESCRIPTION:Mar Solà msola@teatrelliure.com
URL:https://www.adetca.cat/agenda-event/electra/
CATEGORIES:EST
END:VEVENT
BEGIN:VEVENT
DTSTART;TZID=UTC:20250227T100000
DTEND;TZID=UTC:20250227T100000
DTSTAMP:20260424T152245
CREATED:20241202T110502Z
LAST-MODIFIED:20241202T110502Z
UID:18763-1740650400-1740650400@www.adetca.cat
SUMMARY:36a Mostra Igualada
DESCRIPTION:Núria Olivé nuria@latremenda.coop
URL:https://www.adetca.cat/agenda-event/36a-mostra-igualada/
CATEGORIES:RDP
END:VEVENT
BEGIN:VEVENT
DTSTART;TZID=UTC:20250226T203000
DTEND;TZID=UTC:20250226T203000
DTSTAMP:20260424T152245
CREATED:20241218T162435Z
LAST-MODIFIED:20241218T162435Z
UID:19159-1740601800-1740601800@www.adetca.cat
SUMMARY:L'últim soviètic
DESCRIPTION:Ana Candela premsa@tantarantana.com
URL:https://www.adetca.cat/agenda-event/lultim-sovietic/
CATEGORIES:EST
END:VEVENT
BEGIN:VEVENT
DTSTART;TZID=UTC:20250226T200000
DTEND;TZID=UTC:20250226T200000
DTSTAMP:20260424T152245
CREATED:20240913T103627Z
LAST-MODIFIED:20240913T103627Z
UID:17725-1740600000-1740600000@www.adetca.cat
SUMMARY:Guateque
DESCRIPTION:Fernando Solla premsa@teatreakademia.cat
URL:https://www.adetca.cat/agenda-event/guateque/
CATEGORIES:EST
END:VEVENT
BEGIN:VEVENT
DTSTART;TZID=UTC:20250226T193000
DTEND;TZID=UTC:20250226T193000
DTSTAMP:20260424T152245
CREATED:20250219T164525Z
LAST-MODIFIED:20250219T164525Z
UID:19695-1740598200-1740598200@www.adetca.cat
SUMMARY:Teoria King Kong
DESCRIPTION:Mireia Pol comunicacio@heartbreakhotel.cat
URL:https://www.adetca.cat/agenda-event/teoria-king-kong/
CATEGORIES:EST
END:VEVENT
BEGIN:VEVENT
DTSTART;TZID=UTC:20250226T130000
DTEND;TZID=UTC:20250226T130000
DTSTAMP:20260424T152245
CREATED:20241211T084146Z
LAST-MODIFIED:20241211T084146Z
UID:18932-1740574800-1740574800@www.adetca.cat
SUMMARY:El gran teatro del mundo
DESCRIPTION:Xavi Lleyda xlleyda@focus.cat
URL:https://www.adetca.cat/agenda-event/el-gran-teatro-del-mundo/
CATEGORIES:RDP
END:VEVENT
BEGIN:VEVENT
DTSTART;TZID=UTC:20250226T110000
DTEND;TZID=UTC:20250226T110000
DTSTAMP:20260424T152245
CREATED:20241205T103809Z
LAST-MODIFIED:20241205T103809Z
UID:18796-1740567600-1740567600@www.adetca.cat
SUMMARY:Quim Bigas + Lautaro Reyes
DESCRIPTION:Mercè Ros mros@mercatflors.cat
URL:https://www.adetca.cat/agenda-event/quim-bigas-lautaro-reyes/
CATEGORIES:RDP
END:VEVENT
BEGIN:VEVENT
DTSTART;TZID=UTC:20250225T200000
DTEND;TZID=UTC:20250225T200000
DTSTAMP:20260424T152245
CREATED:20241209T150123Z
LAST-MODIFIED:20250131T125659Z
UID:18896-1740513600-1740513600@www.adetca.cat
SUMMARY:La dona del tercer segona
DESCRIPTION:Martí Rossell marti@barc.coop
URL:https://www.adetca.cat/agenda-event/la-dona-del-tercer-segona-4/
CATEGORIES:EST
END:VEVENT
BEGIN:VEVENT
DTSTART;TZID=UTC:20250225T120000
DTEND;TZID=UTC:20250225T120000
DTSTAMP:20260424T152245
CREATED:20240708T092210Z
LAST-MODIFIED:20250122T143408Z
UID:17183-1740484800-1740484800@www.adetca.cat
SUMMARY:Electra + Reverberacions IT Teatre Lliure
DESCRIPTION:Mar Solà msola@teatrelliure.com
URL:https://www.adetca.cat/agenda-event/electra-3/
CATEGORIES:RDP
END:VEVENT
BEGIN:VEVENT
DTSTART;TZID=UTC:20250225T100000
DTEND;TZID=UTC:20250225T100000
DTSTAMP:20260424T152245
CREATED:20250129T161118Z
LAST-MODIFIED:20250129T161118Z
UID:19468-1740477600-1740477600@www.adetca.cat
SUMMARY:Presentació Festival Dansa Metropolitana
DESCRIPTION:Guillem Talens: gtalensm@bcn.cat
URL:https://www.adetca.cat/agenda-event/presentacio-festival-dansa-metropolitana/
CATEGORIES:RDP
END:VEVENT
BEGIN:VEVENT
DTSTART;TZID=UTC:20250224T200000
DTEND;TZID=UTC:20250224T200000
DTSTAMP:20260424T152245
CREATED:20241114T133009Z
LAST-MODIFIED:20241114T133009Z
UID:18599-1740427200-1740427200@www.adetca.cat
SUMMARY:Tot el que passarà a partir d'ara
DESCRIPTION:Carlos Zaragoza carloszaragoza@teatrepoliorama.com
URL:https://www.adetca.cat/agenda-event/tot-el-que-passara-a-partir-dara-2/
CATEGORIES:EST
END:VEVENT
BEGIN:VEVENT
DTSTART;TZID=UTC:20250224T100000
DTEND;TZID=UTC:20250224T100000
DTSTAMP:20260424T152245
CREATED:20241218T074751Z
LAST-MODIFIED:20241218T081137Z
UID:19131-1740391200-1740391200@www.adetca.cat
SUMMARY:Festival Incert
DESCRIPTION:Aloma Vilamala aloma@latremenda.coop
URL:https://www.adetca.cat/agenda-event/festival-incert-2/
CATEGORIES:RDP
END:VEVENT
BEGIN:VEVENT
DTSTART;TZID=UTC:20250223T123000
DTEND;TZID=UTC:20250223T123000
DTSTAMP:20260424T152245
CREATED:20241209T135241Z
LAST-MODIFIED:20250131T123159Z
UID:18893-1740313800-1740313800@www.adetca.cat
SUMMARY:Malparida
DESCRIPTION:Martí Rossell marti@barc.coop
URL:https://www.adetca.cat/agenda-event/malparida-2/
CATEGORIES:EST
END:VEVENT
BEGIN:VEVENT
DTSTART;TZID=UTC:20250222T190000
DTEND;TZID=UTC:20250222T190000
DTSTAMP:20260424T152245
CREATED:20240629T083518Z
LAST-MODIFIED:20250131T125508Z
UID:16932-1740250800-1740250800@www.adetca.cat
SUMMARY:L'herencia
DESCRIPTION:Mar Solà msola@teatrelliure.com
URL:https://www.adetca.cat/agenda-event/lherencia/
CATEGORIES:EST
END:VEVENT
BEGIN:VEVENT
DTSTART;TZID=UTC:20250221T100000
DTEND;TZID=UTC:20250221T100000
DTSTAMP:20260424T152245
CREATED:20241218T074648Z
LAST-MODIFIED:20241218T074648Z
UID:19128-1740132000-1740132000@www.adetca.cat
SUMMARY:Festival Incert
DESCRIPTION:Aloma Vilamala aloma@latremenda.coop
URL:https://www.adetca.cat/agenda-event/festival-incert/
CATEGORIES:RDP
END:VEVENT
BEGIN:VEVENT
DTSTART;TZID=UTC:20250220T200000
DTEND;TZID=UTC:20250220T200000
DTSTAMP:20260424T152245
CREATED:20241120T135638Z
LAST-MODIFIED:20241120T135638Z
UID:18666-1740081600-1740081600@www.adetca.cat
SUMMARY:El principi d'arquimedes
DESCRIPTION:Martí Rossell – marti@barccomunicacio.com
URL:https://www.adetca.cat/agenda-event/el-principi-darquimedes-2/
CATEGORIES:EST
END:VEVENT
BEGIN:VEVENT
DTSTART;TZID=UTC:20250220T200000
DTEND;TZID=UTC:20250220T200000
DTSTAMP:20260424T152245
CREATED:20240918T103524Z
LAST-MODIFIED:20240918T103524Z
UID:18022-1740081600-1740081600@www.adetca.cat
SUMMARY:Mata’m psicosi
DESCRIPTION:Centre de les Arts Lliures – comunicacio@fundaciojoanbrossa.cat
URL:https://www.adetca.cat/agenda-event/matam-psicosi/
CATEGORIES:EST
END:VEVENT
BEGIN:VEVENT
DTSTART;TZID=UTC:20250220T193000
DTEND;TZID=UTC:20250220T193000
DTSTAMP:20260424T152245
CREATED:20241122T085648Z
LAST-MODIFIED:20241122T085734Z
UID:18709-1740079800-1740079800@www.adetca.cat
SUMMARY:Bartleby
DESCRIPTION:Laura Farrés laurafarres@salabeckett.cat
URL:https://www.adetca.cat/agenda-event/bartleby/
CATEGORIES:EST
END:VEVENT
BEGIN:VEVENT
DTSTART;TZID=UTC:20250220T123000
DTEND;TZID=UTC:20250220T123000
DTSTAMP:20260424T152245
CREATED:20250212T092808Z
LAST-MODIFIED:20250212T092808Z
UID:19612-1740054600-1740054600@www.adetca.cat
SUMMARY:Bartleby
DESCRIPTION:Laura Farrés laurafarres@salabeckett.cat
URL:https://www.adetca.cat/agenda-event/bartleby-2/
CATEGORIES:RDP
END:VEVENT
BEGIN:VEVENT
DTSTART;TZID=UTC:20250219T193000
DTEND;TZID=UTC:20250219T193000
DTSTAMP:20260424T152245
CREATED:20241231T105000Z
LAST-MODIFIED:20241231T105000Z
UID:19189-1739993400-1739993400@www.adetca.cat
SUMMARY:A Macbeth Son
DESCRIPTION:Ariadana Fernández ariadna@laperla29.cat
URL:https://www.adetca.cat/agenda-event/a-macbeth-son-3/
CATEGORIES:EST
END:VEVENT
BEGIN:VEVENT
DTSTART;TZID=UTC:20250219T190000
DTEND;TZID=UTC:20250219T190000
DTSTAMP:20260424T152245
CREATED:20240629T083331Z
LAST-MODIFIED:20240629T083331Z
UID:16930-1739991600-1739991600@www.adetca.cat
SUMMARY:14.4
DESCRIPTION:Mar Solà msola@teatrelliure.com
URL:https://www.adetca.cat/agenda-event/14-4/
CATEGORIES:EST
END:VEVENT
BEGIN:VEVENT
DTSTART;TZID=UTC:20250219T120000
DTEND;TZID=UTC:20250219T120000
DTSTAMP:20260424T152245
CREATED:20250128T155546Z
LAST-MODIFIED:20250128T161212Z
UID:19436-1739966400-1739966400@www.adetca.cat
SUMMARY:Tot el que passarà a partir d'ara
DESCRIPTION:Maria Dominguez mariad@latremenda.coop
URL:https://www.adetca.cat/agenda-event/tot-el-que-passara-a-partir-dara-4/
CATEGORIES:RDP
END:VEVENT
BEGIN:VEVENT
DTSTART;TZID=UTC:20250219T103000
DTEND;TZID=UTC:20250219T103000
DTSTAMP:20260424T152245
CREATED:20250109T155916Z
LAST-MODIFIED:20250109T160349Z
UID:19218-1739961000-1739961000@www.adetca.cat
SUMMARY:14.4
DESCRIPTION:Mar Solà msola@teatrelliure.com
URL:https://www.adetca.cat/agenda-event/14-4-4/
CATEGORIES:RDP
END:VEVENT
BEGIN:VEVENT
DTSTART;TZID=UTC:20250218T120000
DTEND;TZID=UTC:20250218T120000
DTSTAMP:20260424T152245
CREATED:20240619T111131Z
LAST-MODIFIED:20240619T111131Z
UID:16777-1739880000-1739880000@www.adetca.cat
SUMMARY:La Merope
DESCRIPTION:Joana Lladó joana.llado@liceubarcelona.cat
URL:https://www.adetca.cat/agenda-event/la-merope/
CATEGORIES:RDP
END:VEVENT
END:VCALENDAR