BEGIN:VCALENDAR
VERSION:2.0
PRODID:-//ADETCA - ECPv6.15.20//NONSGML v1.0//EN
CALSCALE:GREGORIAN
METHOD:PUBLISH
X-WR-CALNAME:ADETCA
X-ORIGINAL-URL:https://www.adetca.cat
X-WR-CALDESC:Esdeveniments per ADETCA
REFRESH-INTERVAL;VALUE=DURATION:PT1H
X-Robots-Tag:noindex
X-PUBLISHED-TTL:PT1H
BEGIN:VTIMEZONE
TZID:UTC
BEGIN:STANDARD
TZOFFSETFROM:+0000
TZOFFSETTO:+0000
TZNAME:UTC
DTSTART:20240101T000000
END:STANDARD
END:VTIMEZONE
BEGIN:VEVENT
DTSTART;TZID=UTC:20250220T123000
DTEND;TZID=UTC:20250220T123000
DTSTAMP:20260424T155335
CREATED:20250212T092808Z
LAST-MODIFIED:20250212T092808Z
UID:19612-1740054600-1740054600@www.adetca.cat
SUMMARY:Bartleby
DESCRIPTION:Laura Farrés laurafarres@salabeckett.cat
URL:https://www.adetca.cat/agenda-event/bartleby-2/
CATEGORIES:RDP
END:VEVENT
BEGIN:VEVENT
DTSTART;TZID=UTC:20250219T193000
DTEND;TZID=UTC:20250219T193000
DTSTAMP:20260424T155335
CREATED:20241231T105000Z
LAST-MODIFIED:20241231T105000Z
UID:19189-1739993400-1739993400@www.adetca.cat
SUMMARY:A Macbeth Son
DESCRIPTION:Ariadana Fernández ariadna@laperla29.cat
URL:https://www.adetca.cat/agenda-event/a-macbeth-son-3/
CATEGORIES:EST
END:VEVENT
BEGIN:VEVENT
DTSTART;TZID=UTC:20250219T190000
DTEND;TZID=UTC:20250219T190000
DTSTAMP:20260424T155335
CREATED:20240629T083331Z
LAST-MODIFIED:20240629T083331Z
UID:16930-1739991600-1739991600@www.adetca.cat
SUMMARY:14.4
DESCRIPTION:Mar Solà msola@teatrelliure.com
URL:https://www.adetca.cat/agenda-event/14-4/
CATEGORIES:EST
END:VEVENT
BEGIN:VEVENT
DTSTART;TZID=UTC:20250219T120000
DTEND;TZID=UTC:20250219T120000
DTSTAMP:20260424T155335
CREATED:20250128T155546Z
LAST-MODIFIED:20250128T161212Z
UID:19436-1739966400-1739966400@www.adetca.cat
SUMMARY:Tot el que passarà a partir d'ara
DESCRIPTION:Maria Dominguez mariad@latremenda.coop
URL:https://www.adetca.cat/agenda-event/tot-el-que-passara-a-partir-dara-4/
CATEGORIES:RDP
END:VEVENT
BEGIN:VEVENT
DTSTART;TZID=UTC:20250219T103000
DTEND;TZID=UTC:20250219T103000
DTSTAMP:20260424T155335
CREATED:20250109T155916Z
LAST-MODIFIED:20250109T160349Z
UID:19218-1739961000-1739961000@www.adetca.cat
SUMMARY:14.4
DESCRIPTION:Mar Solà msola@teatrelliure.com
URL:https://www.adetca.cat/agenda-event/14-4-4/
CATEGORIES:RDP
END:VEVENT
BEGIN:VEVENT
DTSTART;TZID=UTC:20250218T120000
DTEND;TZID=UTC:20250218T120000
DTSTAMP:20260424T155335
CREATED:20240619T111131Z
LAST-MODIFIED:20240619T111131Z
UID:16777-1739880000-1739880000@www.adetca.cat
SUMMARY:La Merope
DESCRIPTION:Joana Lladó joana.llado@liceubarcelona.cat
URL:https://www.adetca.cat/agenda-event/la-merope/
CATEGORIES:RDP
END:VEVENT
BEGIN:VEVENT
DTSTART;TZID=UTC:20250218T100000
DTEND;TZID=UTC:20250218T100000
DTSTAMP:20260424T155335
CREATED:20250128T155440Z
LAST-MODIFIED:20250128T155440Z
UID:19432-1739872800-1739872800@www.adetca.cat
SUMMARY:Tot el que passarà a partir d'ara
DESCRIPTION:Maria Dominguez mariad@latremenda.coop
URL:https://www.adetca.cat/agenda-event/tot-el-que-passara-a-partir-dara-3/
CATEGORIES:RDP
END:VEVENT
BEGIN:VEVENT
DTSTART;TZID=UTC:20250214T203000
DTEND;TZID=UTC:20250214T203000
DTSTAMP:20260424T155335
CREATED:20241218T162251Z
LAST-MODIFIED:20241218T162251Z
UID:19156-1739565000-1739565000@www.adetca.cat
SUMMARY:Pell de sargantana
DESCRIPTION:Ana Candela premsa@tantarantana.com
URL:https://www.adetca.cat/agenda-event/pell-de-sargantana/
CATEGORIES:EST
END:VEVENT
BEGIN:VEVENT
DTSTART;TZID=UTC:20250214T093000
DTEND;TZID=UTC:20250214T093000
DTSTAMP:20260424T155335
CREATED:20240619T111020Z
LAST-MODIFIED:20250204T111647Z
UID:16775-1739525400-1739525400@www.adetca.cat
SUMMARY:Requiem
DESCRIPTION:Joana Lladó joana.llado@liceubarcelona.cat
URL:https://www.adetca.cat/agenda-event/requiem-2/
CATEGORIES:RDP
END:VEVENT
BEGIN:VEVENT
DTSTART;TZID=UTC:20250213T200000
DTEND;TZID=UTC:20250213T200000
DTSTAMP:20260424T155335
CREATED:20250114T095634Z
LAST-MODIFIED:20250114T095634Z
UID:19263-1739476800-1739476800@www.adetca.cat
SUMMARY:La gramática
DESCRIPTION:Xavi Lleyda xlleyda@focus.cat
URL:https://www.adetca.cat/agenda-event/la-gramatica-2/
CATEGORIES:EST
END:VEVENT
BEGIN:VEVENT
DTSTART;TZID=UTC:20250213T200000
DTEND;TZID=UTC:20250213T200000
DTSTAMP:20260424T155335
CREATED:20240917T122938Z
LAST-MODIFIED:20240917T122938Z
UID:17941-1739476800-1739476800@www.adetca.cat
SUMMARY:Breu visita guiada a la gola del llop
DESCRIPTION:Ester Cánovas ester@elmalda.cat
URL:https://www.adetca.cat/agenda-event/breu-visita-guiada-a-la-gola-del-llop/
CATEGORIES:EST
END:VEVENT
BEGIN:VEVENT
DTSTART;TZID=UTC:20250213T170000
DTEND;TZID=UTC:20250213T170000
DTSTAMP:20260424T155335
CREATED:20240405T071251Z
LAST-MODIFIED:20250131T124408Z
UID:15927-1739466000-1739466000@www.adetca.cat
SUMMARY:Sotabosc
DESCRIPTION:Bernat Fornells bfornells@tnc.cat
URL:https://www.adetca.cat/agenda-event/estrena-sala-tallers-4/
CATEGORIES:EST
END:VEVENT
BEGIN:VEVENT
DTSTART;TZID=UTC:20250213T120000
DTEND;TZID=UTC:20250213T120000
DTSTAMP:20260424T155335
CREATED:20240708T091709Z
LAST-MODIFIED:20240708T091709Z
UID:17179-1739448000-1739448000@www.adetca.cat
SUMMARY:L'herencia
DESCRIPTION:Mar Solà msola@teatrelliure.com
URL:https://www.adetca.cat/agenda-event/lherencia-2/
CATEGORIES:RDP
END:VEVENT
BEGIN:VEVENT
DTSTART;TZID=UTC:20250212T123000
DTEND;TZID=UTC:20250212T123000
DTSTAMP:20260424T155335
CREATED:20250206T095803Z
LAST-MODIFIED:20250206T100054Z
UID:19563-1739363400-1739363400@www.adetca.cat
SUMMARY:Festival Zero de Teatres en Xarxa
DESCRIPTION:Jordi Aubach aubachj@diba.cat
URL:https://www.adetca.cat/agenda-event/festival-zero-de-teatres-en-xarxa/
CATEGORIES:RDP
END:VEVENT
BEGIN:VEVENT
DTSTART;TZID=UTC:20250212T120000
DTEND;TZID=UTC:20250212T120000
DTSTAMP:20260424T155335
CREATED:20250116T113351Z
LAST-MODIFIED:20250116T113615Z
UID:19347-1739361600-1739361600@www.adetca.cat
SUMMARY:3a edició Premi Santa Eulàlia de Novel·la de Barcelona
DESCRIPTION:Xavi Lleyda xlleyda@focus.cat
URL:https://www.adetca.cat/agenda-event/3a-edicio-premi-santa-eulalia-de-novella-de-barcelona/
CATEGORIES:RDP
END:VEVENT
BEGIN:VEVENT
DTSTART;TZID=UTC:20250212T103000
DTEND;TZID=UTC:20250212T103000
DTSTAMP:20260424T155335
CREATED:20250205T154346Z
LAST-MODIFIED:20250205T154346Z
UID:19561-1739356200-1739356200@www.adetca.cat
SUMMARY:Festival Internacional del Circ de Girona
DESCRIPTION:Marc Gall mgall@comedianet.com
URL:https://www.adetca.cat/agenda-event/festival-internacional-del-circ-de-girona/
CATEGORIES:RDP
END:VEVENT
BEGIN:VEVENT
DTSTART;TZID=UTC:20250211T130000
DTEND;TZID=UTC:20250211T130000
DTSTAMP:20260424T155335
CREATED:20250114T095503Z
LAST-MODIFIED:20250120T143209Z
UID:19260-1739278800-1739278800@www.adetca.cat
SUMMARY:La gramática
DESCRIPTION:Xavi Lleyda xlleyda@focus.cat
URL:https://www.adetca.cat/agenda-event/la-gramatica/
CATEGORIES:RDP
END:VEVENT
BEGIN:VEVENT
DTSTART;TZID=UTC:20250211T100000
DTEND;TZID=UTC:20250211T100000
DTSTAMP:20260424T155335
CREATED:20241211T085527Z
LAST-MODIFIED:20241211T085527Z
UID:18944-1739268000-1739268000@www.adetca.cat
SUMMARY:El principi d'arquimedes
DESCRIPTION:Martí Rossell – marti@barccomunicacio.com \nAndreu Rami andreu@barc.com
URL:https://www.adetca.cat/agenda-event/el-principi-darquimedes-3/
CATEGORIES:RDP
END:VEVENT
BEGIN:VEVENT
DTSTART;TZID=UTC:20250210T100000
DTEND;TZID=UTC:20250210T113000
DTSTAMP:20260424T155335
CREATED:20241231T104706Z
LAST-MODIFIED:20250204T150027Z
UID:19185-1739181600-1739187000@www.adetca.cat
SUMMARY:A Macbeth Son
DESCRIPTION:Ariadana Fernández ariadna@laperla29.cat
URL:https://www.adetca.cat/agenda-event/a-macbeth-son/
CATEGORIES:PDG,RDP
END:VEVENT
BEGIN:VEVENT
DTSTART;TZID=UTC:20250207T190000
DTEND;TZID=UTC:20250207T190000
DTSTAMP:20260424T155335
CREATED:20240405T070740Z
LAST-MODIFIED:20240701T075849Z
UID:15915-1738954800-1738954800@www.adetca.cat
SUMMARY:Les jours de mon abandon
DESCRIPTION:Bernat Fornells bfornells@tnc.cat
URL:https://www.adetca.cat/agenda-event/estrena-sala-petita-4/
CATEGORIES:EST
END:VEVENT
BEGIN:VEVENT
DTSTART;TZID=UTC:20250206T200000
DTEND;TZID=UTC:20250206T200000
DTSTAMP:20260424T155335
CREATED:20241029T151341Z
LAST-MODIFIED:20241029T151341Z
UID:18474-1738872000-1738872000@www.adetca.cat
SUMMARY:Un deu salvatge
DESCRIPTION:Xavi Lleyda xlleyda@focus.cat
URL:https://www.adetca.cat/agenda-event/un-deu-salvatge-2/
CATEGORIES:EST
END:VEVENT
BEGIN:VEVENT
DTSTART;TZID=UTC:20250206T200000
DTEND;TZID=UTC:20250206T200000
DTSTAMP:20260424T155335
CREATED:20240918T103428Z
LAST-MODIFIED:20240918T103428Z
UID:18020-1738872000-1738872000@www.adetca.cat
SUMMARY:Cridaran les pedres
DESCRIPTION:Centre de les Arts Lliures – comunicacio@fundaciojoanbrossa.cat
URL:https://www.adetca.cat/agenda-event/cridaran-les-pedres/
CATEGORIES:EST
END:VEVENT
BEGIN:VEVENT
DTSTART;TZID=UTC:20250206T190000
DTEND;TZID=UTC:20250206T190000
DTSTAMP:20260424T155335
CREATED:20250131T120202Z
LAST-MODIFIED:20250131T120202Z
UID:19515-1738868400-1738868400@www.adetca.cat
SUMMARY:Acte inaugural Exposició "La cubana 45 anys fent teatre"
DESCRIPTION:Pol Vinyes premsa@lacubana.es
URL:https://www.adetca.cat/agenda-event/acte-inaugural-exposicio-la-cubana-45-anys-fent-teatre/
CATEGORIES:EST
END:VEVENT
BEGIN:VEVENT
DTSTART;TZID=UTC:20250206T120000
DTEND;TZID=UTC:20250206T120000
DTSTAMP:20260424T155335
CREATED:20240626T082448Z
LAST-MODIFIED:20240917T121914Z
UID:16854-1738843200-1738843200@www.adetca.cat
SUMMARY:Breu visita guiada a la gola del llop
DESCRIPTION:Ester Cánovas ester@elmalda.cat
URL:https://www.adetca.cat/agenda-event/espectacle-malda-6/
CATEGORIES:RDP
END:VEVENT
BEGIN:VEVENT
DTSTART;TZID=UTC:20250206T110000
DTEND;TZID=UTC:20250206T110000
DTSTAMP:20260424T155336
CREATED:20241205T102200Z
LAST-MODIFIED:20241205T102200Z
UID:18792-1738839600-1738839600@www.adetca.cat
SUMMARY:Radouan Mrziga
DESCRIPTION:Mercè Ros mros@mercatflors.cat
URL:https://www.adetca.cat/agenda-event/radouan-mrziga/
CATEGORIES:RDP
END:VEVENT
BEGIN:VEVENT
DTSTART;TZID=UTC:20250206T090000
DTEND;TZID=UTC:20250206T150000
DTSTAMP:20260424T155336
CREATED:20250131T115924Z
LAST-MODIFIED:20250131T120014Z
UID:19512-1738832400-1738854000@www.adetca.cat
SUMMARY:Convocatoria de premsa  - Visita exposició "La cubana 45 anys fent teatre" amb el director de la companyia
DESCRIPTION:Pol Vinyes premsa@lacubana.es
URL:https://www.adetca.cat/agenda-event/convocatoria-de-premsa-visita-exposicio-la-cubana-45-anys-fent-teatre-amb-el-director-de-la-companyia/
CATEGORIES:RDP
END:VEVENT
BEGIN:VEVENT
DTSTART;TZID=UTC:20250205T200000
DTEND;TZID=UTC:20250205T200000
DTSTAMP:20260424T155336
CREATED:20250204T112659Z
LAST-MODIFIED:20250204T112659Z
UID:19544-1738785600-1738785600@www.adetca.cat
SUMMARY:He mort el pop
DESCRIPTION:Rafaela Rivas premsa@salaversusglories.cat
URL:https://www.adetca.cat/agenda-event/he-mort-el-pop/
CATEGORIES:EST
END:VEVENT
BEGIN:VEVENT
DTSTART;TZID=UTC:20250205T200000
DTEND;TZID=UTC:20250205T200000
DTSTAMP:20260424T155336
CREATED:20241209T134931Z
LAST-MODIFIED:20241209T134931Z
UID:18891-1738785600-1738785600@www.adetca.cat
SUMMARY:Les bàrbares
DESCRIPTION:Martí Rossell marti@barc.coop
URL:https://www.adetca.cat/agenda-event/les-barbares/
CATEGORIES:EST
END:VEVENT
BEGIN:VEVENT
DTSTART;TZID=UTC:20250205T120000
DTEND;TZID=UTC:20250205T120000
DTSTAMP:20260424T155336
CREATED:20240626T082337Z
LAST-MODIFIED:20240917T121806Z
UID:16852-1738756800-1738756800@www.adetca.cat
SUMMARY:Breu visita guiada a la gola del llop
DESCRIPTION:Ester Cánovas ester@elmalda.cat
URL:https://www.adetca.cat/agenda-event/espectacle-malda-5/
CATEGORIES:RDP
END:VEVENT
BEGIN:VEVENT
DTSTART;TZID=UTC:20250204T140000
DTEND;TZID=UTC:20250204T140000
DTSTAMP:20260424T155336
CREATED:20250114T100350Z
LAST-MODIFIED:20250121T144128Z
UID:19265-1738677600-1738677600@www.adetca.cat
SUMMARY:Dinar-Presentació del Festival Mas i Mas
DESCRIPTION:
URL:https://www.adetca.cat/agenda-event/dinar-presentacio-del-festival-mas-i-mas/
CATEGORIES:RDP
END:VEVENT
END:VCALENDAR