BEGIN:VCALENDAR
VERSION:2.0
PRODID:-//ADETCA - ECPv6.15.20//NONSGML v1.0//EN
CALSCALE:GREGORIAN
METHOD:PUBLISH
X-ORIGINAL-URL:https://www.adetca.cat
X-WR-CALDESC:Esdeveniments per ADETCA
REFRESH-INTERVAL;VALUE=DURATION:PT1H
X-Robots-Tag:noindex
X-PUBLISHED-TTL:PT1H
BEGIN:VTIMEZONE
TZID:UTC
BEGIN:STANDARD
TZOFFSETFROM:+0000
TZOFFSETTO:+0000
TZNAME:UTC
DTSTART:20230101T000000
END:STANDARD
END:VTIMEZONE
BEGIN:VEVENT
DTSTART;TZID=UTC:20250115T190000
DTEND;TZID=UTC:20250115T190000
DTSTAMP:20260424T181740
CREATED:20240629T082715Z
LAST-MODIFIED:20240629T082715Z
UID:16924-1736967600-1736967600@www.adetca.cat
SUMMARY:El público
DESCRIPTION:Mar Solà msola@teatrelliure.com
URL:https://www.adetca.cat/agenda-event/el-publico/
CATEGORIES:EST
END:VEVENT
BEGIN:VEVENT
DTSTART;TZID=UTC:20250115T120000
DTEND;TZID=UTC:20250115T120000
DTSTAMP:20260424T181740
CREATED:20241121T094901Z
LAST-MODIFIED:20241121T183618Z
UID:18679-1736942400-1736942400@www.adetca.cat
SUMMARY:Presentació programació i Projecte Antic Teatre 2025
DESCRIPTION:Mar Gall mgall@comedianet.com
URL:https://www.adetca.cat/agenda-event/presentacio-propera-programacio/
CATEGORIES:RDP
END:VEVENT
BEGIN:VEVENT
DTSTART;TZID=UTC:20250115T110000
DTEND;TZID=UTC:20250115T110000
DTSTAMP:20260424T181740
CREATED:20241022T152218Z
LAST-MODIFIED:20241022T152451Z
UID:18394-1736938800-1736938800@www.adetca.cat
SUMMARY:Presentació programació Fira Terres
DESCRIPTION:Laia Sabater laia@latremenda.coop
URL:https://www.adetca.cat/agenda-event/presentacio-programacio-fira-terres/
CATEGORIES:RDP
END:VEVENT
BEGIN:VEVENT
DTSTART;TZID=UTC:20250114T120000
DTEND;TZID=UTC:20250114T120000
DTSTAMP:20260424T181740
CREATED:20240619T110655Z
LAST-MODIFIED:20240619T110655Z
UID:16769-1736856000-1736856000@www.adetca.cat
SUMMARY:La Traviata
DESCRIPTION:Joana Lladó joana.llado@liceubarcelona.cat
URL:https://www.adetca.cat/agenda-event/la-traviata-3/
CATEGORIES:RDP
END:VEVENT
BEGIN:VEVENT
DTSTART;TZID=UTC:20250114T111500
DTEND;TZID=UTC:20250114T111500
DTSTAMP:20260424T181740
CREATED:20240708T091140Z
LAST-MODIFIED:20241114T114216Z
UID:17171-1736853300-1736853300@www.adetca.cat
SUMMARY:Comanegra
DESCRIPTION:Mar Solà msola@teatrelliure.com
URL:https://www.adetca.cat/agenda-event/prosopopeya-3/
CATEGORIES:RDP
END:VEVENT
BEGIN:VEVENT
DTSTART;TZID=UTC:20250114T103000
DTEND;TZID=UTC:20250114T103000
DTSTAMP:20260424T181740
CREATED:20241114T123416Z
LAST-MODIFIED:20241114T123721Z
UID:18580-1736850600-1736850600@www.adetca.cat
SUMMARY:Prosopopeya
DESCRIPTION:Mar Solà msola@teatrelliure.com
URL:https://www.adetca.cat/agenda-event/prosopopeya-2/
CATEGORIES:RDP
END:VEVENT
BEGIN:VEVENT
DTSTART;TZID=UTC:20250113T103000
DTEND;TZID=UTC:20250113T103000
DTSTAMP:20260424T181740
CREATED:20240719T121549Z
LAST-MODIFIED:20240719T121549Z
UID:17329-1736764200-1736764200@www.adetca.cat
SUMMARY:Presentació Projecte Centre de les Arts Lliures.
DESCRIPTION:Anna Casasayas acasasayas@fundaciojoanbrossa.cat
URL:https://www.adetca.cat/agenda-event/presentacio-projecte-centre-de-les-arts-lliures/
CATEGORIES:RDP
END:VEVENT
BEGIN:VEVENT
DTSTART;TZID=UTC:20250110T200000
DTEND;TZID=UTC:20250110T200000
DTSTAMP:20260424T181740
CREATED:20241218T161426Z
LAST-MODIFIED:20241218T161426Z
UID:19146-1736539200-1736539200@www.adetca.cat
SUMMARY:Assajar és de covards\, Temporada final
DESCRIPTION:Ana Candela prema@tantarantana.com
URL:https://www.adetca.cat/agenda-event/assajar-es-de-covards-temporada-final/
CATEGORIES:EST
END:VEVENT
BEGIN:VEVENT
DTSTART;TZID=UTC:20250110T200000
DTEND;TZID=UTC:20250110T200000
DTSTAMP:20260424T181740
CREATED:20241218T161226Z
LAST-MODIFIED:20241218T161557Z
UID:19143-1736539200-1736539200@www.adetca.cat
SUMMARY:Maleït mirall
DESCRIPTION:Ana Candela premsa@tantarantana.com
URL:https://www.adetca.cat/agenda-event/maleit-mirall/
CATEGORIES:EST
END:VEVENT
BEGIN:VEVENT
DTSTART;TZID=UTC:20250110T103000
DTEND;TZID=UTC:20250110T103000
DTSTAMP:20260424T181740
CREATED:20241114T134153Z
LAST-MODIFIED:20241114T134153Z
UID:18606-1736505000-1736505000@www.adetca.cat
SUMMARY:Presentació Projecte Centre de les Arts Lliures.
DESCRIPTION:Anna Casasayas acasasayas@fundaciojoanbrossa.cat
URL:https://www.adetca.cat/agenda-event/presentacio-projecte-centre-de-les-arts-lliures-2/
CATEGORIES:RDP
END:VEVENT
BEGIN:VEVENT
DTSTART;TZID=UTC:20250110T103000
DTEND;TZID=UTC:20250110T103000
DTSTAMP:20260424T181740
CREATED:20241108T144017Z
LAST-MODIFIED:20241114T094905Z
UID:18553-1736505000-1736505000@www.adetca.cat
SUMMARY:El Público
DESCRIPTION:Mar Solà msola@teatrelliure.com
URL:https://www.adetca.cat/agenda-event/el-publico-5/
CATEGORIES:RDP
END:VEVENT
BEGIN:VEVENT
DTSTART;TZID=UTC:20250109T203000
DTEND;TZID=UTC:20250109T203000
DTSTAMP:20260424T181740
CREATED:20241218T161037Z
LAST-MODIFIED:20241218T161725Z
UID:19141-1736454600-1736454600@www.adetca.cat
SUMMARY:El jorn del judici
DESCRIPTION:Ana Candela premsa@tantarantana.com
URL:https://www.adetca.cat/agenda-event/el-jorn-del-judici/
CATEGORIES:EST
END:VEVENT
BEGIN:VEVENT
DTSTART;TZID=UTC:20250109T190000
DTEND;TZID=UTC:20250109T190000
DTSTAMP:20260424T181740
CREATED:20240629T082506Z
LAST-MODIFIED:20240629T082506Z
UID:16922-1736449200-1736449200@www.adetca.cat
SUMMARY:Olympia
DESCRIPTION:Mar Solà msola@teatrelliure.com
URL:https://www.adetca.cat/agenda-event/olympia/
CATEGORIES:EST
END:VEVENT
BEGIN:VEVENT
DTSTART;TZID=UTC:20250109T120000
DTEND;TZID=UTC:20250109T120000
DTSTAMP:20260424T181740
CREATED:20240917T121714Z
LAST-MODIFIED:20241202T144103Z
UID:17929-1736424000-1736424000@www.adetca.cat
SUMMARY:Quan la vaig conèixer + Amor a mort
DESCRIPTION:Ester Cánovas ester@elmalda.cat
URL:https://www.adetca.cat/agenda-event/quan-la-vaig-coneixer-amor-a-mort/
CATEGORIES:RDP
END:VEVENT
BEGIN:VEVENT
DTSTART;TZID=UTC:20250107T120000
DTEND;TZID=UTC:20250107T120000
DTSTAMP:20260424T181740
CREATED:20240708T085523Z
LAST-MODIFIED:20240708T085523Z
UID:17160-1736251200-1736251200@www.adetca.cat
SUMMARY:Olympia
DESCRIPTION:Mar Solà msola@teatrelliure.com
URL:https://www.adetca.cat/agenda-event/olympia-2/
CATEGORIES:RDP
END:VEVENT
BEGIN:VEVENT
DTSTART;TZID=UTC:20241227T200000
DTEND;TZID=UTC:20241227T200000
DTSTAMP:20260424T181740
CREATED:20240918T103234Z
LAST-MODIFIED:20240918T103234Z
UID:18016-1735329600-1735329600@www.adetca.cat
SUMMARY:Estoy aquí pero no soy yo
DESCRIPTION:Centre de les Arts Lliures – comunicacio@fundaciojoanbrossa.cat
URL:https://www.adetca.cat/agenda-event/estoy-aqui-pero-no-soy-yo/
CATEGORIES:EST
END:VEVENT
BEGIN:VEVENT
DTSTART;TZID=UTC:20241227T180000
DTEND;TZID=UTC:20241227T180000
DTSTAMP:20260424T181740
CREATED:20241128T155836Z
LAST-MODIFIED:20241128T155836Z
UID:17414-1735322400-1735322400@www.adetca.cat
SUMMARY:Greta\, la rateta que escombrava...
DESCRIPTION:David Muntané coordinacio.lapuntual@gmail.com
URL:https://www.adetca.cat/agenda-event/greta-la-rateta-que-escombrava-2/
CATEGORIES:EST
END:VEVENT
BEGIN:VEVENT
DTSTART;TZID=UTC:20241225T200000
DTEND;TZID=UTC:20241225T200000
DTSTAMP:20260424T181740
CREATED:20241114T130600Z
LAST-MODIFIED:20241114T130600Z
UID:18591-1735156800-1735156800@www.adetca.cat
SUMMARY:Le congrès ne marche pas
DESCRIPTION:Carlos Zaragoza carloszaragoza@teatrepoliorama.com
URL:https://www.adetca.cat/agenda-event/le-congres-ne-marche-pas-2/
CATEGORIES:EST
END:VEVENT
BEGIN:VEVENT
DTSTART;TZID=UTC:20241223T200000
DTEND;TZID=UTC:20241223T200000
DTSTAMP:20260424T181740
CREATED:20241116T080645Z
LAST-MODIFIED:20241116T080645Z
UID:18634-1734984000-1734984000@www.adetca.cat
SUMMARY:El dia de la marmota
DESCRIPTION:Mima Garriga
URL:https://www.adetca.cat/agenda-event/el-dia-de-la-marmota/
CATEGORIES:EST
END:VEVENT
BEGIN:VEVENT
DTSTART;TZID=UTC:20241223T200000
DTEND;TZID=UTC:20241223T200000
DTSTAMP:20260424T181740
CREATED:20241028T165503Z
LAST-MODIFIED:20241112T150726Z
UID:18458-1734984000-1734984000@www.adetca.cat
SUMMARY:La presència
DESCRIPTION:Xavi Lleyda xlleyda@focus.cat
URL:https://www.adetca.cat/agenda-event/la-presencia-2/
CATEGORIES:EST
END:VEVENT
BEGIN:VEVENT
DTSTART;TZID=UTC:20241220T200000
DTEND;TZID=UTC:20241220T200000
DTSTAMP:20260424T181740
CREATED:20241210T115643Z
LAST-MODIFIED:20241210T120224Z
UID:18909-1734724800-1734724800@www.adetca.cat
SUMMARY:Ni en broma
DESCRIPTION:Rafaela Rivas premsa@salaversusglorias.cat
URL:https://www.adetca.cat/agenda-event/ni-en-broma-2/
CATEGORIES:EST
END:VEVENT
BEGIN:VEVENT
DTSTART;TZID=UTC:20241219T193000
DTEND;TZID=UTC:20241219T193000
DTSTAMP:20260424T181740
CREATED:20240903T064156Z
LAST-MODIFIED:20240903T064156Z
UID:17569-1734636600-1734636600@www.adetca.cat
SUMMARY:La cuina
DESCRIPTION:Laura Farrés laurafarres@salabeckett.cat
URL:https://www.adetca.cat/agenda-event/la-cuina/
CATEGORIES:EST
END:VEVENT
BEGIN:VEVENT
DTSTART;TZID=UTC:20241217T200000
DTEND;TZID=UTC:20241217T200000
DTSTAMP:20260424T181740
CREATED:20240903T064050Z
LAST-MODIFIED:20240903T064050Z
UID:17566-1734465600-1734465600@www.adetca.cat
SUMMARY:Los guapos
DESCRIPTION:Laura Farrés laurafarres@salabeckett.cat
URL:https://www.adetca.cat/agenda-event/los-guapos/
CATEGORIES:EST
END:VEVENT
BEGIN:VEVENT
DTSTART;TZID=UTC:20241217T120000
DTEND;TZID=UTC:20241217T120000
DTSTAMP:20260424T181740
CREATED:20241118T074817Z
LAST-MODIFIED:20241118T082322Z
UID:18640-1734436800-1734436800@www.adetca.cat
SUMMARY:Concert de Sant Esteve
DESCRIPTION:Imma Sarriàs iangles@palaumusica.cat
URL:https://www.adetca.cat/agenda-event/concert-de-sant-esteve-2/
CATEGORIES:RDP
END:VEVENT
BEGIN:VEVENT
DTSTART;TZID=UTC:20241214T193000
DTEND;TZID=UTC:20241214T193000
DTSTAMP:20260424T181740
CREATED:20240629T082041Z
LAST-MODIFIED:20240629T082041Z
UID:16920-1734204600-1734204600@www.adetca.cat
SUMMARY:Reiterat rei tarat
DESCRIPTION:Mar Solà msola@teatrelliure.com
URL:https://www.adetca.cat/agenda-event/reiterat-rei-tarat/
CATEGORIES:EST
END:VEVENT
BEGIN:VEVENT
DTSTART;TZID=UTC:20241213T200000
DTEND;TZID=UTC:20241213T200000
DTSTAMP:20260424T181740
CREATED:20240913T103145Z
LAST-MODIFIED:20240913T103145Z
UID:17720-1734120000-1734120000@www.adetca.cat
SUMMARY:L'origen del món
DESCRIPTION:Fernando Solla premsa@teatreakademia.cat
URL:https://www.adetca.cat/agenda-event/lorigen-del-mon/
CATEGORIES:EST
END:VEVENT
BEGIN:VEVENT
DTSTART;TZID=UTC:20241213T110000
DTEND;TZID=UTC:20241213T110000
DTSTAMP:20260424T181740
CREATED:20241202T152234Z
LAST-MODIFIED:20241202T163330Z
UID:18773-1734087600-1734087600@www.adetca.cat
SUMMARY:Nadia Beugré (Africa moment)
DESCRIPTION:Mercè Ros mros@mercatflors.cat
URL:https://www.adetca.cat/agenda-event/nadia-beugre-africa-moment/
CATEGORIES:RDP
END:VEVENT
BEGIN:VEVENT
DTSTART;TZID=UTC:20241212T200000
DTEND;TZID=UTC:20241212T200000
DTSTAMP:20260424T181740
CREATED:20241009T164916Z
LAST-MODIFIED:20241009T164916Z
UID:18281-1734033600-1734033600@www.adetca.cat
SUMMARY:La maternitat d'Elna
DESCRIPTION:Anna Espunya – teatre@eolia.cat
URL:https://www.adetca.cat/agenda-event/la-maternitat-delna-2/
CATEGORIES:EST
END:VEVENT
BEGIN:VEVENT
DTSTART;TZID=UTC:20241212T200000
DTEND;TZID=UTC:20241212T200000
DTSTAMP:20260424T181740
CREATED:20240918T103142Z
LAST-MODIFIED:20240918T103142Z
UID:18014-1734033600-1734033600@www.adetca.cat
SUMMARY:El conspirador (o conspiradora)
DESCRIPTION:Centre de les Arts Lliures – comunicacio@fundaciojoanbrossa.cat
URL:https://www.adetca.cat/agenda-event/el-conspirador-o-conspiradora/
CATEGORIES:EST
END:VEVENT
BEGIN:VEVENT
DTSTART;TZID=UTC:20241212T110000
DTEND;TZID=UTC:20241212T110000
DTSTAMP:20260424T181740
CREATED:20241126T081307Z
LAST-MODIFIED:20241126T081307Z
UID:18733-1734001200-1734001200@www.adetca.cat
SUMMARY:Nadia Beugré.
DESCRIPTION:Mercè Ros mros@mercatflors.cat
URL:https://www.adetca.cat/agenda-event/nadia-beugre/
CATEGORIES:RDP
END:VEVENT
END:VCALENDAR