BEGIN:VCALENDAR
VERSION:2.0
PRODID:-//ADETCA - ECPv6.15.20//NONSGML v1.0//EN
CALSCALE:GREGORIAN
METHOD:PUBLISH
X-ORIGINAL-URL:https://www.adetca.cat
X-WR-CALDESC:Esdeveniments per ADETCA
REFRESH-INTERVAL;VALUE=DURATION:PT1H
X-Robots-Tag:noindex
X-PUBLISHED-TTL:PT1H
BEGIN:VTIMEZONE
TZID:UTC
BEGIN:STANDARD
TZOFFSETFROM:+0000
TZOFFSETTO:+0000
TZNAME:UTC
DTSTART:20230101T000000
END:STANDARD
END:VTIMEZONE
BEGIN:VEVENT
DTSTART;TZID=UTC:20241210T120000
DTEND;TZID=UTC:20241210T120000
DTSTAMP:20260424T183906
CREATED:20240913T122354Z
LAST-MODIFIED:20240913T122354Z
UID:17742-1733832000-1733832000@www.adetca.cat
SUMMARY:L'origen del món de Lucía Calamaro
DESCRIPTION:Fernando Solla premsa@teatreakademia.cat
URL:https://www.adetca.cat/agenda-event/lorigen-del-mon-de-lucia-calamaro-2/
CATEGORIES:RDP
END:VEVENT
BEGIN:VEVENT
DTSTART;TZID=UTC:20241209T200000
DTEND;TZID=UTC:20241209T200000
DTSTAMP:20260424T183906
CREATED:20241009T144651Z
LAST-MODIFIED:20241118T091827Z
UID:18249-1733774400-1733774400@www.adetca.cat
SUMMARY:El mestre i el mar
DESCRIPTION:Martí Rossell – marti@barccomunicacio.com
URL:https://www.adetca.cat/agenda-event/el-mestre-i-el-mar-3/
CATEGORIES:EST
END:VEVENT
BEGIN:VEVENT
DTSTART;TZID=UTC:20241209T193000
DTEND;TZID=UTC:20241209T193000
DTSTAMP:20260424T183906
CREATED:20240619T110525Z
LAST-MODIFIED:20240619T110525Z
UID:16767-1733772600-1733772600@www.adetca.cat
SUMMARY:Madama Butterfly
DESCRIPTION:Joana Lladó joana.llado@liceubarcelona.cat
URL:https://www.adetca.cat/agenda-event/madama-butterfly-2/
CATEGORIES:EST
END:VEVENT
BEGIN:VEVENT
DTSTART;TZID=UTC:20241209T100000
DTEND;TZID=UTC:20241209T100000
DTSTAMP:20260424T183906
CREATED:20240708T085323Z
LAST-MODIFIED:20241126T143652Z
UID:17158-1733738400-1733738400@www.adetca.cat
SUMMARY:Reiterat rei tarat
DESCRIPTION:Mar Solà msola@teatrelliure.com
URL:https://www.adetca.cat/agenda-event/reiterat-rei-tarat-2/
CATEGORIES:PDG,RDP
END:VEVENT
BEGIN:VEVENT
DTSTART;TZID=UTC:20241208T180000
DTEND;TZID=UTC:20241208T180000
DTSTAMP:20260424T183906
CREATED:20240619T110423Z
LAST-MODIFIED:20240619T110423Z
UID:16765-1733680800-1733680800@www.adetca.cat
SUMMARY:Madama Butterfly (UNDER35)
DESCRIPTION:Joana Lladó joana.llado@liceubarcelona.cat
URL:https://www.adetca.cat/agenda-event/madama-butterfly-under35/
CATEGORIES:EST
END:VEVENT
BEGIN:VEVENT
DTSTART;TZID=UTC:20241206T180000
DTEND;TZID=UTC:20241206T180000
DTSTAMP:20260424T183906
CREATED:20241128T153549Z
LAST-MODIFIED:20241128T153549Z
UID:18751-1733508000-1733508000@www.adetca.cat
SUMMARY:L'aneguet lleig
DESCRIPTION:David Muntané coordinacio.lapuntual@gmail.com
URL:https://www.adetca.cat/agenda-event/laneguet-lleig/
CATEGORIES:EST
END:VEVENT
BEGIN:VEVENT
DTSTART;TZID=UTC:20241205T203000
DTEND;TZID=UTC:20241205T203000
DTSTAMP:20260424T183906
CREATED:20241009T144413Z
LAST-MODIFIED:20241107T120802Z
UID:18247-1733430600-1733430600@www.adetca.cat
SUMMARY:Lo Nuestro
DESCRIPTION:Martí Rossell – marti@barccomunicacio.com
URL:https://www.adetca.cat/agenda-event/lo-nuestro/
CATEGORIES:EST
END:VEVENT
BEGIN:VEVENT
DTSTART;TZID=UTC:20241205T200000
DTEND;TZID=UTC:20241205T200000
DTSTAMP:20260424T183906
CREATED:20240917T123609Z
LAST-MODIFIED:20240917T123609Z
UID:17950-1733428800-1733428800@www.adetca.cat
SUMMARY:Observin a aquests fills de puta
DESCRIPTION:Ester Cánovas ester@elmalda.cat
URL:https://www.adetca.cat/agenda-event/observin-a-aquests-fills-de-puta/
CATEGORIES:EST
END:VEVENT
BEGIN:VEVENT
DTSTART;TZID=UTC:20241205T190000
DTEND;TZID=UTC:20241205T190000
DTSTAMP:20260424T183906
CREATED:20240629T081835Z
LAST-MODIFIED:20240629T081835Z
UID:16918-1733425200-1733425200@www.adetca.cat
SUMMARY:Totentanz
DESCRIPTION:Mar Solà msola@teatrelliure.com
URL:https://www.adetca.cat/agenda-event/totentanz/
CATEGORIES:EST
END:VEVENT
BEGIN:VEVENT
DTSTART;TZID=UTC:20241205T123000
DTEND;TZID=UTC:20241205T123000
DTSTAMP:20260424T183906
CREATED:20241017T103540Z
LAST-MODIFIED:20241017T103540Z
UID:18316-1733401800-1733401800@www.adetca.cat
SUMMARY:Nadal al Palau
DESCRIPTION:Imma Anglès iangles@palaumusica.cat
URL:https://www.adetca.cat/agenda-event/nadal-al-palau/
CATEGORIES:RDP
END:VEVENT
BEGIN:VEVENT
DTSTART;TZID=UTC:20241205T110000
DTEND;TZID=UTC:20241205T110000
DTSTAMP:20260424T183906
CREATED:20241118T092024Z
LAST-MODIFIED:20241118T095905Z
UID:18642-1733396400-1733396400@www.adetca.cat
SUMMARY:Pla estratègic de Cultura Diputació de Barcelona
DESCRIPTION:Jordi Aubach aubachgj@diba.cat
URL:https://www.adetca.cat/agenda-event/pla-estrategic-de-cultura-diputacio-de-barcelona/
CATEGORIES:RDP
END:VEVENT
BEGIN:VEVENT
DTSTART;TZID=UTC:20241204T190000
DTEND;TZID=UTC:20241204T190000
DTSTAMP:20260424T183906
CREATED:20240629T081623Z
LAST-MODIFIED:20240629T081623Z
UID:16915-1733338800-1733338800@www.adetca.cat
SUMMARY:El misantrop
DESCRIPTION:Mar Solà msola@teatrelliure.com
URL:https://www.adetca.cat/agenda-event/el-misantrop/
CATEGORIES:EST
END:VEVENT
BEGIN:VEVENT
DTSTART;TZID=UTC:20241204T120000
DTEND;TZID=UTC:20241204T120000
DTSTAMP:20260424T183906
CREATED:20241016T122915Z
LAST-MODIFIED:20241023T161010Z
UID:18312-1733313600-1733313600@www.adetca.cat
SUMMARY:Ni en broma
DESCRIPTION:Esther Mora – esthermora.art@gmail.com
URL:https://www.adetca.cat/agenda-event/ni-en-broma/
CATEGORIES:RDP
END:VEVENT
BEGIN:VEVENT
DTSTART;TZID=UTC:20241204T103000
DTEND;TZID=UTC:20241204T103000
DTSTAMP:20260424T183906
CREATED:20240619T110232Z
LAST-MODIFIED:20240619T110232Z
UID:16763-1733308200-1733308200@www.adetca.cat
SUMMARY:Madama Butterfly
DESCRIPTION:Joana Lladó joana.llado@liceubarcelona.cat
URL:https://www.adetca.cat/agenda-event/madama-butterfly/
CATEGORIES:RDP
END:VEVENT
BEGIN:VEVENT
DTSTART;TZID=UTC:20241203T123000
DTEND;TZID=UTC:20241203T123000
DTSTAMP:20260424T183906
CREATED:20241122T171827Z
LAST-MODIFIED:20241122T171827Z
UID:18730-1733229000-1733229000@www.adetca.cat
SUMMARY:Temporada Alta - Daniel Anglès: 30 anys lluny de Broadway 
DESCRIPTION:paula pairó ppairocortada@gmail.com
URL:https://www.adetca.cat/agenda-event/temporada-alta-daniel-angles-30-anys-lluny-de-broadway/
CATEGORIES:RDP
END:VEVENT
BEGIN:VEVENT
DTSTART;TZID=UTC:20241203T110000
DTEND;TZID=UTC:20241203T110000
DTSTAMP:20260424T183906
CREATED:20241030T152711Z
LAST-MODIFIED:20241121T120254Z
UID:18494-1733223600-1733223600@www.adetca.cat
SUMMARY:Temporada Alta - La cuina
DESCRIPTION:Paula pairó ppairocortada@gmail.com
URL:https://www.adetca.cat/agenda-event/roda-de-premsa-temporada-alta-2/
CATEGORIES:RDP
END:VEVENT
BEGIN:VEVENT
DTSTART;TZID=UTC:20241202T160000
DTEND;TZID=UTC:20241202T160000
DTSTAMP:20260424T183906
CREATED:20241116T080933Z
LAST-MODIFIED:20241120T134637Z
UID:18636-1733155200-1733155200@www.adetca.cat
SUMMARY:El dia de la marmota
DESCRIPTION:
URL:https://www.adetca.cat/agenda-event/el-dia-de-la-marmota-2/
CATEGORIES:PDG
END:VEVENT
BEGIN:VEVENT
DTSTART;TZID=UTC:20241202T123000
DTEND;TZID=UTC:20241202T123000
DTSTAMP:20260424T183906
CREATED:20240913T122256Z
LAST-MODIFIED:20241122T112938Z
UID:17740-1733142600-1733142600@www.adetca.cat
SUMMARY:L'origen del món de Lucía Calamaro
DESCRIPTION:Fernando Solla premsa@teatreakademia.cat
URL:https://www.adetca.cat/agenda-event/lorigen-del-mon-de-lucia-calamaro/
CATEGORIES:RDP
END:VEVENT
BEGIN:VEVENT
DTSTART;TZID=UTC:20241202T110000
DTEND;TZID=UTC:20241202T110000
DTSTAMP:20260424T183906
CREATED:20241120T134841Z
LAST-MODIFIED:20241120T134841Z
UID:18663-1733137200-1733137200@www.adetca.cat
SUMMARY:El dia de la marmota
DESCRIPTION:
URL:https://www.adetca.cat/agenda-event/el-dia-de-la-marmota-3/
CATEGORIES:RDP
END:VEVENT
BEGIN:VEVENT
DTSTART;TZID=UTC:20241129T120000
DTEND;TZID=UTC:20241129T120000
DTSTAMP:20260424T183906
CREATED:20241121T133800Z
LAST-MODIFIED:20241121T133800Z
UID:18701-1732881600-1732881600@www.adetca.cat
SUMMARY:Temporada Alta - 3D
DESCRIPTION:Paula Pairó ppairocortada@gmail.com
URL:https://www.adetca.cat/agenda-event/temporada-alta-3d/
CATEGORIES:RDP
END:VEVENT
BEGIN:VEVENT
DTSTART;TZID=UTC:20241128T200000
DTEND;TZID=UTC:20241128T200000
DTSTAMP:20260424T183906
CREATED:20241114T125634Z
LAST-MODIFIED:20241114T131105Z
UID:18587-1732824000-1732824000@www.adetca.cat
SUMMARY:Flipar
DESCRIPTION:Carlos Zaragoza carloszaragoza@teatrepoliorama.com
URL:https://www.adetca.cat/agenda-event/flipar/
CATEGORIES:EST
END:VEVENT
BEGIN:VEVENT
DTSTART;TZID=UTC:20241128T190000
DTEND;TZID=UTC:20241128T190000
DTSTAMP:20260424T183906
CREATED:20240405T070638Z
LAST-MODIFIED:20240629T094556Z
UID:15911-1732820400-1732820400@www.adetca.cat
SUMMARY:Gola
DESCRIPTION:Bernat Fornells bfornells@tnc.cat
URL:https://www.adetca.cat/agenda-event/estrena-sala-petita-2/
CATEGORIES:EST
END:VEVENT
BEGIN:VEVENT
DTSTART;TZID=UTC:20241128T160000
DTEND;TZID=UTC:20241128T160000
DTSTAMP:20260424T183906
CREATED:20241030T152548Z
LAST-MODIFIED:20241030T152548Z
UID:18491-1732809600-1732809600@www.adetca.cat
SUMMARY:Temporada Alta - Mort d'un comediant
DESCRIPTION:Paula pairó ppairocortada@gmail.com
URL:https://www.adetca.cat/agenda-event/temporada-alta-mort-dun-comediant/
CATEGORIES:PDG
END:VEVENT
BEGIN:VEVENT
DTSTART;TZID=UTC:20241128T160000
DTEND;TZID=UTC:20241128T160000
DTSTAMP:20260424T183906
CREATED:20240513T061520Z
LAST-MODIFIED:20241017T153425Z
UID:16149-1732809600-1732809600@www.adetca.cat
SUMMARY:Flipar by Jorge Blass
DESCRIPTION:Sandra Araquistain saraquis@gmail.com
URL:https://www.adetca.cat/agenda-event/flipar-by-jorge-blass-2/
CATEGORIES:PDG
END:VEVENT
BEGIN:VEVENT
DTSTART;TZID=UTC:20241128T130000
DTEND;TZID=UTC:20241128T130000
DTSTAMP:20260424T183906
CREATED:20241001T084105Z
LAST-MODIFIED:20241022T105230Z
UID:18150-1732798800-1732798800@www.adetca.cat
SUMMARY:Temporada Alta - Tre modi per non morire
DESCRIPTION:Neus Masferrer dispers@hotmail.com
URL:https://www.adetca.cat/agenda-event/temporada-alta-tre-modi-per-non-morire/
CATEGORIES:RDP
END:VEVENT
BEGIN:VEVENT
DTSTART;TZID=UTC:20241128T110000
DTEND;TZID=UTC:20241128T110000
DTSTAMP:20260424T183906
CREATED:20241018T095002Z
LAST-MODIFIED:20241018T095540Z
UID:18352-1732791600-1732791600@www.adetca.cat
SUMMARY:CAP BUTACA BUIDA 2025
DESCRIPTION:info@adetca.cat
URL:https://www.adetca.cat/agenda-event/cap-butaca-buida-2025/
CATEGORIES:RDP
END:VEVENT
BEGIN:VEVENT
DTSTART;TZID=UTC:20241127T200000
DTEND;TZID=UTC:20241127T200000
DTSTAMP:20260424T183906
CREATED:20241009T164829Z
LAST-MODIFIED:20241009T164829Z
UID:18279-1732737600-1732737600@www.adetca.cat
SUMMARY:IR
DESCRIPTION:Anna Espunya – teatre@eolia.cat
URL:https://www.adetca.cat/agenda-event/ir/
CATEGORIES:EST
END:VEVENT
BEGIN:VEVENT
DTSTART;TZID=UTC:20241127T200000
DTEND;TZID=UTC:20241127T200000
DTSTAMP:20260424T183906
CREATED:20240918T103052Z
LAST-MODIFIED:20240918T103052Z
UID:18012-1732737600-1732737600@www.adetca.cat
SUMMARY:Cera: 500 hores de vol
DESCRIPTION:Centre de les Arts Lliures – comunicacio@fundaciojoanbrossa.cat
URL:https://www.adetca.cat/agenda-event/cera-500-hores-de-vol/
CATEGORIES:EST
END:VEVENT
BEGIN:VEVENT
DTSTART;TZID=UTC:20241127T123000
DTEND;TZID=UTC:20241127T123000
DTSTAMP:20260424T183906
CREATED:20240626T081115Z
LAST-MODIFIED:20241118T122739Z
UID:16848-1732710600-1732710600@www.adetca.cat
SUMMARY:Observin a aquests fills de puta
DESCRIPTION:Ester Cánovas ester@elmalda.cat
URL:https://www.adetca.cat/agenda-event/espectacle-malda-4/
CATEGORIES:RDP
END:VEVENT
BEGIN:VEVENT
DTSTART;TZID=UTC:20241127T110000
DTEND;TZID=UTC:20241127T110000
DTSTAMP:20260424T183906
CREATED:20241017T115551Z
LAST-MODIFIED:20241017T115551Z
UID:18325-1732705200-1732705200@www.adetca.cat
SUMMARY:(La) Horde
DESCRIPTION:Mercè Ros mros@mercatflors.cat
URL:https://www.adetca.cat/agenda-event/la-horde/
CATEGORIES:RDP
END:VEVENT
END:VCALENDAR