BEGIN:VCALENDAR
VERSION:2.0
PRODID:-//ADETCA - ECPv6.15.20//NONSGML v1.0//EN
CALSCALE:GREGORIAN
METHOD:PUBLISH
X-ORIGINAL-URL:https://www.adetca.cat
X-WR-CALDESC:Esdeveniments per ADETCA
REFRESH-INTERVAL;VALUE=DURATION:PT1H
X-Robots-Tag:noindex
X-PUBLISHED-TTL:PT1H
BEGIN:VTIMEZONE
TZID:UTC
BEGIN:STANDARD
TZOFFSETFROM:+0000
TZOFFSETTO:+0000
TZNAME:UTC
DTSTART:20230101T000000
END:STANDARD
END:VTIMEZONE
BEGIN:VEVENT
DTSTART;TZID=UTC:20241113T200000
DTEND;TZID=UTC:20241113T200000
DTSTAMP:20260424T192729
CREATED:20240913T103016Z
LAST-MODIFIED:20240913T103016Z
UID:17718-1731528000-1731528000@www.adetca.cat
SUMMARY:Pura passió
DESCRIPTION:Fernando Solla premsa@teatreakademia.cat
URL:https://www.adetca.cat/agenda-event/pura-passio/
CATEGORIES:EST
END:VEVENT
BEGIN:VEVENT
DTSTART;TZID=UTC:20241113T200000
DTEND;TZID=UTC:20241113T200000
DTSTAMP:20260424T192729
CREATED:20240719T064125Z
LAST-MODIFIED:20240719T065838Z
UID:17327-1731528000-1731528000@www.adetca.cat
SUMMARY:Frida Kahlo
DESCRIPTION:Marc Gall mgall@comedianet.net
URL:https://www.adetca.cat/agenda-event/frida-kahlo-3/
CATEGORIES:EST
END:VEVENT
BEGIN:VEVENT
DTSTART;TZID=UTC:20241113T193000
DTEND;TZID=UTC:20241113T193000
DTSTAMP:20260424T192729
CREATED:20240629T081317Z
LAST-MODIFIED:20240629T081317Z
UID:16910-1731526200-1731526200@www.adetca.cat
SUMMARY:Casting Lear
DESCRIPTION:Mar Solà msola@teatrelliure.com
URL:https://www.adetca.cat/agenda-event/casting-lear/
CATEGORIES:EST
END:VEVENT
BEGIN:VEVENT
DTSTART;TZID=UTC:20241113T110000
DTEND;TZID=UTC:20241113T110000
DTSTAMP:20260424T192729
CREATED:20240916T151450Z
LAST-MODIFIED:20241111T151241Z
UID:17895-1731495600-1731495600@www.adetca.cat
SUMMARY:Temporada Alta - Un sublime error de Jan Lauwers
DESCRIPTION:Paula Pairó –  ppairocortada@gmail.com
URL:https://www.adetca.cat/agenda-event/roda-de-premsa-temporada-alta-4/
CATEGORIES:RDP
END:VEVENT
BEGIN:VEVENT
DTSTART;TZID=UTC:20241112T200000
DTEND;TZID=UTC:20241112T200000
DTSTAMP:20260424T192729
CREATED:20241104T084048Z
LAST-MODIFIED:20241104T084048Z
UID:18504-1731441600-1731441600@www.adetca.cat
SUMMARY:Verbagàlia
DESCRIPTION:Àlex Bargalló comunicacio@atrium.cat
URL:https://www.adetca.cat/agenda-event/verbagalia/
CATEGORIES:EST
END:VEVENT
BEGIN:VEVENT
DTSTART;TZID=UTC:20241112T190000
DTEND;TZID=UTC:20241112T190000
DTSTAMP:20260424T192729
CREATED:20240916T133518Z
LAST-MODIFIED:20240916T133518Z
UID:17798-1731438000-1731438000@www.adetca.cat
SUMMARY:El meu clàssic - Jacint Verdaguer
DESCRIPTION:Bernat Fornells bfornells@tnc.cat
URL:https://www.adetca.cat/agenda-event/el-meu-classic-jacint-verdaguer/
CATEGORIES:EST
END:VEVENT
BEGIN:VEVENT
DTSTART;TZID=UTC:20241112T190000
DTEND;TZID=UTC:20241112T190000
DTSTAMP:20260424T192729
CREATED:20240916T133433Z
LAST-MODIFIED:20240916T133433Z
UID:17794-1731438000-1731438000@www.adetca.cat
SUMMARY:El meu clàssic - Joan Raspall
DESCRIPTION:Bernat Fornells bfornells@tnc.cat
URL:https://www.adetca.cat/agenda-event/el-meu-classic-joan-raspall/
CATEGORIES:EST
END:VEVENT
BEGIN:VEVENT
DTSTART;TZID=UTC:20241112T120000
DTEND;TZID=UTC:20241112T120000
DTSTAMP:20260424T192729
CREATED:20240708T072722Z
LAST-MODIFIED:20241029T090337Z
UID:17147-1731412800-1731412800@www.adetca.cat
SUMMARY:Casting Lear
DESCRIPTION:Mar Solà msola@teatrelliure.com
URL:https://www.adetca.cat/agenda-event/casting-lear-3/
CATEGORIES:RDP
END:VEVENT
BEGIN:VEVENT
DTSTART;TZID=UTC:20241111T113000
DTEND;TZID=UTC:20241111T113000
DTSTAMP:20260424T192729
CREATED:20240719T063957Z
LAST-MODIFIED:20240719T063957Z
UID:17325-1731324600-1731324600@www.adetca.cat
SUMMARY:Frida Kahlo
DESCRIPTION:Marc Gall mgall@comedianet.net
URL:https://www.adetca.cat/agenda-event/frida-kahlo-2/
CATEGORIES:RDP
END:VEVENT
BEGIN:VEVENT
DTSTART;TZID=UTC:20241111T110000
DTEND;TZID=UTC:20241111T110000
DTSTAMP:20260424T192729
CREATED:20240916T151358Z
LAST-MODIFIED:20240916T151358Z
UID:17893-1731322800-1731322800@www.adetca.cat
SUMMARY:Roda de premsa Temporada Alta
DESCRIPTION:Paula Pairó –  ppairocortada@gmail.com
URL:https://www.adetca.cat/agenda-event/roda-de-premsa-temporada-alta-3/
CATEGORIES:RDP
END:VEVENT
BEGIN:VEVENT
DTSTART;TZID=UTC:20241110T200000
DTEND;TZID=UTC:20241110T200000
DTSTAMP:20260424T192729
CREATED:20241009T163943Z
LAST-MODIFIED:20241009T163943Z
UID:18265-1731268800-1731268800@www.adetca.cat
SUMMARY:Pròxima estació
DESCRIPTION:Anna Espunya – teatre@eolia.cat
URL:https://www.adetca.cat/agenda-event/proxima-estacio/
CATEGORIES:EST
END:VEVENT
BEGIN:VEVENT
DTSTART;TZID=UTC:20241109T190000
DTEND;TZID=UTC:20241109T190000
DTSTAMP:20260424T192729
CREATED:20240619T110030Z
LAST-MODIFIED:20240619T110030Z
UID:16761-1731178800-1731178800@www.adetca.cat
SUMMARY:La forza del destino
DESCRIPTION:Joana Lladó joana.llado@liceubarcelona.cat
URL:https://www.adetca.cat/agenda-event/la-forza-del-destino-2/
CATEGORIES:EST
END:VEVENT
BEGIN:VEVENT
DTSTART;TZID=UTC:20241109T170000
DTEND;TZID=UTC:20241109T170000
DTSTAMP:20260424T192729
CREATED:20240701T082113Z
LAST-MODIFIED:20240916T134228Z
UID:16995-1731171600-1731171600@www.adetca.cat
SUMMARY:AN-KI
DESCRIPTION:Bernat Fornells bfornells@tnc.cat
URL:https://www.adetca.cat/agenda-event/an-ki/
CATEGORIES:EST
END:VEVENT
BEGIN:VEVENT
DTSTART;TZID=UTC:20241108T123000
DTEND;TZID=UTC:20241108T123000
DTSTAMP:20260424T192729
CREATED:20240916T132807Z
LAST-MODIFIED:20241008T123616Z
UID:17783-1731069000-1731069000@www.adetca.cat
SUMMARY:Gola - Temporada Alta i TNC
DESCRIPTION:Bernat Fornells bfornells@tnc.cat \nEsther Vendrell evendrell@tnc.cat
URL:https://www.adetca.cat/agenda-event/gola/
CATEGORIES:RDP
END:VEVENT
BEGIN:VEVENT
DTSTART;TZID=UTC:20241107T200000
DTEND;TZID=UTC:20241107T200000
DTSTAMP:20260424T192729
CREATED:20240925T134845Z
LAST-MODIFIED:20240925T134845Z
UID:18110-1731009600-1731009600@www.adetca.cat
SUMMARY:El clam del buit
DESCRIPTION:Marta Cros comunicacio@daualsecartsesceniques.cat
URL:https://www.adetca.cat/agenda-event/el-clam-del-buit-2/
CATEGORIES:EST
END:VEVENT
BEGIN:VEVENT
DTSTART;TZID=UTC:20241107T200000
DTEND;TZID=UTC:20241107T200000
DTSTAMP:20260424T192729
CREATED:20240917T120426Z
LAST-MODIFIED:20240917T120426Z
UID:17919-1731009600-1731009600@www.adetca.cat
SUMMARY:Man Mano\, II tempo Scorre
DESCRIPTION:Esther Canovas – ester@elmalda.cat
URL:https://www.adetca.cat/agenda-event/man-mano-ii-tempo-scorre/
CATEGORIES:EST
END:VEVENT
BEGIN:VEVENT
DTSTART;TZID=UTC:20241107T120000
DTEND;TZID=UTC:20241107T120000
DTSTAMP:20260424T192729
CREATED:20241017T115420Z
LAST-MODIFIED:20241017T115420Z
UID:18323-1730980800-1730980800@www.adetca.cat
SUMMARY:Vivian Friedric + Lapso Cirk
DESCRIPTION:Mercè Ros mros@mercatflors.cat
URL:https://www.adetca.cat/agenda-event/vivian-friedric-lapso-cirk/
CATEGORIES:RDP
END:VEVENT
BEGIN:VEVENT
DTSTART;TZID=UTC:20241107T110000
DTEND;TZID=UTC:20241107T110000
DTSTAMP:20260424T192729
CREATED:20240919T143406Z
LAST-MODIFIED:20240919T143406Z
UID:18061-1730977200-1730977200@www.adetca.cat
SUMMARY:Presentació Temporada Atrium 2024/2025
DESCRIPTION:Cris Ramos – cramos@ohlalacomunicacio.com
URL:https://www.adetca.cat/agenda-event/presentacio-temporada-atrium-2024-2025/
CATEGORIES:RDP
END:VEVENT
BEGIN:VEVENT
DTSTART;TZID=UTC:20241107T110000
DTEND;TZID=UTC:20241107T110000
DTSTAMP:20260424T192729
CREATED:20240916T151815Z
LAST-MODIFIED:20240918T084217Z
UID:17902-1730977200-1730977200@www.adetca.cat
SUMMARY:Temporada Alta - Centroamérica
DESCRIPTION:Paula Pairó –  ppairocortada@gmail.com
URL:https://www.adetca.cat/agenda-event/roda-de-premsa-temporada-alta-7/
CATEGORIES:RDP
END:VEVENT
BEGIN:VEVENT
DTSTART;TZID=UTC:20241106T200000
DTEND;TZID=UTC:20241106T200000
DTSTAMP:20260424T192729
CREATED:20241002T150545Z
LAST-MODIFIED:20241002T150545Z
UID:18201-1730923200-1730923200@www.adetca.cat
SUMMARY:El Médico\, el Musical
DESCRIPTION:Comunicación – comunicacion@gruposmedia.com
URL:https://www.adetca.cat/agenda-event/el-medico-el-musical-2/
CATEGORIES:EST
END:VEVENT
BEGIN:VEVENT
DTSTART;TZID=UTC:20241106T200000
DTEND;TZID=UTC:20241106T200000
DTSTAMP:20260424T192729
CREATED:20240918T102845Z
LAST-MODIFIED:20240918T102845Z
UID:18008-1730923200-1730923200@www.adetca.cat
SUMMARY:Thauma
DESCRIPTION:Centre de les Arts Lliures – comunicacio@fundaciojoanbrossa.cat
URL:https://www.adetca.cat/agenda-event/thauma-2/
CATEGORIES:EST
END:VEVENT
BEGIN:VEVENT
DTSTART;TZID=UTC:20241106T200000
DTEND;TZID=UTC:20241106T200000
DTSTAMP:20260424T192729
CREATED:20240903T063932Z
LAST-MODIFIED:20240903T063932Z
UID:17563-1730923200-1730923200@www.adetca.cat
SUMMARY:Del fandom al troleig
DESCRIPTION:Laura Farrés laurafarres@salabeckett.cat
URL:https://www.adetca.cat/agenda-event/del-fandom-al-troleig/
CATEGORIES:EST
END:VEVENT
BEGIN:VEVENT
DTSTART;TZID=UTC:20241106T190000
DTEND;TZID=UTC:20241106T190000
DTSTAMP:20260424T192729
CREATED:20240629T081147Z
LAST-MODIFIED:20240629T081147Z
UID:16908-1730919600-1730919600@www.adetca.cat
SUMMARY:Caramel
DESCRIPTION:Mar Solà msola@teatrelliure.com
URL:https://www.adetca.cat/agenda-event/caramel/
CATEGORIES:EST
END:VEVENT
BEGIN:VEVENT
DTSTART;TZID=UTC:20241106T120000
DTEND;TZID=UTC:20241106T120000
DTSTAMP:20260424T192729
CREATED:20240806T080242Z
LAST-MODIFIED:20240806T080242Z
UID:17507-1730894400-1730894400@www.adetca.cat
SUMMARY:Un sogre de lloguer
DESCRIPTION:Xavi Lleyda xlleyda@focus.cat
URL:https://www.adetca.cat/agenda-event/un-sogre-de-lloguer/
CATEGORIES:RDP
END:VEVENT
BEGIN:VEVENT
DTSTART;TZID=UTC:20241106T110000
DTEND;TZID=UTC:20241106T110000
DTSTAMP:20260424T192729
CREATED:20241018T091258Z
LAST-MODIFIED:20241018T091258Z
UID:18349-1730890800-1730890800@www.adetca.cat
SUMMARY:VIVÄ
DESCRIPTION:Esther Mora esthemora.art@gmail.com
URL:https://www.adetca.cat/agenda-event/viva-2/
CATEGORIES:RDP
END:VEVENT
BEGIN:VEVENT
DTSTART;TZID=UTC:20241105T200000
DTEND;TZID=UTC:20241105T200000
DTSTAMP:20260424T192729
CREATED:20240926T155704Z
LAST-MODIFIED:20241024T143800Z
UID:18130-1730836800-1730836800@www.adetca.cat
SUMMARY:El Tenoriu
DESCRIPTION:Ivan Danot ivandanot@gmail.com
URL:https://www.adetca.cat/agenda-event/el-tenoriu/
CATEGORIES:EST
END:VEVENT
BEGIN:VEVENT
DTSTART;TZID=UTC:20241105T190000
DTEND;TZID=UTC:20241105T190000
DTSTAMP:20260424T192729
CREATED:20240916T133208Z
LAST-MODIFIED:20240916T133208Z
UID:17791-1730833200-1730833200@www.adetca.cat
SUMMARY:El meu clàssic - Vicent Andrés Estellés
DESCRIPTION:Bernat Fornells bfornells@tnc.cat
URL:https://www.adetca.cat/agenda-event/el-meu-classic-vicent-andres-estelles/
CATEGORIES:EST
END:VEVENT
BEGIN:VEVENT
DTSTART;TZID=UTC:20241105T130000
DTEND;TZID=UTC:20241105T130000
DTSTAMP:20260424T192729
CREATED:20240919T091154Z
LAST-MODIFIED:20241016T122630Z
UID:17955-1730811600-1730811600@www.adetca.cat
SUMMARY:Temporada Alta - Hatched Ensamble
DESCRIPTION:Paula Pairó –  ppairocortada@gmail.com
URL:https://www.adetca.cat/agenda-event/temporada-alta-hatched-ensamble/
CATEGORIES:RDP
END:VEVENT
BEGIN:VEVENT
DTSTART;TZID=UTC:20241105T120000
DTEND;TZID=UTC:20241105T120000
DTSTAMP:20260424T192729
CREATED:20240925T134707Z
LAST-MODIFIED:20240925T134707Z
UID:18107-1730808000-1730808000@www.adetca.cat
SUMMARY:El clam del buit
DESCRIPTION:Marta Cros comunicacio@daualsecartsesceniques.cat
URL:https://www.adetca.cat/agenda-event/el-clam-del-buit/
CATEGORIES:PDG,RDP
END:VEVENT
BEGIN:VEVENT
DTSTART;TZID=UTC:20241105T113000
DTEND;TZID=UTC:20241105T113000
DTSTAMP:20260424T192729
CREATED:20241008T164224Z
LAST-MODIFIED:20241014T115930Z
UID:18239-1730806200-1730806200@www.adetca.cat
SUMMARY:Roda de premsa El Tenoriu
DESCRIPTION:Mima Garriga – mimagarriga@gmail.com
URL:https://www.adetca.cat/agenda-event/roda-de-premsa-el-tenoriu/
CATEGORIES:RDP
END:VEVENT
END:VCALENDAR