BEGIN:VCALENDAR
VERSION:2.0
PRODID:-//ADETCA - ECPv6.15.20//NONSGML v1.0//EN
CALSCALE:GREGORIAN
METHOD:PUBLISH
X-WR-CALNAME:ADETCA
X-ORIGINAL-URL:https://www.adetca.cat
X-WR-CALDESC:Esdeveniments per ADETCA
REFRESH-INTERVAL;VALUE=DURATION:PT1H
X-Robots-Tag:noindex
X-PUBLISHED-TTL:PT1H
BEGIN:VTIMEZONE
TZID:UTC
BEGIN:STANDARD
TZOFFSETFROM:+0000
TZOFFSETTO:+0000
TZNAME:UTC
DTSTART:20230101T000000
END:STANDARD
END:VTIMEZONE
BEGIN:VEVENT
DTSTART;TZID=UTC:20241101T200000
DTEND;TZID=UTC:20241101T200000
DTSTAMP:20260424T201308
CREATED:20241009T164639Z
LAST-MODIFIED:20241009T164639Z
UID:18275-1730491200-1730491200@www.adetca.cat
SUMMARY:El meu germà\, Bernard
DESCRIPTION:Anna Espunya – teatre@eolia.cat
URL:https://www.adetca.cat/agenda-event/el-meu-germa-bernard/
CATEGORIES:EST
END:VEVENT
BEGIN:VEVENT
DTSTART;TZID=UTC:20241031T200000
DTEND;TZID=UTC:20241031T200000
DTSTAMP:20260424T201308
CREATED:20240918T102746Z
LAST-MODIFIED:20240918T102746Z
UID:18006-1730404800-1730404800@www.adetca.cat
SUMMARY:Astral
DESCRIPTION:Centre de les Arts Lliures – comunicacio@fundaciojoanbrossa.cat
URL:https://www.adetca.cat/agenda-event/astral/
CATEGORIES:EST
END:VEVENT
BEGIN:VEVENT
DTSTART;TZID=UTC:20241031T193000
DTEND;TZID=UTC:20241031T193000
DTSTAMP:20260424T201308
CREATED:20240902T064812Z
LAST-MODIFIED:20240902T071557Z
UID:17551-1730403000-1730403000@www.adetca.cat
SUMMARY:Allà lluny hi ha una caseta
DESCRIPTION:Laura Farrés laurafarres@salabeckett.cat
URL:https://www.adetca.cat/agenda-event/alla-lluny-hi-ha-una-caseta/
CATEGORIES:EST
END:VEVENT
BEGIN:VEVENT
DTSTART;TZID=UTC:20241031T190000
DTEND;TZID=UTC:20241031T190000
DTSTAMP:20260424T201308
CREATED:20240405T071045Z
LAST-MODIFIED:20240629T093734Z
UID:15923-1730401200-1730401200@www.adetca.cat
SUMMARY:Breve historia del ferrocarril español
DESCRIPTION:Bernat Fornells bfornells@tnc.cat
URL:https://www.adetca.cat/agenda-event/estrena-sala-tallers-2/
CATEGORIES:EST
END:VEVENT
BEGIN:VEVENT
DTSTART;TZID=UTC:20241031T160000
DTEND;TZID=UTC:20241031T160000
DTSTAMP:20260424T201308
CREATED:20240508T114122Z
LAST-MODIFIED:20240508T114959Z
UID:16131-1730390400-1730390400@www.adetca.cat
SUMMARY:Acció Street market amb Jorge Blass i màgia de prop
DESCRIPTION:Sandra Araquistain saraquis@gmail.com
URL:https://www.adetca.cat/agenda-event/accio-street-market-amb-jorge-blass/
CATEGORIES:RDP
END:VEVENT
BEGIN:VEVENT
DTSTART;TZID=UTC:20241031T120000
DTEND;TZID=UTC:20241031T120000
DTSTAMP:20260424T201308
CREATED:20240919T121048Z
LAST-MODIFIED:20240919T121048Z
UID:18055-1730376000-1730376000@www.adetca.cat
SUMMARY:El Médico\, el Musical
DESCRIPTION:Comunicación – comunicacion@gruposmedia.com
URL:https://www.adetca.cat/agenda-event/el-medico-el-musical/
CATEGORIES:PDG
END:VEVENT
BEGIN:VEVENT
DTSTART;TZID=UTC:20241031T103000
DTEND;TZID=UTC:20241031T103000
DTSTAMP:20260424T201308
CREATED:20241017T115159Z
LAST-MODIFIED:20241017T115159Z
UID:18320-1730370600-1730370600@www.adetca.cat
SUMMARY:Festival IF
DESCRIPTION:Mercè Ros mros@mercatflors.cat
URL:https://www.adetca.cat/agenda-event/festival-if-3/
CATEGORIES:RDP
END:VEVENT
BEGIN:VEVENT
DTSTART;TZID=UTC:20241030T200000
DTEND;TZID=UTC:20241030T200000
DTSTAMP:20260424T201308
CREATED:20241021T145226Z
LAST-MODIFIED:20241021T150139Z
UID:18369-1730318400-1730318400@www.adetca.cat
SUMMARY:Fisterra
DESCRIPTION:Rafaela Rivas premsa@salaversusglories.cat
URL:https://www.adetca.cat/agenda-event/fisterra/
CATEGORIES:EST
END:VEVENT
BEGIN:VEVENT
DTSTART;TZID=UTC:20241030T160000
DTEND;TZID=UTC:20241030T160000
DTSTAMP:20260424T201308
CREATED:20241017T160746Z
LAST-MODIFIED:20241023T115207Z
UID:18340-1730304000-1730304000@www.adetca.cat
SUMMARY:Del fandom al troleig
DESCRIPTION:Laura Farrés laurafarres@salabeckett.cat
URL:https://www.adetca.cat/agenda-event/del-fandom-al-troleig-3/
CATEGORIES:PDG,RDP
END:VEVENT
BEGIN:VEVENT
DTSTART;TZID=UTC:20241030T103000
DTEND;TZID=UTC:20241030T103000
DTSTAMP:20260424T201308
CREATED:20240708T072202Z
LAST-MODIFIED:20240711T134202Z
UID:17141-1730284200-1730284200@www.adetca.cat
SUMMARY:Caramel
DESCRIPTION:Mar Solà msola@teatrelliure.com
URL:https://www.adetca.cat/agenda-event/caramel-2/
CATEGORIES:RDP
END:VEVENT
BEGIN:VEVENT
DTSTART;TZID=UTC:20241029T120000
DTEND;TZID=UTC:20241029T120000
DTSTAMP:20260424T201308
CREATED:20240917T120631Z
LAST-MODIFIED:20241016T122200Z
UID:17921-1730203200-1730203200@www.adetca.cat
SUMMARY:Man Mano\, II tempo Scorre
DESCRIPTION:Esther Canovas – ester@elmalda.cat
URL:https://www.adetca.cat/agenda-event/man-mano-ii-tempo-scorre-2/
CATEGORIES:RDP
END:VEVENT
BEGIN:VEVENT
DTSTART;TZID=UTC:20241028T123000
DTEND;TZID=UTC:20241028T123000
DTSTAMP:20260424T201308
CREATED:20240927T104635Z
LAST-MODIFIED:20240927T104635Z
UID:18137-1730118600-1730118600@www.adetca.cat
SUMMARY:Presentació de la nova marca de l'AADPC
DESCRIPTION:Núria Cañamares ncanyamares@gmail.com
URL:https://www.adetca.cat/agenda-event/presentacio-de-la-nova-marca-de-laadpc/
CATEGORIES:RDP
END:VEVENT
BEGIN:VEVENT
DTSTART;TZID=UTC:20241028T120000
DTEND;TZID=UTC:20241028T120000
DTSTAMP:20260424T201308
CREATED:20240718T090538Z
LAST-MODIFIED:20241016T164859Z
UID:17309-1730116800-1730116800@www.adetca.cat
SUMMARY:Festival El Petit (de petita infància)
DESCRIPTION:Bàrbara Branco barbara@latremenda.coop \nAnabel Piñar – anabel@latremenda.coop
URL:https://www.adetca.cat/agenda-event/festival-el-petit-de-petita-infancia-2/
CATEGORIES:RDP
END:VEVENT
BEGIN:VEVENT
DTSTART;TZID=UTC:20241026T190000
DTEND;TZID=UTC:20241026T190000
DTSTAMP:20260424T201308
CREATED:20240918T102632Z
LAST-MODIFIED:20240918T102632Z
UID:18004-1729969200-1729969200@www.adetca.cat
SUMMARY:Contra els poetes amb minúscula
DESCRIPTION:Centre de les Arts Lliures – comunicacio@fundaciojoanbrossa.cat
URL:https://www.adetca.cat/agenda-event/contra-els-poetes-amb-minuscula/
CATEGORIES:EST
END:VEVENT
BEGIN:VEVENT
DTSTART;TZID=UTC:20241026T120000
DTEND;TZID=UTC:20241026T120000
DTSTAMP:20260424T201308
CREATED:20240629T080753Z
LAST-MODIFIED:20240629T080753Z
UID:16903-1729944000-1729944000@www.adetca.cat
SUMMARY:Un tros de pa
DESCRIPTION:Mar Solà msola@teatrelliure.com
URL:https://www.adetca.cat/agenda-event/un-tros-de-pa/
CATEGORIES:EST
END:VEVENT
BEGIN:VEVENT
DTSTART;TZID=UTC:20241025T193000
DTEND;TZID=UTC:20241025T193000
DTSTAMP:20260424T201308
CREATED:20240926T081311Z
LAST-MODIFIED:20240926T081311Z
UID:18123-1729884600-1729884600@www.adetca.cat
SUMMARY:Austràlia
DESCRIPTION:Martí Rossell marti@barcomunicacio.com
URL:https://www.adetca.cat/agenda-event/australia/
CATEGORIES:EST
END:VEVENT
BEGIN:VEVENT
DTSTART;TZID=UTC:20241024T200000
DTEND;TZID=UTC:20241024T200000
DTSTAMP:20260424T201308
CREATED:20241009T164522Z
LAST-MODIFIED:20241009T164522Z
UID:18271-1729800000-1729800000@www.adetca.cat
SUMMARY:El tercer codi
DESCRIPTION:Anna Espunya – teatre@eolia.cat
URL:https://www.adetca.cat/agenda-event/el-tercer-codi/
CATEGORIES:EST
END:VEVENT
BEGIN:VEVENT
DTSTART;TZID=UTC:20241024T200000
DTEND;TZID=UTC:20241024T200000
DTSTAMP:20260424T201308
CREATED:20240612T103115Z
LAST-MODIFIED:20241002T150906Z
UID:16624-1729800000-1729800000@www.adetca.cat
SUMMARY:La comedia de los errores
DESCRIPTION:Xavi Lleyda xlleyda@focus.cat \nAnna Pérez – aperez@focus.cat
URL:https://www.adetca.cat/agenda-event/la-comedia-de-los-errores-2/
CATEGORIES:EST
END:VEVENT
BEGIN:VEVENT
DTSTART;TZID=UTC:20241024T113000
DTEND;TZID=UTC:20241024T113000
DTSTAMP:20260424T201308
CREATED:20240731T083142Z
LAST-MODIFIED:20240925T073535Z
UID:17433-1729769400-1729769400@www.adetca.cat
SUMMARY:Temporada Alta - Tierra i Temis
DESCRIPTION:Paula Pairó ppairocortada@gmail.com
URL:https://www.adetca.cat/agenda-event/temporada-alta-40/
CATEGORIES:RDP
END:VEVENT
BEGIN:VEVENT
DTSTART;TZID=UTC:20241022T200000
DTEND;TZID=UTC:20241022T200000
DTSTAMP:20260424T201308
CREATED:20241015T131016Z
LAST-MODIFIED:20241015T131016Z
UID:18299-1729627200-1729627200@www.adetca.cat
SUMMARY:Pols de diamant
DESCRIPTION:Xavi Lleyda – xlleyda@focus.cat
URL:https://www.adetca.cat/agenda-event/pols-de-diamant-2/
CATEGORIES:EST
END:VEVENT
BEGIN:VEVENT
DTSTART;TZID=UTC:20241022T190000
DTEND;TZID=UTC:20241022T190000
DTSTAMP:20260424T201308
CREATED:20240701T082819Z
LAST-MODIFIED:20240916T132728Z
UID:16999-1729623600-1729623600@www.adetca.cat
SUMMARY:El meu clàssic - Aurora Bertrana
DESCRIPTION:Bernat Fornells bfornells@tnc.cat
URL:https://www.adetca.cat/agenda-event/el-meu-classic-lectures-classics-24-25/
CATEGORIES:EST
END:VEVENT
BEGIN:VEVENT
DTSTART;TZID=UTC:20241022T120000
DTEND;TZID=UTC:20241022T120000
DTSTAMP:20260424T201308
CREATED:20240927T092649Z
LAST-MODIFIED:20240927T094514Z
UID:18133-1729598400-1729598400@www.adetca.cat
SUMMARY:Presentació Òpera Giuseppe Riconosciuto
DESCRIPTION:Imma Anglès iangles@palaumusica.cat
URL:https://www.adetca.cat/agenda-event/presentacio-opera-giuseppe-riconosciuto/
CATEGORIES:RDP
END:VEVENT
BEGIN:VEVENT
DTSTART;TZID=UTC:20241021T103000
DTEND;TZID=UTC:20241021T123000
DTSTAMP:20260424T201308
CREATED:20240612T102745Z
LAST-MODIFIED:20241008T123200Z
UID:16622-1729506600-1729513800@www.adetca.cat
SUMMARY:La comedia de los errores
DESCRIPTION:Xavi Lleyda xlleyda@focus.cat
URL:https://www.adetca.cat/agenda-event/la-comedia-de-los-errores/
CATEGORIES:RDP
END:VEVENT
BEGIN:VEVENT
DTSTART;TZID=UTC:20241018T190000
DTEND;TZID=UTC:20241018T190000
DTSTAMP:20260424T201308
CREATED:20240405T071016Z
LAST-MODIFIED:20241008T124050Z
UID:15921-1729278000-1729278000@www.adetca.cat
SUMMARY:Loneliness
DESCRIPTION:Bernat Fornells bfornells@tnc.cat
URL:https://www.adetca.cat/agenda-event/estrena-sala-tallers/
CATEGORIES:EST
END:VEVENT
BEGIN:VEVENT
DTSTART;TZID=UTC:20241018T110000
DTEND;TZID=UTC:20241018T110000
DTSTAMP:20260424T201308
CREATED:20240619T105556Z
LAST-MODIFIED:20240619T105556Z
UID:16757-1729249200-1729249200@www.adetca.cat
SUMMARY:Oh to believe in another world
DESCRIPTION:Joana Lladó joana.llado@liceubarcelona.cat
URL:https://www.adetca.cat/agenda-event/oh-to-believe-in-another-world/
CATEGORIES:RDP
END:VEVENT
BEGIN:VEVENT
DTSTART;TZID=UTC:20241017T200000
DTEND;TZID=UTC:20241017T200000
DTSTAMP:20260424T201308
CREATED:20241009T164404Z
LAST-MODIFIED:20241009T164404Z
UID:18269-1729195200-1729195200@www.adetca.cat
SUMMARY:The cryless little princess
DESCRIPTION:Anna Espunya – teatre@eolia.cat
URL:https://www.adetca.cat/agenda-event/the-cryless-little-princess/
CATEGORIES:EST
END:VEVENT
BEGIN:VEVENT
DTSTART;TZID=UTC:20241017T200000
DTEND;TZID=UTC:20241017T200000
DTSTAMP:20260424T201308
CREATED:20240806T075900Z
LAST-MODIFIED:20240806T075900Z
UID:17499-1729195200-1729195200@www.adetca.cat
SUMMARY:Un matrimoni de Boston
DESCRIPTION:Xavi Lleyda xlleyda@focus.cat
URL:https://www.adetca.cat/agenda-event/un-matrimoni-de-boston-2/
CATEGORIES:EST
END:VEVENT
BEGIN:VEVENT
DTSTART;TZID=UTC:20241017T200000
DTEND;TZID=UTC:20241017T200000
DTSTAMP:20260424T201308
CREATED:20240523T111400Z
LAST-MODIFIED:20241003T110556Z
UID:16257-1729195200-1729195200@www.adetca.cat
SUMMARY:Els Buonaparte
DESCRIPTION:Ivan Danot ivandanot@gmail.com
URL:https://www.adetca.cat/agenda-event/els-buonaparte-2/
CATEGORIES:EST
END:VEVENT
BEGIN:VEVENT
DTSTART;TZID=UTC:20241017T110000
DTEND;TZID=UTC:20241017T110000
DTSTAMP:20260424T201308
CREATED:20240731T082955Z
LAST-MODIFIED:20240731T082955Z
UID:17428-1729162800-1729162800@www.adetca.cat
SUMMARY:Temporada Alta
DESCRIPTION:Paula Pairó ppairocortada@gmail.com
URL:https://www.adetca.cat/agenda-event/temporada-alta-31/
CATEGORIES:RDP
END:VEVENT
BEGIN:VEVENT
DTSTART;TZID=UTC:20241016T193000
DTEND;TZID=UTC:20241016T193000
DTSTAMP:20260424T201308
CREATED:20240629T080547Z
LAST-MODIFIED:20240629T080547Z
UID:16901-1729107000-1729107000@www.adetca.cat
SUMMARY:La nit del peix kiwi
DESCRIPTION:Mar Solà msola@teatrelliure.com
URL:https://www.adetca.cat/agenda-event/la-nit-del-peix-kiwi/
CATEGORIES:EST
END:VEVENT
END:VCALENDAR