BEGIN:VCALENDAR
VERSION:2.0
PRODID:-//ADETCA - ECPv6.15.20//NONSGML v1.0//EN
CALSCALE:GREGORIAN
METHOD:PUBLISH
X-ORIGINAL-URL:https://www.adetca.cat
X-WR-CALDESC:Esdeveniments per ADETCA
REFRESH-INTERVAL;VALUE=DURATION:PT1H
X-Robots-Tag:noindex
X-PUBLISHED-TTL:PT1H
BEGIN:VTIMEZONE
TZID:UTC
BEGIN:STANDARD
TZOFFSETFROM:+0000
TZOFFSETTO:+0000
TZNAME:UTC
DTSTART:20230101T000000
END:STANDARD
END:VTIMEZONE
BEGIN:VEVENT
DTSTART;TZID=UTC:20241012T193000
DTEND;TZID=UTC:20241012T193000
DTSTAMP:20260424T205530
CREATED:20240619T105140Z
LAST-MODIFIED:20240619T105336Z
UID:16753-1728761400-1728761400@www.adetca.cat
SUMMARY:Ballet Nacional de España (UNDER35)
DESCRIPTION:Joana Lladó joana.llado@liceubarcelona.cat
URL:https://www.adetca.cat/agenda-event/ballet-nacional-de-espana-under35/
CATEGORIES:EST
END:VEVENT
BEGIN:VEVENT
DTSTART;TZID=UTC:20241011T130000
DTEND;TZID=UTC:20241011T130000
DTSTAMP:20260424T205530
CREATED:20240913T085951Z
LAST-MODIFIED:20240925T073111Z
UID:17711-1728651600-1728651600@www.adetca.cat
SUMMARY:Temporada Alta - Javier Cámara
DESCRIPTION:Paula Pairó ppairocortada@gmail.com
URL:https://www.adetca.cat/agenda-event/temporada-alta-41/
CATEGORIES:RDP
END:VEVENT
BEGIN:VEVENT
DTSTART;TZID=UTC:20241010T200000
DTEND;TZID=UTC:20241010T200000
DTSTAMP:20260424T205530
CREATED:20240918T102518Z
LAST-MODIFIED:20240918T102518Z
UID:18002-1728590400-1728590400@www.adetca.cat
SUMMARY:*Hit me if I’m pretty* o la princesa moderna
DESCRIPTION:Centre de les Arts Lliures – comunicacio@fundaciojoanbrossa.cat
URL:https://www.adetca.cat/agenda-event/hit-me-if-im-pretty-o-la-princesa-moderna/
CATEGORIES:EST
END:VEVENT
BEGIN:VEVENT
DTSTART;TZID=UTC:20241010T110000
DTEND;TZID=UTC:20241010T110000
DTSTAMP:20260424T205530
CREATED:20240731T111431Z
LAST-MODIFIED:20241007T152436Z
UID:17447-1728558000-1728558000@www.adetca.cat
SUMMARY:Festival internacional de Pallassos de Cornellà
DESCRIPTION:Sandra Costa sandra@lacosta.cat \nMarta Muga – martamurga@lacosta.cat
URL:https://www.adetca.cat/agenda-event/festival-internacional-de-pallassos-de-cornella-2/
CATEGORIES:RDP
END:VEVENT
BEGIN:VEVENT
DTSTART;TZID=UTC:20241010T110000
DTEND;TZID=UTC:20241010T110000
DTSTAMP:20260424T205530
CREATED:20240708T071354Z
LAST-MODIFIED:20240930T130205Z
UID:17138-1728558000-1728558000@www.adetca.cat
SUMMARY:La nit del peix kiwi
DESCRIPTION:Mar Solà msola@teatrelliure.com
URL:https://www.adetca.cat/agenda-event/la-nit-del-peix-kiwi-2/
CATEGORIES:RDP
END:VEVENT
BEGIN:VEVENT
DTSTART;TZID=UTC:20241009T200000
DTEND;TZID=UTC:20241009T200000
DTSTAMP:20260424T205530
CREATED:20240913T102900Z
LAST-MODIFIED:20240913T102900Z
UID:17716-1728504000-1728504000@www.adetca.cat
SUMMARY:Bodas de sangre
DESCRIPTION:Fernando Solla premsa@teatreakademia.cat
URL:https://www.adetca.cat/agenda-event/bodas-de-sangre-2/
CATEGORIES:EST
END:VEVENT
BEGIN:VEVENT
DTSTART;TZID=UTC:20241009T190000
DTEND;TZID=UTC:20241009T190000
DTSTAMP:20260424T205530
CREATED:20240629T080949Z
LAST-MODIFIED:20240629T080949Z
UID:16906-1728500400-1728500400@www.adetca.cat
SUMMARY:Hamlet
DESCRIPTION:Mar Solà msola@teatrelliure.com
URL:https://www.adetca.cat/agenda-event/hamlet/
CATEGORIES:EST
END:VEVENT
BEGIN:VEVENT
DTSTART;TZID=UTC:20241009T123000
DTEND;TZID=UTC:20241009T123000
DTSTAMP:20260424T205530
CREATED:20240903T135702Z
LAST-MODIFIED:20240919T120136Z
UID:17583-1728477000-1728477000@www.adetca.cat
SUMMARY:Presentació 23a edició Festival Escena Poblenou
DESCRIPTION:Laura Fernández – laura@lacosta.cat
URL:https://www.adetca.cat/agenda-event/presentacio-23a-edicio-festival-escena-poblenou/
CATEGORIES:RDP
END:VEVENT
BEGIN:VEVENT
DTSTART;TZID=UTC:20241009T110000
DTEND;TZID=UTC:20241009T110000
DTSTAMP:20260424T205530
CREATED:20240528T120035Z
LAST-MODIFIED:20240528T120035Z
UID:16270-1728471600-1728471600@www.adetca.cat
SUMMARY:Inés Boza
DESCRIPTION:Mercè Ros mros@mercatflors.cat
URL:https://www.adetca.cat/agenda-event/ines-boza/
CATEGORIES:RDP
END:VEVENT
BEGIN:VEVENT
DTSTART;TZID=UTC:20241008T120000
DTEND;TZID=UTC:20241008T120000
DTSTAMP:20260424T205530
CREATED:20240917T131839Z
LAST-MODIFIED:20240926T074129Z
UID:17958-1728388800-1728388800@www.adetca.cat
SUMMARY:Temporada Alta- Pura Passió
DESCRIPTION:Paula Pairó –  ppairocortada@gmail.com
URL:https://www.adetca.cat/agenda-event/roda-de-premsa-temporada-alta-pura-passio/
CATEGORIES:RDP
END:VEVENT
BEGIN:VEVENT
DTSTART;TZID=UTC:20241007T123000
DTEND;TZID=UTC:20241007T123000
DTSTAMP:20260424T205530
CREATED:20240920T081648Z
LAST-MODIFIED:20240920T113443Z
UID:18064-1728304200-1728304200@www.adetca.cat
SUMMARY:Presentació de l’exposició de Bill Armstrong
DESCRIPTION:Imma Anglès iangles@palaumusica.cat
URL:https://www.adetca.cat/agenda-event/presentacio-de-lexposicio-de-bill-armstrong/
CATEGORIES:RDP
END:VEVENT
BEGIN:VEVENT
DTSTART;TZID=UTC:20241007T110000
DTEND;TZID=UTC:20241007T110000
DTSTAMP:20260424T205530
CREATED:20240708T070715Z
LAST-MODIFIED:20240927T070559Z
UID:17131-1728298800-1728298800@www.adetca.cat
SUMMARY:Hamlet
DESCRIPTION:Mar Solà msola@teatrelliure.com
URL:https://www.adetca.cat/agenda-event/hamlet-2/
CATEGORIES:RDP
END:VEVENT
BEGIN:VEVENT
DTSTART;TZID=UTC:20241006T123000
DTEND;TZID=UTC:20241006T123000
DTSTAMP:20260424T205530
CREATED:20240926T081110Z
LAST-MODIFIED:20240926T081110Z
UID:18121-1728217800-1728217800@www.adetca.cat
SUMMARY:Neon hand
DESCRIPTION:Martí Rossell marti@barcomunicacio.com
URL:https://www.adetca.cat/agenda-event/neon-hand/
CATEGORIES:EST
END:VEVENT
BEGIN:VEVENT
DTSTART;TZID=UTC:20241004T113000
DTEND;TZID=UTC:20241004T113000
DTSTAMP:20260424T205530
CREATED:20240919T120929Z
LAST-MODIFIED:20240919T120929Z
UID:18053-1728041400-1728041400@www.adetca.cat
SUMMARY:Forever Van Gogh
DESCRIPTION:Comunicación – comunicacion@gruposmedia.com
URL:https://www.adetca.cat/agenda-event/forever-van-gogh/
CATEGORIES:PDG
END:VEVENT
BEGIN:VEVENT
DTSTART;TZID=UTC:20241003T210000
DTEND;TZID=UTC:20241003T210000
DTSTAMP:20260424T205530
CREATED:20240926T080927Z
LAST-MODIFIED:20240926T080927Z
UID:18119-1727989200-1727989200@www.adetca.cat
SUMMARY:Paradís
DESCRIPTION:Martí Rossell marti@barcomunicacio.com
URL:https://www.adetca.cat/agenda-event/paradis-2/
CATEGORIES:EST
END:VEVENT
BEGIN:VEVENT
DTSTART;TZID=UTC:20241003T200000
DTEND;TZID=UTC:20241003T200000
DTSTAMP:20260424T205530
CREATED:20240509T083208Z
LAST-MODIFIED:20240521T145859Z
UID:16139-1727985600-1727985600@www.adetca.cat
SUMMARY:Priscilla
DESCRIPTION:Maria José Balañá mjbalana@balanaenviu.com
URL:https://www.adetca.cat/agenda-event/priscilla/
CATEGORIES:EST
END:VEVENT
BEGIN:VEVENT
DTSTART;TZID=UTC:20241003T190000
DTEND;TZID=UTC:20241003T190000
DTSTAMP:20260424T205530
CREATED:20240629T080406Z
LAST-MODIFIED:20240629T080406Z
UID:16899-1727982000-1727982000@www.adetca.cat
SUMMARY:La gavina
DESCRIPTION:Mar Solà msola@teatrelliure.com
URL:https://www.adetca.cat/agenda-event/la-gavina-4/
CATEGORIES:EST
END:VEVENT
BEGIN:VEVENT
DTSTART;TZID=UTC:20241003T120000
DTEND;TZID=UTC:20241003T120000
DTSTAMP:20260424T205530
CREATED:20240710T141656Z
LAST-MODIFIED:20240913T135032Z
UID:17260-1727956800-1727956800@www.adetca.cat
SUMMARY:Festival Clàssics
DESCRIPTION:Aloma Vilamala aloma@latremenda.coop
URL:https://www.adetca.cat/agenda-event/festival-classics-2/
CATEGORIES:RDP
END:VEVENT
BEGIN:VEVENT
DTSTART;TZID=UTC:20241003T110000
DTEND;TZID=UTC:20241003T110000
DTSTAMP:20260424T205530
CREATED:20240919T082242Z
LAST-MODIFIED:20240919T082630Z
UID:18044-1727953200-1727953200@www.adetca.cat
SUMMARY:Temporada Alta - Gaviota
DESCRIPTION:Paula Pairó ppairocortada@gmail.com
URL:https://www.adetca.cat/agenda-event/temporada-alta-gaviota/
CATEGORIES:RDP
END:VEVENT
BEGIN:VEVENT
DTSTART;TZID=UTC:20241003T103000
DTEND;TZID=UTC:20241003T110000
DTSTAMP:20260424T205530
CREATED:20240801T134927Z
LAST-MODIFIED:20240917T133859Z
UID:17470-1727951400-1727953200@www.adetca.cat
SUMMARY:Presentació Temporada 24/25 Fundació Òpera a Catalunya
DESCRIPTION:Blanca de Carreras bdacarreras@osvalles.com
URL:https://www.adetca.cat/agenda-event/presentacio-temporada-24-25-fundacio-opera-a-catalunya/
CATEGORIES:RDP
END:VEVENT
BEGIN:VEVENT
DTSTART;TZID=UTC:20241002T200000
DTEND;TZID=UTC:20241002T200000
DTSTAMP:20260424T205530
CREATED:20240926T080648Z
LAST-MODIFIED:20240926T080648Z
UID:18116-1727899200-1727899200@www.adetca.cat
SUMMARY:Llegat
DESCRIPTION:Martí Rossell marti@barcomunicacio.com
URL:https://www.adetca.cat/agenda-event/llegat-2/
CATEGORIES:EST
END:VEVENT
BEGIN:VEVENT
DTSTART;TZID=UTC:20241002T190000
DTEND;TZID=UTC:20241002T190000
DTSTAMP:20260424T205530
CREATED:20240405T070608Z
LAST-MODIFIED:20240906T083404Z
UID:15909-1727895600-1727895600@www.adetca.cat
SUMMARY:Vosaltres\, les bruixes
DESCRIPTION:Bernat Fornells bfornells@tnc.cat
URL:https://www.adetca.cat/agenda-event/estrena-sala-petita/
CATEGORIES:EST
END:VEVENT
BEGIN:VEVENT
DTSTART;TZID=UTC:20241002T120000
DTEND;TZID=UTC:20241002T120000
DTSTAMP:20260424T205530
CREATED:20240529T073556Z
LAST-MODIFIED:20240529T082047Z
UID:16279-1727870400-1727870400@www.adetca.cat
SUMMARY:Priscilla
DESCRIPTION:Danile Mejias daniel@danilemejias.com \nMaria José Balañá mjbalana@balanaenviu.com
URL:https://www.adetca.cat/agenda-event/priscilla-2/
CATEGORIES:PDG
END:VEVENT
BEGIN:VEVENT
DTSTART;TZID=UTC:20241002T110000
DTEND;TZID=UTC:20241002T110000
DTSTAMP:20260424T205530
CREATED:20240528T115153Z
LAST-MODIFIED:20240528T115153Z
UID:16268-1727866800-1727866800@www.adetca.cat
SUMMARY:Paloma Muñoz
DESCRIPTION:Mercè Ros mros@mercatflors.cat
URL:https://www.adetca.cat/agenda-event/paloma-munoz-3/
CATEGORIES:RDP
END:VEVENT
BEGIN:VEVENT
DTSTART;TZID=UTC:20241001T200000
DTEND;TZID=UTC:20241001T200000
DTSTAMP:20260424T205530
CREATED:20240925T094234Z
LAST-MODIFIED:20240925T094234Z
UID:18093-1727812800-1727812800@www.adetca.cat
SUMMARY:Premis TeatreBarcelona
DESCRIPTION:Rubén García  ruben@barc.coop
URL:https://www.adetca.cat/agenda-event/premis-teatrebarcelona/
CATEGORIES:EST
END:VEVENT
BEGIN:VEVENT
DTSTART;TZID=UTC:20241001T200000
DTEND;TZID=UTC:20241001T200000
DTSTAMP:20260424T205530
CREATED:20240806T075652Z
LAST-MODIFIED:20240925T135000Z
UID:17494-1727812800-1727812800@www.adetca.cat
SUMMARY:Altsasu
DESCRIPTION:Xavi Lleyda xlleyda@focus.cat
URL:https://www.adetca.cat/agenda-event/altsasu-2/
CATEGORIES:EST
END:VEVENT
BEGIN:VEVENT
DTSTART;TZID=UTC:20241001T163000
DTEND;TZID=UTC:20241001T163000
DTSTAMP:20260424T205530
CREATED:20240912T142759Z
LAST-MODIFIED:20240912T142759Z
UID:17698-1727800200-1727800200@www.adetca.cat
SUMMARY:Paisatges compartits - Temporada Alta
DESCRIPTION:Paula Pairó ppairo@gmail.com
URL:https://www.adetca.cat/agenda-event/paisatges-compartits-temporada-alta/
CATEGORIES:PDG
END:VEVENT
BEGIN:VEVENT
DTSTART;TZID=UTC:20241001T120000
DTEND;TZID=UTC:20241001T120000
DTSTAMP:20260424T205530
CREATED:20240906T083456Z
LAST-MODIFIED:20240906T083526Z
UID:17600-1727784000-1727784000@www.adetca.cat
SUMMARY:Vosaltres\, les bruixes
DESCRIPTION:Esther Vendrell evendrell@tnc.cat
URL:https://www.adetca.cat/agenda-event/vosaltres-les-bruixes/
CATEGORIES:RDP
END:VEVENT
BEGIN:VEVENT
DTSTART;TZID=UTC:20241001T120000
DTEND;TZID=UTC:20241001T120000
DTSTAMP:20260424T205530
CREATED:20240806T075812Z
LAST-MODIFIED:20240806T075812Z
UID:17497-1727784000-1727784000@www.adetca.cat
SUMMARY:Un matrimoni de Boston
DESCRIPTION:Xavi Lleyda xlleyda@focus.cat
URL:https://www.adetca.cat/agenda-event/un-matrimoni-de-boston/
CATEGORIES:RDP
END:VEVENT
BEGIN:VEVENT
DTSTART;TZID=UTC:20241001T103000
DTEND;TZID=UTC:20241001T103000
DTSTAMP:20260424T205530
CREATED:20240913T085616Z
LAST-MODIFIED:20240913T085616Z
UID:17709-1727778600-1727778600@www.adetca.cat
SUMMARY:Residència Raquel García-Tomás
DESCRIPTION:Imma Anglès premsa@palaumusica.cat
URL:https://www.adetca.cat/agenda-event/residencia-raquel-garcia-tomas/
CATEGORIES:RDP
END:VEVENT
END:VCALENDAR