BEGIN:VCALENDAR
VERSION:2.0
PRODID:-//ADETCA - ECPv6.15.20//NONSGML v1.0//EN
CALSCALE:GREGORIAN
METHOD:PUBLISH
X-ORIGINAL-URL:https://www.adetca.cat
X-WR-CALDESC:Esdeveniments per ADETCA
REFRESH-INTERVAL;VALUE=DURATION:PT1H
X-Robots-Tag:noindex
X-PUBLISHED-TTL:PT1H
BEGIN:VTIMEZONE
TZID:UTC
BEGIN:STANDARD
TZOFFSETFROM:+0000
TZOFFSETTO:+0000
TZNAME:UTC
DTSTART:20230101T000000
END:STANDARD
END:VTIMEZONE
BEGIN:VEVENT
DTSTART;TZID=UTC:20241001T200000
DTEND;TZID=UTC:20241001T200000
DTSTAMP:20260424T211808
CREATED:20240925T094234Z
LAST-MODIFIED:20240925T094234Z
UID:18093-1727812800-1727812800@www.adetca.cat
SUMMARY:Premis TeatreBarcelona
DESCRIPTION:Rubén García  ruben@barc.coop
URL:https://www.adetca.cat/agenda-event/premis-teatrebarcelona/
CATEGORIES:EST
END:VEVENT
BEGIN:VEVENT
DTSTART;TZID=UTC:20241001T200000
DTEND;TZID=UTC:20241001T200000
DTSTAMP:20260424T211808
CREATED:20240806T075652Z
LAST-MODIFIED:20240925T135000Z
UID:17494-1727812800-1727812800@www.adetca.cat
SUMMARY:Altsasu
DESCRIPTION:Xavi Lleyda xlleyda@focus.cat
URL:https://www.adetca.cat/agenda-event/altsasu-2/
CATEGORIES:EST
END:VEVENT
BEGIN:VEVENT
DTSTART;TZID=UTC:20241001T163000
DTEND;TZID=UTC:20241001T163000
DTSTAMP:20260424T211808
CREATED:20240912T142759Z
LAST-MODIFIED:20240912T142759Z
UID:17698-1727800200-1727800200@www.adetca.cat
SUMMARY:Paisatges compartits - Temporada Alta
DESCRIPTION:Paula Pairó ppairo@gmail.com
URL:https://www.adetca.cat/agenda-event/paisatges-compartits-temporada-alta/
CATEGORIES:PDG
END:VEVENT
BEGIN:VEVENT
DTSTART;TZID=UTC:20241001T120000
DTEND;TZID=UTC:20241001T120000
DTSTAMP:20260424T211808
CREATED:20240906T083456Z
LAST-MODIFIED:20240906T083526Z
UID:17600-1727784000-1727784000@www.adetca.cat
SUMMARY:Vosaltres\, les bruixes
DESCRIPTION:Esther Vendrell evendrell@tnc.cat
URL:https://www.adetca.cat/agenda-event/vosaltres-les-bruixes/
CATEGORIES:RDP
END:VEVENT
BEGIN:VEVENT
DTSTART;TZID=UTC:20241001T120000
DTEND;TZID=UTC:20241001T120000
DTSTAMP:20260424T211808
CREATED:20240806T075812Z
LAST-MODIFIED:20240806T075812Z
UID:17497-1727784000-1727784000@www.adetca.cat
SUMMARY:Un matrimoni de Boston
DESCRIPTION:Xavi Lleyda xlleyda@focus.cat
URL:https://www.adetca.cat/agenda-event/un-matrimoni-de-boston/
CATEGORIES:RDP
END:VEVENT
BEGIN:VEVENT
DTSTART;TZID=UTC:20241001T103000
DTEND;TZID=UTC:20241001T103000
DTSTAMP:20260424T211808
CREATED:20240913T085616Z
LAST-MODIFIED:20240913T085616Z
UID:17709-1727778600-1727778600@www.adetca.cat
SUMMARY:Residència Raquel García-Tomás
DESCRIPTION:Imma Anglès premsa@palaumusica.cat
URL:https://www.adetca.cat/agenda-event/residencia-raquel-garcia-tomas/
CATEGORIES:RDP
END:VEVENT
BEGIN:VEVENT
DTSTART;TZID=UTC:20241001T100000
DTEND;TZID=UTC:20241001T100000
DTSTAMP:20260424T211808
CREATED:20240906T123002Z
LAST-MODIFIED:20240925T074708Z
UID:17608-1727776800-1727776800@www.adetca.cat
SUMMARY:Presentació fira Mediterrània de Manresa
DESCRIPTION:Nestor Lozano nlozano.culturae@gmail.com
URL:https://www.adetca.cat/agenda-event/presentacio-fira-meditaerrania-de-manresa/
CATEGORIES:RDP
END:VEVENT
BEGIN:VEVENT
DTSTART;TZID=UTC:20240930T200000
DTEND;TZID=UTC:20240930T200000
DTSTAMP:20260424T211808
CREATED:20240806T075321Z
LAST-MODIFIED:20240806T075321Z
UID:17488-1727726400-1727726400@www.adetca.cat
SUMMARY:Rose
DESCRIPTION:Xavi Lleyda xlleyda@focus.cat
URL:https://www.adetca.cat/agenda-event/rose-2/
CATEGORIES:EST
END:VEVENT
BEGIN:VEVENT
DTSTART;TZID=UTC:20240930T120000
DTEND;TZID=UTC:20240930T120000
DTSTAMP:20260424T211808
CREATED:20240806T075602Z
LAST-MODIFIED:20240806T075602Z
UID:17491-1727697600-1727697600@www.adetca.cat
SUMMARY:Altsasu
DESCRIPTION:Xavi Lleyda xlleyda@focus.cat
URL:https://www.adetca.cat/agenda-event/altsasu/
CATEGORIES:RDP
END:VEVENT
BEGIN:VEVENT
DTSTART;TZID=UTC:20240930T113000
DTEND;TZID=UTC:20240930T113000
DTSTAMP:20260424T211808
CREATED:20240731T082701Z
LAST-MODIFIED:20240925T072551Z
UID:17419-1727695800-1727695800@www.adetca.cat
SUMMARY:Temporada Alta - Allà lluny hi ha una caseta + Torneig de dramatúrgia
DESCRIPTION:Paula Pairó ppairocortada@gmail.com
URL:https://www.adetca.cat/agenda-event/temporada-alta-20/
CATEGORIES:RDP
END:VEVENT
BEGIN:VEVENT
DTSTART;TZID=UTC:20240930T103000
DTEND;TZID=UTC:20240930T103000
DTSTAMP:20260424T211808
CREATED:20240919T122839Z
LAST-MODIFIED:20240925T072344Z
UID:18057-1727692200-1727692200@www.adetca.cat
SUMMARY:Temporada Alta - Projecte A Tempo
DESCRIPTION:Paula Pairó ppairo@gmail.com
URL:https://www.adetca.cat/agenda-event/roda-de-premsa-temporada-alta-8/
CATEGORIES:RDP
END:VEVENT
BEGIN:VEVENT
DTSTART;TZID=UTC:20240927T180000
DTEND;TZID=UTC:20240927T180000
DTSTAMP:20260424T211808
CREATED:20240731T082242Z
LAST-MODIFIED:20240731T082242Z
UID:17415-1727460000-1727460000@www.adetca.cat
SUMMARY:PIPA\, el titella meravella
DESCRIPTION:David Muntané coordinacio.lapuntual@gmail.com
URL:https://www.adetca.cat/agenda-event/pipa-el-titella-meravella-2/
CATEGORIES:EST
END:VEVENT
BEGIN:VEVENT
DTSTART;TZID=UTC:20240927T120000
DTEND;TZID=UTC:20240927T120000
DTSTAMP:20260424T211808
CREATED:20240807T112559Z
LAST-MODIFIED:20240807T121816Z
UID:17513-1727438400-1727438400@www.adetca.cat
SUMMARY:Presentació Temporada 2024/25 Teatre Gaudí
DESCRIPTION:Àlex Sánchez premsa@teatregaudibarcelona.com
URL:https://www.adetca.cat/agenda-event/presentacio-temporada-2024-25-teatre-gaudi/
CATEGORIES:RDP
END:VEVENT
BEGIN:VEVENT
DTSTART;TZID=UTC:20240927T103000
DTEND;TZID=UTC:20240927T103000
DTSTAMP:20260424T211808
CREATED:20240708T092810Z
LAST-MODIFIED:20240708T092810Z
UID:17189-1727433000-1727433000@www.adetca.cat
SUMMARY:Unlock the city + Històries de la cuina
DESCRIPTION:Mar Solà msola@teatrelliure.com
URL:https://www.adetca.cat/agenda-event/unlock-the-city-histories-de-la-cuina-2/
CATEGORIES:RDP
END:VEVENT
BEGIN:VEVENT
DTSTART;TZID=UTC:20240926T200000
DTEND;TZID=UTC:20240926T200000
DTSTAMP:20260424T211808
CREATED:20240918T101600Z
LAST-MODIFIED:20240918T102355Z
UID:17996-1727380800-1727380800@www.adetca.cat
SUMMARY:Ruta pel Santoral exterior pel Born
DESCRIPTION:Centre de les Arts Lliures – comunicacio@fundaciojoanbrossa.cat
URL:https://www.adetca.cat/agenda-event/seitons-masdeu-hola-i-adeu/
CATEGORIES:EST
END:VEVENT
BEGIN:VEVENT
DTSTART;TZID=UTC:20240926T190000
DTEND;TZID=UTC:20240926T190000
DTSTAMP:20260424T211808
CREATED:20240701T080400Z
LAST-MODIFIED:20240701T080400Z
UID:16987-1727377200-1727377200@www.adetca.cat
SUMMARY:Ànima
DESCRIPTION:Bernat Fornells bfornells@tnc.cat
URL:https://www.adetca.cat/agenda-event/anima/
CATEGORIES:EST
END:VEVENT
BEGIN:VEVENT
DTSTART;TZID=UTC:20240926T190000
DTEND;TZID=UTC:20240926T190000
DTSTAMP:20260424T211808
CREATED:20240222T080120Z
LAST-MODIFIED:20240222T080120Z
UID:15620-1727377200-1727377200@www.adetca.cat
SUMMARY:Estrena Temporada TNC 2024-25
DESCRIPTION:Bernat Fornells bfornells@tnc.cat
URL:https://www.adetca.cat/agenda-event/estrena-temporada-tnc-2024-25/
CATEGORIES:EST
END:VEVENT
BEGIN:VEVENT
DTSTART;TZID=UTC:20240926T180000
DTEND;TZID=UTC:20240926T180000
DTSTAMP:20260424T211808
CREATED:20240918T102301Z
LAST-MODIFIED:20240918T102301Z
UID:18000-1727373600-1727373600@www.adetca.cat
SUMMARY:Seitons Masdeu Hola i Adeu
DESCRIPTION:Centre de les Arts Lliures – comunicacio@fundaciojoanbrossa.cat
URL:https://www.adetca.cat/agenda-event/seitons-masdeu-hola-i-adeu-2/
CATEGORIES:EST
END:VEVENT
BEGIN:VEVENT
DTSTART;TZID=UTC:20240926T120000
DTEND;TZID=UTC:20240926T120000
DTSTAMP:20260424T211808
CREATED:20240705T115331Z
LAST-MODIFIED:20240705T115331Z
UID:17123-1727352000-1727352000@www.adetca.cat
SUMMARY:La gavina
DESCRIPTION:Mar Solà msola@teatrelliure.com
URL:https://www.adetca.cat/agenda-event/la-gavina-5/
CATEGORIES:RDP
END:VEVENT
BEGIN:VEVENT
DTSTART;TZID=UTC:20240926T103000
DTEND;TZID=UTC:20240926T103000
DTSTAMP:20260424T211808
CREATED:20240906T083629Z
LAST-MODIFIED:20240917T083124Z
UID:17604-1727346600-1727346600@www.adetca.cat
SUMMARY:Vosaltres\, les bruixes
DESCRIPTION:Esther Vendrell evendrell@tnc.cat
URL:https://www.adetca.cat/agenda-event/vosaltres-les-bruixes-2/
CATEGORIES:RDP
END:VEVENT
BEGIN:VEVENT
DTSTART;TZID=UTC:20240925T200000
DTEND;TZID=UTC:20240925T200000
DTSTAMP:20260424T211808
CREATED:20240805T072602Z
LAST-MODIFIED:20240805T072602Z
UID:17481-1727294400-1727294400@www.adetca.cat
SUMMARY:Nadia
DESCRIPTION:Xavi Lleyda xlleyda@focus.cat
URL:https://www.adetca.cat/agenda-event/nadia-2/
CATEGORIES:EST
END:VEVENT
BEGIN:VEVENT
DTSTART;TZID=UTC:20240925T200000
DTEND;TZID=UTC:20240925T200000
DTSTAMP:20260424T211808
CREATED:20240320T152928Z
LAST-MODIFIED:20240320T152928Z
UID:15851-1727294400-1727294400@www.adetca.cat
SUMMARY:Turisme rural
DESCRIPTION:Eugènia Berga eugenia@bito.pro
URL:https://www.adetca.cat/agenda-event/turisme-rural/
CATEGORIES:EST
END:VEVENT
BEGIN:VEVENT
DTSTART;TZID=UTC:20240925T193000
DTEND;TZID=UTC:20240925T193000
DTSTAMP:20260424T211808
CREATED:20240619T104804Z
LAST-MODIFIED:20240619T104804Z
UID:16750-1727292600-1727292600@www.adetca.cat
SUMMARY:Lady Macbeth
DESCRIPTION:Joana Lladó joana.llado@liceubarcelona.cat
URL:https://www.adetca.cat/agenda-event/lady-macbeth-2/
CATEGORIES:EST
END:VEVENT
BEGIN:VEVENT
DTSTART;TZID=UTC:20240925T110000
DTEND;TZID=UTC:20240925T110000
DTSTAMP:20260424T211808
CREATED:20240731T082554Z
LAST-MODIFIED:20240731T082554Z
UID:17417-1727262000-1727262000@www.adetca.cat
SUMMARY:Temporada Alta
DESCRIPTION:Paula Pairó ppairocortada@gmail.com
URL:https://www.adetca.cat/agenda-event/temporada-alta-16/
CATEGORIES:RDP
END:VEVENT
BEGIN:VEVENT
DTSTART;TZID=UTC:20240925T103000
DTEND;TZID=UTC:20240925T103000
DTSTAMP:20260424T211808
CREATED:20240910T101109Z
LAST-MODIFIED:20240910T105116Z
UID:17673-1727260200-1727260200@www.adetca.cat
SUMMARY:Presentació Temporada 2024/25 Tantarantana
DESCRIPTION:Ana Candela premsa@tantarantana.com
URL:https://www.adetca.cat/agenda-event/presentacio-temporada-2024-25-tantarantana-2/
CATEGORIES:RDP
END:VEVENT
BEGIN:VEVENT
DTSTART;TZID=UTC:20240924T193000
DTEND;TZID=UTC:20240924T193000
DTSTAMP:20260424T211808
CREATED:20240916T130625Z
LAST-MODIFIED:20240916T130625Z
UID:17769-1727206200-1727206200@www.adetca.cat
SUMMARY:Glengarry Glen Ross
DESCRIPTION:Anna Aurich aurich@wearecosmica.com
URL:https://www.adetca.cat/agenda-event/glengarry-glen-ross/
CATEGORIES:EST
END:VEVENT
BEGIN:VEVENT
DTSTART;TZID=UTC:20240923T180000
DTEND;TZID=UTC:20240923T180000
DTSTAMP:20260424T211808
CREATED:20240910T094030Z
LAST-MODIFIED:20240916T084803Z
UID:17663-1727114400-1727114400@www.adetca.cat
SUMMARY:Glengarry Glen Ross
DESCRIPTION:Anna Aurich aurich@wearecosmica.com
URL:https://www.adetca.cat/agenda-event/presentacio-temporada-2024-25-i-glengarry-glen-ross/
CATEGORIES:PDG
END:VEVENT
BEGIN:VEVENT
DTSTART;TZID=UTC:20240920T200000
DTEND;TZID=UTC:20240920T200000
DTSTAMP:20260424T211808
CREATED:20240813T141350Z
LAST-MODIFIED:20240813T141716Z
UID:17518-1726862400-1726862400@www.adetca.cat
SUMMARY:M'entens o t'ho explico?
DESCRIPTION:
URL:https://www.adetca.cat/agenda-event/mentens-o-tho-explico/
CATEGORIES:EST
END:VEVENT
BEGIN:VEVENT
DTSTART;TZID=UTC:20240920T120000
DTEND;TZID=UTC:20240920T120000
DTSTAMP:20260424T211808
CREATED:20240906T083141Z
LAST-MODIFIED:20240909T080847Z
UID:17597-1726833600-1726833600@www.adetca.cat
SUMMARY:Ànima
DESCRIPTION:Bernat Fornells bfornells@tnc.cat
URL:https://www.adetca.cat/agenda-event/anima-3/
CATEGORIES:RDP
END:VEVENT
BEGIN:VEVENT
DTSTART;TZID=UTC:20240920T103000
DTEND;TZID=UTC:20240920T103000
DTSTAMP:20260424T211808
CREATED:20240829T081711Z
LAST-MODIFIED:20240916T112529Z
UID:17539-1726828200-1726828200@www.adetca.cat
SUMMARY:Presentació Temporada 2024/25 Versus Glòries
DESCRIPTION:Rafaela Rivas premsa@salaversusglories.com
URL:https://www.adetca.cat/agenda-event/presentacio-temporada-2024-25-versus-glories/
CATEGORIES:RDP
END:VEVENT
END:VCALENDAR