BEGIN:VCALENDAR
VERSION:2.0
PRODID:-//ADETCA - ECPv6.15.20//NONSGML v1.0//EN
CALSCALE:GREGORIAN
METHOD:PUBLISH
X-ORIGINAL-URL:https://www.adetca.cat
X-WR-CALDESC:Esdeveniments per ADETCA
REFRESH-INTERVAL;VALUE=DURATION:PT1H
X-Robots-Tag:noindex
X-PUBLISHED-TTL:PT1H
BEGIN:VTIMEZONE
TZID:UTC
BEGIN:STANDARD
TZOFFSETFROM:+0000
TZOFFSETTO:+0000
TZNAME:UTC
DTSTART:20230101T000000
END:STANDARD
END:VTIMEZONE
BEGIN:VEVENT
DTSTART;TZID=UTC:20240912T120000
DTEND;TZID=UTC:20240912T120000
DTSTAMP:20260425T151623
CREATED:20240328T083228Z
LAST-MODIFIED:20240812T164128Z
UID:15876-1726142400-1726142400@www.adetca.cat
SUMMARY:Mar i Cel
DESCRIPTION:Nuria Olivé nuria@latemenda.coop
URL:https://www.adetca.cat/agenda-event/mar-i-cel-2/
CATEGORIES:RDP
END:VEVENT
BEGIN:VEVENT
DTSTART;TZID=UTC:20240910T120000
DTEND;TZID=UTC:20240910T120000
DTSTAMP:20260425T151623
CREATED:20240326T124842Z
LAST-MODIFIED:20240902T123014Z
UID:15869-1725969600-1725969600@www.adetca.cat
SUMMARY:Turisme rural
DESCRIPTION:Eugènia Berga eugenia@bito.pro
URL:https://www.adetca.cat/agenda-event/turisme-rural-2/
CATEGORIES:RDP
END:VEVENT
BEGIN:VEVENT
DTSTART;TZID=UTC:20240910T101500
DTEND;TZID=UTC:20240910T101500
DTSTAMP:20260425T151623
CREATED:20240429T135000Z
LAST-MODIFIED:20240903T062428Z
UID:16081-1725963300-1725963300@www.adetca.cat
SUMMARY:Presentació Temporada 2024/25 - Teatre Akadèmia
DESCRIPTION:Fernando Solla premsa@teatreakademia.cat
URL:https://www.adetca.cat/agenda-event/peresentaciotemporada-2024-25-teatre-akademia/
CATEGORIES:RDP
END:VEVENT
BEGIN:VEVENT
DTSTART;TZID=UTC:20240909T210000
DTEND;TZID=UTC:20240909T210000
DTSTAMP:20260425T151623
CREATED:20240619T104629Z
LAST-MODIFIED:20240619T104629Z
UID:16748-1725915600-1725915600@www.adetca.cat
SUMMARY:XXIII Gala Catalunya aixeca el teló
DESCRIPTION:info@adetca.cat
URL:https://www.adetca.cat/agenda-event/xxiii-gala-catalunya-aixeca-el-telo/
CATEGORIES:EST
END:VEVENT
BEGIN:VEVENT
DTSTART;TZID=UTC:20240909T120000
DTEND;TZID=UTC:20240909T120000
DTSTAMP:20260425T151623
CREATED:20240221T124402Z
LAST-MODIFIED:20240731T085258Z
UID:15617-1725883200-1725883200@www.adetca.cat
SUMMARY:ADETCA - Inici de temporada
DESCRIPTION:
URL:https://www.adetca.cat/agenda-event/adetca-inici-de-temporada-2/
CATEGORIES:RDP
END:VEVENT
BEGIN:VEVENT
DTSTART;TZID=UTC:20240906T200000
DTEND;TZID=UTC:20240906T200000
DTSTAMP:20260425T151623
CREATED:20240902T062744Z
LAST-MODIFIED:20240902T062744Z
UID:17549-1725652800-1725652800@www.adetca.cat
SUMMARY:Blanca desvelada
DESCRIPTION:Jordi Araz contractacio@aquitaniateatre.es
URL:https://www.adetca.cat/agenda-event/blanca-desvelada-3/
CATEGORIES:EST
END:VEVENT
BEGIN:VEVENT
DTSTART;TZID=UTC:20240906T180000
DTEND;TZID=UTC:20240906T180000
DTSTAMP:20260425T151623
CREATED:20240731T082137Z
LAST-MODIFIED:20240731T082137Z
UID:17411-1725645600-1725645600@www.adetca.cat
SUMMARY:Greta\, la rateta que escombrava...
DESCRIPTION:David Muntané coordinacio.lapuntual@gmail.com
URL:https://www.adetca.cat/agenda-event/greta-la-rateta-que-escombrava/
CATEGORIES:EST
END:VEVENT
BEGIN:VEVENT
DTSTART;TZID=UTC:20240906T120000
DTEND;TZID=UTC:20240906T120000
DTSTAMP:20260425T151623
CREATED:20240227T132204Z
LAST-MODIFIED:20240227T132310Z
UID:15689-1725624000-1725624000@www.adetca.cat
SUMMARY:Presentació Temporada Focus 2024-25
DESCRIPTION:Xavi Lleyda xlleyda@focus.cat
URL:https://www.adetca.cat/agenda-event/presentacio-temporada-focus-2024-25/
CATEGORIES:RDP
END:VEVENT
BEGIN:VEVENT
DTSTART;TZID=UTC:20240904T200000
DTEND;TZID=UTC:20240904T200000
DTSTAMP:20260425T151623
CREATED:20240805T071631Z
LAST-MODIFIED:20240805T071631Z
UID:17477-1725480000-1725480000@www.adetca.cat
SUMMARY:La colección
DESCRIPTION:Xavi Lleyda xlleyda@focus.cat
URL:https://www.adetca.cat/agenda-event/la-coleccion-2/
CATEGORIES:EST
END:VEVENT
BEGIN:VEVENT
DTSTART;TZID=UTC:20240904T120000
DTEND;TZID=UTC:20240904T120000
DTSTAMP:20260425T151623
CREATED:20240301T110839Z
LAST-MODIFIED:20240301T111558Z
UID:15723-1725451200-1725451200@www.adetca.cat
SUMMARY:Presentació Temporada 2024-25 El Maldà
DESCRIPTION:Ester Cánovas ester@elmalda.cat
URL:https://www.adetca.cat/agenda-event/presentacio-temporada-2024-25-4/
CATEGORIES:RDP
END:VEVENT
BEGIN:VEVENT
DTSTART;TZID=UTC:20240904T113000
DTEND;TZID=UTC:20240904T113000
DTSTAMP:20260425T151623
CREATED:20240904T053812Z
LAST-MODIFIED:20240904T055415Z
UID:17585-1725449400-1725449400@www.adetca.cat
SUMMARY:Presentació nou projecte
DESCRIPTION:Neus Masferrer dispers@hotmail.com
URL:https://www.adetca.cat/agenda-event/presentacio-nou-projecte/
CATEGORIES:RDP
END:VEVENT
BEGIN:VEVENT
DTSTART;TZID=UTC:20240903T120000
DTEND;TZID=UTC:20240903T120000
DTSTAMP:20260425T151623
CREATED:20240301T110721Z
LAST-MODIFIED:20240328T104904Z
UID:15720-1725364800-1725364800@www.adetca.cat
SUMMARY:Presentació Temporada 2024-25 El Maldà
DESCRIPTION:Ester Cánovas ester@elmalda.cat
URL:https://www.adetca.cat/agenda-event/presentacio-temporada-2024-25-3/
CATEGORIES:RDP
END:VEVENT
BEGIN:VEVENT
DTSTART;TZID=UTC:20240903T110000
DTEND;TZID=UTC:20240903T110000
DTSTAMP:20260425T151623
CREATED:20240322T074028Z
LAST-MODIFIED:20240322T074028Z
UID:15858-1725361200-1725361200@www.adetca.cat
SUMMARY:Presentació Temporada 2024-25 i Balanç
DESCRIPTION:Rubén García ruben@barc.com
URL:https://www.adetca.cat/agenda-event/presentacio-temporada-2024-25-i-balanc/
CATEGORIES:RDP
END:VEVENT
BEGIN:VEVENT
DTSTART;TZID=UTC:20240902T163000
DTEND;TZID=UTC:20240902T163000
DTSTAMP:20260425T151623
CREATED:20240805T071534Z
LAST-MODIFIED:20240805T071534Z
UID:17475-1725294600-1725294600@www.adetca.cat
SUMMARY:La colección
DESCRIPTION:Xavi Lleyda xlleyda@focus.cat
URL:https://www.adetca.cat/agenda-event/la-coleccion/
CATEGORIES:RDP
END:VEVENT
BEGIN:VEVENT
DTSTART;TZID=UTC:20240902T123000
DTEND;TZID=UTC:20240902T123000
DTSTAMP:20260425T151623
CREATED:20240827T113347Z
LAST-MODIFIED:20240827T113347Z
UID:17537-1725280200-1725280200@www.adetca.cat
SUMMARY:Presentació Temporada 2024/25 Teatre de La Gleva
DESCRIPTION:Marc Gall mgall@comedianet.com
URL:https://www.adetca.cat/agenda-event/presentacio-temporada-2024-25-teatre-de-la-gleva/
CATEGORIES:RDP
END:VEVENT
BEGIN:VEVENT
DTSTART;TZID=UTC:20240829T110000
DTEND;TZID=UTC:20240829T110000
DTSTAMP:20260425T151623
CREATED:20240221T094742Z
LAST-MODIFIED:20240529T095613Z
UID:15602-1724929200-1724929200@www.adetca.cat
SUMMARY:Presentació Programació Temporada Alta 2024
DESCRIPTION:Eugènia Berga eugenia@bito.pro
URL:https://www.adetca.cat/agenda-event/presentacio-programacio-temporada-alta/
CATEGORIES:RDP
END:VEVENT
BEGIN:VEVENT
DTSTART;TZID=UTC:20240821T203000
DTEND;TZID=UTC:20240821T203000
DTSTAMP:20260425T151623
CREATED:20240619T104028Z
LAST-MODIFIED:20240619T104028Z
UID:16741-1724272200-1724272200@www.adetca.cat
SUMMARY:Angle mort
DESCRIPTION:Rafaela Rivas premsa@salaversusglories.cat
URL:https://www.adetca.cat/agenda-event/angle-mort-4/
CATEGORIES:EST
END:VEVENT
BEGIN:VEVENT
DTSTART;TZID=UTC:20240815T200000
DTEND;TZID=UTC:20240815T200000
DTSTAMP:20260425T151623
CREATED:20240801T113506Z
LAST-MODIFIED:20240801T113506Z
UID:17465-1723752000-1723752000@www.adetca.cat
SUMMARY:Showgirls. La comedia
DESCRIPTION:Àlex Sánchez premsa@teatregaudibarcelona.com
URL:https://www.adetca.cat/agenda-event/showgirls-la-comedia-2/
CATEGORIES:EST
END:VEVENT
BEGIN:VEVENT
DTSTART;TZID=UTC:20240812T120000
DTEND;TZID=UTC:20240812T120000
DTSTAMP:20260425T151623
CREATED:20240726T105930Z
LAST-MODIFIED:20240726T112139Z
UID:17402-1723464000-1723464000@www.adetca.cat
SUMMARY:Showgirls. La comedia
DESCRIPTION:Àlex Sánchez premsa@teatregaudibarcelona.com
URL:https://www.adetca.cat/agenda-event/showgirls-la-comedia/
CATEGORIES:RDP
END:VEVENT
BEGIN:VEVENT
DTSTART;TZID=UTC:20240805T200000
DTEND;TZID=UTC:20240805T200000
DTSTAMP:20260425T151623
CREATED:20240801T113841Z
LAST-MODIFIED:20240801T114557Z
UID:17467-1722888000-1722888000@www.adetca.cat
SUMMARY:Un segundo bajo la arena
DESCRIPTION:
URL:https://www.adetca.cat/agenda-event/un-segundo-bajo-la-arena/
CATEGORIES:EST
END:VEVENT
BEGIN:VEVENT
DTSTART;TZID=UTC:20240729T200000
DTEND;TZID=UTC:20240729T200000
DTSTAMP:20260425T151623
CREATED:20240619T103759Z
LAST-MODIFIED:20240619T103759Z
UID:16739-1722283200-1722283200@www.adetca.cat
SUMMARY:"Viatge a París" de la companyia Expans'ART. Cicle #EnDansa
DESCRIPTION:Rafaela Rivas premsa@salaversusglories.cat
URL:https://www.adetca.cat/agenda-event/viatge-a-paris-de-la-companyia-expansart-cicle-endansa/
CATEGORIES:EST
END:VEVENT
BEGIN:VEVENT
DTSTART;TZID=UTC:20240726T123000
DTEND;TZID=UTC:20240726T123000
DTSTAMP:20260425T151623
CREATED:20240709T123847Z
LAST-MODIFIED:20240709T123847Z
UID:17241-1721997000-1721997000@www.adetca.cat
SUMMARY:Grec 2024 -  Tancament Festival
DESCRIPTION:Neus Masferrer dispers@hotmail.com
URL:https://www.adetca.cat/agenda-event/grec-2024-tancament-festival/
CATEGORIES:RDP
END:VEVENT
BEGIN:VEVENT
DTSTART;TZID=UTC:20240725T200000
DTEND;TZID=UTC:20240725T200000
DTSTAMP:20260425T151623
CREATED:20240619T103641Z
LAST-MODIFIED:20240619T103641Z
UID:16737-1721937600-1721937600@www.adetca.cat
SUMMARY:"Like Getting Hit by a Bus" de Sarah Stearns. Cicle #EnDansa
DESCRIPTION:Rafaela Rivas premsa@salaversusglories.cat
URL:https://www.adetca.cat/agenda-event/like-getting-hit-by-a-bus-de-sarah-stearns-cicle-endansa/
CATEGORIES:EST
END:VEVENT
BEGIN:VEVENT
DTSTART;TZID=UTC:20240725T200000
DTEND;TZID=UTC:20240725T200000
DTSTAMP:20260425T151623
CREATED:20240517T103332Z
LAST-MODIFIED:20240517T103332Z
UID:16209-1721937600-1721937600@www.adetca.cat
SUMMARY:Com taques gegants envoltades de rodonetes perfectes
DESCRIPTION:Anna Espunya teatre@eolia.cat
URL:https://www.adetca.cat/agenda-event/com-taques-gegants-envoltades-de-rodonetes-perfectes/
CATEGORIES:EST
END:VEVENT
BEGIN:VEVENT
DTSTART;TZID=UTC:20240723T130000
DTEND;TZID=UTC:20240723T130000
DTSTAMP:20260425T151623
CREATED:20240223T122121Z
LAST-MODIFIED:20240722T080305Z
UID:15667-1721739600-1721739600@www.adetca.cat
SUMMARY:Presentació Temporada 2024-25 Sala Fènix
DESCRIPTION:Isabella Pintani fenix@salafenix.com
URL:https://www.adetca.cat/agenda-event/presentacio-temporada-2024-25-2/
CATEGORIES:RDP
END:VEVENT
BEGIN:VEVENT
DTSTART;TZID=UTC:20240723T113000
DTEND;TZID=UTC:20240723T130000
DTSTAMP:20260425T151623
CREATED:20240709T123713Z
LAST-MODIFIED:20240709T123713Z
UID:17239-1721734200-1721739600@www.adetca.cat
SUMMARY:Grec 2024 -  Presentació 3 espectacles
DESCRIPTION:Neus Masferrer dispers@hotmail.com
URL:https://www.adetca.cat/agenda-event/grec-2024-presentacio-3-espectacles/
CATEGORIES:RDP
END:VEVENT
BEGIN:VEVENT
DTSTART;TZID=UTC:20240723T103000
DTEND;TZID=UTC:20240723T103000
DTSTAMP:20260425T151623
CREATED:20240503T075602Z
LAST-MODIFIED:20240621T131730Z
UID:16108-1721730600-1721730600@www.adetca.cat
SUMMARY:Festival TNT
DESCRIPTION:Sònia Gonzalez gonzalez@wearecosmica.com
URL:https://www.adetca.cat/agenda-event/festival-tnt-3/
CATEGORIES:RDP
END:VEVENT
BEGIN:VEVENT
DTSTART;TZID=UTC:20240722T200000
DTEND;TZID=UTC:20240722T200000
DTSTAMP:20260425T151623
CREATED:20240619T103513Z
LAST-MODIFIED:20240619T103513Z
UID:16735-1721678400-1721678400@www.adetca.cat
SUMMARY:Ben plantats (Lectura dramatitzada)
DESCRIPTION:Rafaela Rivas premsa@salaversusglories.cat
URL:https://www.adetca.cat/agenda-event/ben-plantats-lectura-dramatitzada/
CATEGORIES:EST
END:VEVENT
BEGIN:VEVENT
DTSTART;TZID=UTC:20240719T203000
DTEND;TZID=UTC:20240719T203000
DTSTAMP:20260425T151623
CREATED:20240425T113637Z
LAST-MODIFIED:20240425T113637Z
UID:16044-1721421000-1721421000@www.adetca.cat
SUMMARY:Villa
DESCRIPTION:Laura Farrés laurafarres@salabeckett.cat
URL:https://www.adetca.cat/agenda-event/villa/
CATEGORIES:EST
END:VEVENT
BEGIN:VEVENT
DTSTART;TZID=UTC:20240718T200000
DTEND;TZID=UTC:20240718T200000
DTSTAMP:20260425T151623
CREATED:20240517T102907Z
LAST-MODIFIED:20240517T102907Z
UID:16207-1721332800-1721332800@www.adetca.cat
SUMMARY:Semàfors en ambre
DESCRIPTION:Anna Espunya teatre@eolia.cat
URL:https://www.adetca.cat/agenda-event/semafors-en-ambre-2/
CATEGORIES:EST
END:VEVENT
END:VCALENDAR