BEGIN:VCALENDAR
VERSION:2.0
PRODID:-//ADETCA - ECPv6.15.20//NONSGML v1.0//EN
CALSCALE:GREGORIAN
METHOD:PUBLISH
X-ORIGINAL-URL:https://www.adetca.cat
X-WR-CALDESC:Esdeveniments per ADETCA
REFRESH-INTERVAL;VALUE=DURATION:PT1H
X-Robots-Tag:noindex
X-PUBLISHED-TTL:PT1H
BEGIN:VTIMEZONE
TZID:UTC
BEGIN:STANDARD
TZOFFSETFROM:+0000
TZOFFSETTO:+0000
TZNAME:UTC
DTSTART:20230101T000000
END:STANDARD
END:VTIMEZONE
BEGIN:VEVENT
DTSTART;TZID=UTC:20240716T200000
DTEND;TZID=UTC:20240716T200000
DTSTAMP:20260425T190725
CREATED:20240705T101637Z
LAST-MODIFIED:20240705T101637Z
UID:17113-1721160000-1721160000@www.adetca.cat
SUMMARY:The Genessis
DESCRIPTION:Sandra Araquistain saraquis@gmail.com
URL:https://www.adetca.cat/agenda-event/the-genessis-2/
CATEGORIES:EST
END:VEVENT
BEGIN:VEVENT
DTSTART;TZID=UTC:20240716T160000
DTEND;TZID=UTC:20240716T160000
DTSTAMP:20260425T190725
CREATED:20240604T071641Z
LAST-MODIFIED:20240604T081018Z
UID:16308-1721145600-1721145600@www.adetca.cat
SUMMARY:Ballet de kiev
DESCRIPTION:Sandra Araquistain saraquis@gmail.com
URL:https://www.adetca.cat/agenda-event/ballet-de-kiev-2/
CATEGORIES:PDG
END:VEVENT
BEGIN:VEVENT
DTSTART;TZID=UTC:20240715T200000
DTEND;TZID=UTC:20240715T200000
DTSTAMP:20260425T190725
CREATED:20240619T103202Z
LAST-MODIFIED:20240619T103202Z
UID:16733-1721073600-1721073600@www.adetca.cat
SUMMARY:"FronTerra" de Companyia Astra. Cicle #EnDansa
DESCRIPTION:Rafaela Rivas premsa@salaversusglories.cat
URL:https://www.adetca.cat/agenda-event/fronterra-de-companyia-astra-cicle-endansa/
CATEGORIES:EST
END:VEVENT
BEGIN:VEVENT
DTSTART;TZID=UTC:20240715T200000
DTEND;TZID=UTC:20240715T200000
DTSTAMP:20260425T190725
CREATED:20240521T150225Z
LAST-MODIFIED:20240521T153426Z
UID:16227-1721073600-1721073600@www.adetca.cat
SUMMARY:L'enterrador
DESCRIPTION:Xavi Lleyda xlleyda@focus.cat
URL:https://www.adetca.cat/agenda-event/lenterrador-2/
CATEGORIES:EST
END:VEVENT
BEGIN:VEVENT
DTSTART;TZID=UTC:20240715T110000
DTEND;TZID=UTC:20240715T110000
DTSTAMP:20260425T190725
CREATED:20240705T101449Z
LAST-MODIFIED:20240705T101449Z
UID:17111-1721041200-1721041200@www.adetca.cat
SUMMARY:The Genessis
DESCRIPTION:Sandra Araquistain saraquis@gmail.com
URL:https://www.adetca.cat/agenda-event/the-genessis/
CATEGORIES:PDG
END:VEVENT
BEGIN:VEVENT
DTSTART;TZID=UTC:20240712T193000
DTEND;TZID=UTC:20240712T193000
DTSTAMP:20260425T190725
CREATED:20240627T090447Z
LAST-MODIFIED:20240627T092213Z
UID:16888-1720812600-1720812600@www.adetca.cat
SUMMARY:L'ultim dia
DESCRIPTION:Àlex Bargalló comunicacio@atrium.cat
URL:https://www.adetca.cat/agenda-event/lultim-dia/
CATEGORIES:EST
END:VEVENT
BEGIN:VEVENT
DTSTART;TZID=UTC:20240712T123000
DTEND;TZID=UTC:20240712T123000
DTSTAMP:20260425T190725
CREATED:20240709T123006Z
LAST-MODIFIED:20240709T123006Z
UID:17233-1720787400-1720787400@www.adetca.cat
SUMMARY:Grec 2024 -  Los días afuera
DESCRIPTION:Neus Masferrer dispers@hotmail.com
URL:https://www.adetca.cat/agenda-event/grec-2024-los-dias-afuera/
CATEGORIES:RDP
END:VEVENT
BEGIN:VEVENT
DTSTART;TZID=UTC:20240711T130000
DTEND;TZID=UTC:20240711T130000
DTSTAMP:20260425T190725
CREATED:20240709T122912Z
LAST-MODIFIED:20240709T122912Z
UID:17231-1720702800-1720702800@www.adetca.cat
SUMMARY:Grec 2024 - Canciones de Amor\, de desamor y de piratas
DESCRIPTION:Neus Masferrer dispers@hotmail.com
URL:https://www.adetca.cat/agenda-event/grec-2024-canciones-de-amor-de-desamor-y-de-piratas/
CATEGORIES:RDP
END:VEVENT
BEGIN:VEVENT
DTSTART;TZID=UTC:20240711T110000
DTEND;TZID=UTC:20240711T113000
DTSTAMP:20260425T190725
CREATED:20240411T135311Z
LAST-MODIFIED:20240705T101308Z
UID:15993-1720695600-1720697400@www.adetca.cat
SUMMARY:Les mans
DESCRIPTION:Xavi Lleyda xlleyda@focus.cat
URL:https://www.adetca.cat/agenda-event/les-mans/
CATEGORIES:PDG,RDP
END:VEVENT
BEGIN:VEVENT
DTSTART;TZID=UTC:20240710T200000
DTEND;TZID=UTC:20240710T200000
DTSTAMP:20260425T190725
CREATED:20240411T135734Z
LAST-MODIFIED:20240411T135805Z
UID:16003-1720641600-1720641600@www.adetca.cat
SUMMARY:Artemis
DESCRIPTION:Xavi Lleyda xlleyda@focus.cat
URL:https://www.adetca.cat/agenda-event/macho-grita-4/
CATEGORIES:EST
END:VEVENT
BEGIN:VEVENT
DTSTART;TZID=UTC:20240710T120000
DTEND;TZID=UTC:20240710T120000
DTSTAMP:20260425T190725
CREATED:20240411T135657Z
LAST-MODIFIED:20240411T135853Z
UID:16001-1720612800-1720612800@www.adetca.cat
SUMMARY:Artemis
DESCRIPTION:Xavi Lleyda xlleyda@focus.cat
URL:https://www.adetca.cat/agenda-event/macho-grita-3/
CATEGORIES:RDP
END:VEVENT
BEGIN:VEVENT
DTSTART;TZID=UTC:20240710T100000
DTEND;TZID=UTC:20240710T100000
DTSTAMP:20260425T190725
CREATED:20240618T103852Z
LAST-MODIFIED:20240618T103852Z
UID:16711-1720605600-1720605600@www.adetca.cat
SUMMARY:Presentació de temporada de les Arts de València a Barcelona
DESCRIPTION:Anna Aurich  aurich@wearecosmica.com
URL:https://www.adetca.cat/agenda-event/presentacio-de-temporada-de-les-arts-de-valencia-a-barcelona/
CATEGORIES:RDP
END:VEVENT
BEGIN:VEVENT
DTSTART;TZID=UTC:20240709T110000
DTEND;TZID=UTC:20240709T110000
DTSTAMP:20260425T190725
CREATED:20240515T070947Z
LAST-MODIFIED:20240515T070947Z
UID:16193-1720522800-1720522800@www.adetca.cat
SUMMARY:FOC – Saarema Festival
DESCRIPTION:Blanca de Carreras  bdecarreras@osvalles.com
URL:https://www.adetca.cat/agenda-event/foc-saarema-festival/
CATEGORIES:RDP
END:VEVENT
BEGIN:VEVENT
DTSTART;TZID=UTC:20240708T200000
DTEND;TZID=UTC:20240708T200000
DTSTAMP:20260425T190725
CREATED:20240619T102914Z
LAST-MODIFIED:20240619T102914Z
UID:16730-1720468800-1720468800@www.adetca.cat
SUMMARY:"Glòria. An easy and funny work" de La Quebrá. Cicle #EnDansa
DESCRIPTION:Rafaela Rivas premsa@salaversusglories.cat
URL:https://www.adetca.cat/agenda-event/gloria-an-easy-and-funny-work-de-la-quebra-cicle-endansa/
CATEGORIES:EST
END:VEVENT
BEGIN:VEVENT
DTSTART;TZID=UTC:20240708T200000
DTEND;TZID=UTC:20240708T200000
DTSTAMP:20260425T190725
CREATED:20240429T135753Z
LAST-MODIFIED:20240429T135753Z
UID:16092-1720468800-1720468800@www.adetca.cat
SUMMARY:Jo no volia ser Rita Hayworth (lectura)
DESCRIPTION:Fernando Solla premsa@teatreakademia.cat
URL:https://www.adetca.cat/agenda-event/jo-no-volia-ser-rita-hayworth-lectura/
CATEGORIES:RDP
END:VEVENT
BEGIN:VEVENT
DTSTART;TZID=UTC:20240708T120000
DTEND;TZID=UTC:20240708T120000
DTSTAMP:20260425T190725
CREATED:20240521T150050Z
LAST-MODIFIED:20240614T092046Z
UID:16225-1720440000-1720440000@www.adetca.cat
SUMMARY:L'enterrador
DESCRIPTION:Xavi Lleyda xlleyda@focus.cat
URL:https://www.adetca.cat/agenda-event/lenterrador/
CATEGORIES:RDP
END:VEVENT
BEGIN:VEVENT
DTSTART;TZID=UTC:20240704T200000
DTEND;TZID=UTC:20240704T200000
DTSTAMP:20260425T190725
CREATED:20240503T072556Z
LAST-MODIFIED:20240503T072556Z
UID:16102-1720123200-1720123200@www.adetca.cat
SUMMARY:Pequeño cúmulo de abismos
DESCRIPTION:Ana Casasayas acasasayas@fundaciojoanbrossa.cat
URL:https://www.adetca.cat/agenda-event/pequeno-cumulo-de-abismos/
CATEGORIES:EST
END:VEVENT
BEGIN:VEVENT
DTSTART;TZID=UTC:20240704T200000
DTEND;TZID=UTC:20240704T200000
DTSTAMP:20260425T190725
CREATED:20240411T134957Z
LAST-MODIFIED:20240411T135022Z
UID:15988-1720123200-1720123200@www.adetca.cat
SUMMARY:Tirant lo Blanc
DESCRIPTION:Xavi Lleyda xlleyda@focus.cat
URL:https://www.adetca.cat/agenda-event/tirant-lo-blanc/
CATEGORIES:EST
END:VEVENT
BEGIN:VEVENT
DTSTART;TZID=UTC:20240704T190000
DTEND;TZID=UTC:20240704T190000
DTSTAMP:20260425T190725
CREATED:20240424T102058Z
LAST-MODIFIED:20240424T102058Z
UID:16022-1720119600-1720119600@www.adetca.cat
SUMMARY:La felicidad es un hábito
DESCRIPTION:Alex Sanchez premsa@teatregaudibarcelona.com
URL:https://www.adetca.cat/agenda-event/la-felicidad-es-un-habito/
CATEGORIES:EST
END:VEVENT
BEGIN:VEVENT
DTSTART;TZID=UTC:20240704T190000
DTEND;TZID=UTC:20240704T190000
DTSTAMP:20260425T190725
CREATED:20230713T081821Z
LAST-MODIFIED:20230713T081821Z
UID:13733-1720119600-1720119600@www.adetca.cat
SUMMARY:What the foc?!
DESCRIPTION:Bernat Fornells Bfornells@tnc.cat
URL:https://www.adetca.cat/agenda-event/what-the-foc/
CATEGORIES:EST
END:VEVENT
BEGIN:VEVENT
DTSTART;TZID=UTC:20240704T120000
DTEND;TZID=UTC:20240704T120000
DTSTAMP:20260425T190725
CREATED:20230524T073331Z
LAST-MODIFIED:20230524T073331Z
UID:13314-1720094400-1720094400@www.adetca.cat
SUMMARY:Sacre
DESCRIPTION:Joana Lladó joana.llado@liceubarcelona.cat
URL:https://www.adetca.cat/agenda-event/sacre/
CATEGORIES:RDP
END:VEVENT
BEGIN:VEVENT
DTSTART;TZID=UTC:20240703T200000
DTEND;TZID=UTC:20240703T200000
DTSTAMP:20260425T190725
CREATED:20240411T134142Z
LAST-MODIFIED:20240411T134142Z
UID:15986-1720036800-1720036800@www.adetca.cat
SUMMARY:Poncia
DESCRIPTION:Xavi Lleyda xlleyda@focus.catgoya
URL:https://www.adetca.cat/agenda-event/poncia-3/
CATEGORIES:EST
END:VEVENT
BEGIN:VEVENT
DTSTART;TZID=UTC:20240703T103000
DTEND;TZID=UTC:20240703T103000
DTSTAMP:20260425T190725
CREATED:20240523T110856Z
LAST-MODIFIED:20240523T110856Z
UID:16251-1720002600-1720002600@www.adetca.cat
SUMMARY:Festival Deltebre Dansa
DESCRIPTION:Sandra Costa sandra@lacosta.cat
URL:https://www.adetca.cat/agenda-event/festival-deltebre-dansa/
CATEGORIES:RDP
END:VEVENT
BEGIN:VEVENT
DTSTART;TZID=UTC:20240702T200000
DTEND;TZID=UTC:20240702T200000
DTSTAMP:20260425T190725
CREATED:20240619T102741Z
LAST-MODIFIED:20240619T103029Z
UID:16728-1719950400-1719950400@www.adetca.cat
SUMMARY:#Youchargeme del Ballet de Barcelona. Cicle #EnDansa.
DESCRIPTION:Rafaela Rivas premsa@salaversusglories.cat
URL:https://www.adetca.cat/agenda-event/youchargeme-del-ballet-de-barcelona-cicle-endansa/
CATEGORIES:EST
END:VEVENT
BEGIN:VEVENT
DTSTART;TZID=UTC:20240702T120000
DTEND;TZID=UTC:20240702T120000
DTSTAMP:20260425T190725
CREATED:20240220T104322Z
LAST-MODIFIED:20240626T070829Z
UID:15589-1719921600-1719921600@www.adetca.cat
SUMMARY:Presentació 27ena Fira Mediterrània de Manresa
DESCRIPTION:Eduard Sant esant@culturae.es \nNúria Llorach nllorach@culturae.es
URL:https://www.adetca.cat/agenda-event/presentacio-27ena-fira-mediterrania-de-manresa/
CATEGORIES:RDP
END:VEVENT
BEGIN:VEVENT
DTSTART;TZID=UTC:20240701T120000
DTEND;TZID=UTC:20240701T120000
DTSTAMP:20260425T190725
CREATED:20230524T073545Z
LAST-MODIFIED:20240620T083804Z
UID:13316-1719835200-1719835200@www.adetca.cat
SUMMARY:Òh!pera
DESCRIPTION:Joana Lladó joana.llado@liceubarcelona.cat
URL:https://www.adetca.cat/agenda-event/ohpera-5/
CATEGORIES:RDP
END:VEVENT
BEGIN:VEVENT
DTSTART;TZID=UTC:20240628T200000
DTEND;TZID=UTC:20240628T200000
DTSTAMP:20260425T190725
CREATED:20240425T113514Z
LAST-MODIFIED:20240425T113514Z
UID:16042-1719604800-1719604800@www.adetca.cat
SUMMARY:Malamort
DESCRIPTION:Laura Farrés laurafarres@salabeckett.cat
URL:https://www.adetca.cat/agenda-event/malamort/
CATEGORIES:EST
END:VEVENT
BEGIN:VEVENT
DTSTART;TZID=UTC:20240628T200000
DTEND;TZID=UTC:20240628T200000
DTSTAMP:20260425T190725
CREATED:20240411T135459Z
LAST-MODIFIED:20240411T135459Z
UID:15997-1719604800-1719604800@www.adetca.cat
SUMMARY:Macho grita
DESCRIPTION:Xavi Lleyda xlleyda@focus.cat
URL:https://www.adetca.cat/agenda-event/macho-grita/
CATEGORIES:EST
END:VEVENT
BEGIN:VEVENT
DTSTART;TZID=UTC:20240628T110000
DTEND;TZID=UTC:20240628T110000
DTSTAMP:20260425T190725
CREATED:20240513T114514Z
LAST-MODIFIED:20240513T114514Z
UID:16185-1719572400-1719572400@www.adetca.cat
SUMMARY:Grec 2024 - Circ / Familiar
DESCRIPTION:Neus Masferrer dispers@hotmail.com
URL:https://www.adetca.cat/agenda-event/grec-2024-circ-familiar/
CATEGORIES:RDP
END:VEVENT
BEGIN:VEVENT
DTSTART;TZID=UTC:20240627T200000
DTEND;TZID=UTC:20240627T200000
DTSTAMP:20260425T190725
CREATED:20240605T123811Z
LAST-MODIFIED:20240618T095056Z
UID:16451-1719518400-1719518400@www.adetca.cat
SUMMARY:La Tardor no arriba mai
DESCRIPTION:Jordi Araz contractacio@aquitaniateatre.es
URL:https://www.adetca.cat/agenda-event/la-tardor-no-arriba-mai-3/
CATEGORIES:EST
END:VEVENT
END:VCALENDAR