BEGIN:VCALENDAR
VERSION:2.0
PRODID:-//ADETCA - ECPv6.15.20//NONSGML v1.0//EN
CALSCALE:GREGORIAN
METHOD:PUBLISH
X-WR-CALNAME:ADETCA
X-ORIGINAL-URL:https://www.adetca.cat
X-WR-CALDESC:Esdeveniments per ADETCA
REFRESH-INTERVAL;VALUE=DURATION:PT1H
X-Robots-Tag:noindex
X-PUBLISHED-TTL:PT1H
BEGIN:VTIMEZONE
TZID:UTC
BEGIN:STANDARD
TZOFFSETFROM:+0000
TZOFFSETTO:+0000
TZNAME:UTC
DTSTART:20230101T000000
END:STANDARD
END:VTIMEZONE
BEGIN:VEVENT
DTSTART;TZID=UTC:20240610T120000
DTEND;TZID=UTC:20240610T120000
DTSTAMP:20260426T020014
CREATED:20230524T073152Z
LAST-MODIFIED:20230524T073152Z
UID:13310-1718020800-1718020800@www.adetca.cat
SUMMARY:Adriana
DESCRIPTION:Joana Lladó joana.llado@liceubarcelona.cat
URL:https://www.adetca.cat/agenda-event/adriana/
CATEGORIES:RDP
END:VEVENT
BEGIN:VEVENT
DTSTART;TZID=UTC:20240608T190000
DTEND;TZID=UTC:20240608T190000
DTSTAMP:20260426T020014
CREATED:20230713T091050Z
LAST-MODIFIED:20230713T091050Z
UID:13751-1717873200-1717873200@www.adetca.cat
SUMMARY:TDDAY
DESCRIPTION:Bernat Fornells Bfornells@tnc.cat
URL:https://www.adetca.cat/agenda-event/tdday/
CATEGORIES:EST
END:VEVENT
BEGIN:VEVENT
DTSTART;TZID=UTC:20240607T180000
DTEND;TZID=UTC:20240607T180000
DTSTAMP:20260426T020014
CREATED:20240426T133340Z
LAST-MODIFIED:20240426T133340Z
UID:16061-1717783200-1717783200@www.adetca.cat
SUMMARY:Patufet
DESCRIPTION:David Muntané coordinacio@lapuntual.info
URL:https://www.adetca.cat/agenda-event/patufet/
CATEGORIES:EST
END:VEVENT
BEGIN:VEVENT
DTSTART;TZID=UTC:20240607T103000
DTEND;TZID=UTC:20240607T103000
DTSTAMP:20260426T020014
CREATED:20240506T125634Z
LAST-MODIFIED:20240606T085508Z
UID:16117-1717756200-1717756200@www.adetca.cat
SUMMARY:Terres
DESCRIPTION:Núria Olivé nuria@latremenda.coop
URL:https://www.adetca.cat/agenda-event/terres-2/
CATEGORIES:RDP
END:VEVENT
BEGIN:VEVENT
DTSTART;TZID=UTC:20240606T200000
DTEND;TZID=UTC:20240606T200000
DTSTAMP:20260426T020014
CREATED:20240313T161504Z
LAST-MODIFIED:20240313T161504Z
UID:15804-1717704000-1717704000@www.adetca.cat
SUMMARY:Manual para armar un sueño
DESCRIPTION:Xavi Lleyda xlleyda@focus.cat
URL:https://www.adetca.cat/agenda-event/manual-para-armar-un-sueno-2/
CATEGORIES:EST
END:VEVENT
BEGIN:VEVENT
DTSTART;TZID=UTC:20240606T200000
DTEND;TZID=UTC:20240606T200000
DTSTAMP:20260426T020014
CREATED:20231227T110500Z
LAST-MODIFIED:20231227T110500Z
UID:15176-1717704000-1717704000@www.adetca.cat
SUMMARY:El cop desert
DESCRIPTION:Anna Casasayas  acasasayas@fundaciojoanbrossa.cat
URL:https://www.adetca.cat/agenda-event/el-cop-desert/
CATEGORIES:EST
END:VEVENT
BEGIN:VEVENT
DTSTART;TZID=UTC:20240606T110000
DTEND;TZID=UTC:20240606T110000
DTSTAMP:20260426T020014
CREATED:20240524T112922Z
LAST-MODIFIED:20240529T073353Z
UID:16261-1717671600-1717671600@www.adetca.cat
SUMMARY:Ruta Pirineu del Petit Circ Cric 2024
DESCRIPTION:Laura Rigal laura.rigal@weareboth.com
URL:https://www.adetca.cat/agenda-event/gira-transpirenaica-del-petit-circ-cric/
CATEGORIES:RDP
END:VEVENT
BEGIN:VEVENT
DTSTART;TZID=UTC:20240605T190000
DTEND;TZID=UTC:20240605T190000
DTSTAMP:20260426T020014
CREATED:20230713T074012Z
LAST-MODIFIED:20230713T074012Z
UID:13708-1717614000-1717614000@www.adetca.cat
SUMMARY:S 62°58’\, W 60°39’
DESCRIPTION:Bernat Fornells Bfornells@tnc.cat
URL:https://www.adetca.cat/agenda-event/s-6258-w-6039/
CATEGORIES:EST
END:VEVENT
BEGIN:VEVENT
DTSTART;TZID=UTC:20240604T120000
DTEND;TZID=UTC:20240604T120000
DTSTAMP:20260426T020014
CREATED:20240313T161341Z
LAST-MODIFIED:20240313T161341Z
UID:15802-1717502400-1717502400@www.adetca.cat
SUMMARY:Manual para armar un sueño
DESCRIPTION:Xavi Lleyda xlleyda@focus.cat
URL:https://www.adetca.cat/agenda-event/manual-para-armar-un-sueno/
CATEGORIES:RDP
END:VEVENT
BEGIN:VEVENT
DTSTART;TZID=UTC:20240604T103000
DTEND;TZID=UTC:20240604T103000
DTSTAMP:20260426T020014
CREATED:20230720T085435Z
LAST-MODIFIED:20230720T085435Z
UID:13996-1717497000-1717497000@www.adetca.cat
SUMMARY:S 62°58’\, W 60°39’
DESCRIPTION:Esther Vendrell evendrell@tnc.cat
URL:https://www.adetca.cat/agenda-event/s-6258-w-6039-2/
CATEGORIES:RDP
END:VEVENT
BEGIN:VEVENT
DTSTART;TZID=UTC:20240603T110000
DTEND;TZID=UTC:20240603T110000
DTSTAMP:20260426T020014
CREATED:20240513T062926Z
LAST-MODIFIED:20240513T062926Z
UID:16154-1717412400-1717412400@www.adetca.cat
SUMMARY:Presentació Projecte i Temporada 2024-25
DESCRIPTION:Marc Gall mgall@comedianet.com \nPaula Pairo ppairocortada@gmail.com
URL:https://www.adetca.cat/agenda-event/presentacio-projecte-i-temporada-2024-25-2/
CATEGORIES:RDP
END:VEVENT
BEGIN:VEVENT
DTSTART;TZID=UTC:20240531T180000
DTEND;TZID=UTC:20240531T180000
DTSTAMP:20260426T020014
CREATED:20240426T115800Z
LAST-MODIFIED:20240426T131009Z
UID:16058-1717178400-1717178400@www.adetca.cat
SUMMARY:Una història senzilla
DESCRIPTION:David Muntané coordinacio@lapuntual.info
URL:https://www.adetca.cat/agenda-event/una-historia-senzilla/
CATEGORIES:EST
END:VEVENT
BEGIN:VEVENT
DTSTART;TZID=UTC:20240530T200000
DTEND;TZID=UTC:20240530T200000
DTSTAMP:20260426T020014
CREATED:20240429T134210Z
LAST-MODIFIED:20240429T134210Z
UID:16079-1717099200-1717099200@www.adetca.cat
SUMMARY:Tot en ordre
DESCRIPTION:Ana Candela premsa@tantarantana.com
URL:https://www.adetca.cat/agenda-event/tot-en-ordre/
CATEGORIES:EST
END:VEVENT
BEGIN:VEVENT
DTSTART;TZID=UTC:20240529T140000
DTEND;TZID=UTC:20240529T140000
DTSTAMP:20260426T020014
CREATED:20240516T145047Z
LAST-MODIFIED:20240516T151154Z
UID:16198-1716991200-1716991200@www.adetca.cat
SUMMARY:Dinar de premsa Presentació Cicle Perifèria Cultural
DESCRIPTION:Cris Ramos   cramos@ohlalacomunicacio.com
URL:https://www.adetca.cat/agenda-event/dinar-de-premsa-presentacio-cicle-periferia-cultural/
CATEGORIES:RDP
END:VEVENT
BEGIN:VEVENT
DTSTART;TZID=UTC:20240529T110000
DTEND;TZID=UTC:20240529T110000
DTSTAMP:20260426T020014
CREATED:20230720T085316Z
LAST-MODIFIED:20240507T104414Z
UID:13994-1716980400-1716980400@www.adetca.cat
SUMMARY:RDP Institucional
DESCRIPTION:Esther Vendrell evendrell@tnc.cat
URL:https://www.adetca.cat/agenda-event/rdp-institucional/
CATEGORIES:RDP
END:VEVENT
BEGIN:VEVENT
DTSTART;TZID=UTC:20240528T120000
DTEND;TZID=UTC:20240528T120000
DTSTAMP:20260426T020014
CREATED:20230711T145636Z
LAST-MODIFIED:20240503T121736Z
UID:13684-1716897600-1716897600@www.adetca.cat
SUMMARY:Retrat de l'artista mort
DESCRIPTION:Mar Solà msola@teatrelliure.com
URL:https://www.adetca.cat/agenda-event/retrat-de-lartista-mort/
CATEGORIES:RDP
END:VEVENT
BEGIN:VEVENT
DTSTART;TZID=UTC:20240524T193000
DTEND;TZID=UTC:20240524T193000
DTSTAMP:20260426T020014
CREATED:20240311T134637Z
LAST-MODIFIED:20240311T134637Z
UID:15781-1716579000-1716579000@www.adetca.cat
SUMMARY:Qui estigui lliure
DESCRIPTION:Laura Farrés premsa@salabeckett.cat
URL:https://www.adetca.cat/agenda-event/qui-estigui-lliure-3/
CATEGORIES:EST
END:VEVENT
BEGIN:VEVENT
DTSTART;TZID=UTC:20240524T100000
DTEND;TZID=UTC:20240524T100000
DTSTAMP:20260426T020014
CREATED:20240515T125934Z
LAST-MODIFIED:20240515T134029Z
UID:16195-1716544800-1716544800@www.adetca.cat
SUMMARY:Presentció FASTT
DESCRIPTION:Paula Pairó ppairocortada@gmail.com
URL:https://www.adetca.cat/agenda-event/presentcio-fastt/
CATEGORIES:RDP
END:VEVENT
BEGIN:VEVENT
DTSTART;TZID=UTC:20240523T210000
DTEND;TZID=UTC:20240523T210000
DTSTAMP:20260426T020014
CREATED:20240507T071307Z
LAST-MODIFIED:20240507T071307Z
UID:16120-1716498000-1716498000@www.adetca.cat
SUMMARY:SOLO
DESCRIPTION:Daniel Mejias daniel@danielmejias.com
URL:https://www.adetca.cat/agenda-event/solo-2/
CATEGORIES:EST
END:VEVENT
BEGIN:VEVENT
DTSTART;TZID=UTC:20240523T200000
DTEND;TZID=UTC:20240523T200000
DTSTAMP:20260426T020014
CREATED:20231227T110400Z
LAST-MODIFIED:20231227T110400Z
UID:15174-1716494400-1716494400@www.adetca.cat
SUMMARY:Èxit through the gift shop
DESCRIPTION:Anna Casasayas  acasasayas@fundaciojoanbrossa.cat
URL:https://www.adetca.cat/agenda-event/exit-through-the-gift-shop/
CATEGORIES:EST
END:VEVENT
BEGIN:VEVENT
DTSTART;TZID=UTC:20240523T120000
DTEND;TZID=UTC:20240523T120000
DTSTAMP:20260426T020014
CREATED:20230524T072806Z
LAST-MODIFIED:20230524T072806Z
UID:13306-1716465600-1716465600@www.adetca.cat
SUMMARY:Fidelio
DESCRIPTION:Joana Lladó joana.llado@liceubarcelona.cat
URL:https://www.adetca.cat/agenda-event/fidelio/
CATEGORIES:RDP
END:VEVENT
BEGIN:VEVENT
DTSTART;TZID=UTC:20240522T120000
DTEND;TZID=UTC:20240522T120000
DTSTAMP:20260426T020014
CREATED:20240510T065619Z
LAST-MODIFIED:20240510T065619Z
UID:16145-1716379200-1716379200@www.adetca.cat
SUMMARY:Festival Itinera
DESCRIPTION:Cris Ramos  cramos@ohlalacomunicacio.com
URL:https://www.adetca.cat/agenda-event/festival-itinera-2/
CATEGORIES:RDP
END:VEVENT
BEGIN:VEVENT
DTSTART;TZID=UTC:20240522T110000
DTEND;TZID=UTC:20240522T110000
DTSTAMP:20260426T020014
CREATED:20240514T102212Z
LAST-MODIFIED:20240514T103759Z
UID:16190-1716375600-1716375600@www.adetca.cat
SUMMARY:44ena edició Festival de Torroella de Montgrí
DESCRIPTION:Laura Rigal laura.rigal@weareboth.com
URL:https://www.adetca.cat/agenda-event/44ena-edicio-festival-de-torroella-de-montgri/
CATEGORIES:RDP
END:VEVENT
BEGIN:VEVENT
DTSTART;TZID=UTC:20240522T110000
DTEND;TZID=UTC:20240522T110000
DTSTAMP:20260426T020014
CREATED:20240506T080038Z
LAST-MODIFIED:20240506T081121Z
UID:16111-1716375600-1716375600@www.adetca.cat
SUMMARY:Vero Cendoya
DESCRIPTION:Mercè ros mros@mercatflors.cat
URL:https://www.adetca.cat/agenda-event/vero-cendoya/
CATEGORIES:RDP
END:VEVENT
BEGIN:VEVENT
DTSTART;TZID=UTC:20240520T203000
DTEND;TZID=UTC:20240520T203000
DTSTAMP:20260426T020014
CREATED:20240429T133839Z
LAST-MODIFIED:20240429T133839Z
UID:16075-1716237000-1716237000@www.adetca.cat
SUMMARY:Assajar és de covards
DESCRIPTION:Ana Candela premsa@tantarantana.com
URL:https://www.adetca.cat/agenda-event/assajar-es-de-covards-10/
CATEGORIES:EST
END:VEVENT
BEGIN:VEVENT
DTSTART;TZID=UTC:20240517T190000
DTEND;TZID=UTC:20240517T190000
DTSTAMP:20260426T020014
CREATED:20240226T103408Z
LAST-MODIFIED:20240226T103408Z
UID:15679-1715972400-1715972400@www.adetca.cat
SUMMARY:Acte obert al públic de Presentació del Dansàneu
DESCRIPTION:Dàlia Rajmil dalia@wearecosmica.com
URL:https://www.adetca.cat/agenda-event/acte-obert-al-public-de-presentacio-del-dansaneu/
CATEGORIES:RDP
END:VEVENT
BEGIN:VEVENT
DTSTART;TZID=UTC:20240517T180000
DTEND;TZID=UTC:20240517T180000
DTSTAMP:20260426T020014
CREATED:20240426T115647Z
LAST-MODIFIED:20240426T115647Z
UID:16056-1715968800-1715968800@www.adetca.cat
SUMMARY:El Concert dels tres porquets
DESCRIPTION:David Muntané coordinacio@lapuntual.info
URL:https://www.adetca.cat/agenda-event/el-concert-dels-tres-porquets-2/
CATEGORIES:EST
END:VEVENT
BEGIN:VEVENT
DTSTART;TZID=UTC:20240517T120000
DTEND;TZID=UTC:20240517T120000
DTSTAMP:20260426T020014
CREATED:20230524T072859Z
LAST-MODIFIED:20230524T072859Z
UID:13308-1715947200-1715947200@www.adetca.cat
SUMMARY:Torre somnis
DESCRIPTION:Joana Lladó joana.llado@liceubarcelona.cat
URL:https://www.adetca.cat/agenda-event/torre-somnis/
CATEGORIES:RDP
END:VEVENT
BEGIN:VEVENT
DTSTART;TZID=UTC:20240516T190000
DTEND;TZID=UTC:20240516T190000
DTSTAMP:20260426T020014
CREATED:20230713T090830Z
LAST-MODIFIED:20230713T090830Z
UID:13749-1715886000-1715886000@www.adetca.cat
SUMMARY:Baby no more
DESCRIPTION:Bernat Fornells Bfornells@tnc.cat
URL:https://www.adetca.cat/agenda-event/baby-no-more/
CATEGORIES:EST
END:VEVENT
BEGIN:VEVENT
DTSTART;TZID=UTC:20240516T110000
DTEND;TZID=UTC:20240516T110000
DTSTAMP:20260426T020014
CREATED:20240226T103235Z
LAST-MODIFIED:20240226T103235Z
UID:15676-1715857200-1715857200@www.adetca.cat
SUMMARY:Presentació Dansàneu
DESCRIPTION:Dàlia Rajmil dalia@wearecosmica.com
URL:https://www.adetca.cat/agenda-event/presentacio-dansaneu/
CATEGORIES:RDP
END:VEVENT
END:VCALENDAR